PDS_VERSION_ID = PDS3
/* FILE DATA ELEMENTS */
RECORD_TYPE = UNDEFINED
/* POINTERS TO DATA OBJECTS */
^IMAGE = ("H3795_0000_IR4.TIF")
/* IDENTIFICATION DATA ELEMENTS */
DATA_SET_ID = "MEX-M-HRSC-4-REFDR-MAPPROJECT-EXT1-V4.0"
DATA_SET_NAME = "MARS EXPRESS HRSC MAP PROJECTED REFDR EXTENSION1 V4.0"
DETECTOR_ID = MEX_HRSC_IR
EVENT_TYPE = "MARS-REGIONAL-MAPPING-Gl-Pf-La"
INSTRUMENT_HOST_ID = MEX
INSTRUMENT_HOST_NAME = "MARS EXPRESS"
INSTRUMENT_ID = HRSC
INSTRUMENT_NAME = "HIGH RESOLUTION STEREO CAMERA"
MISSION_NAME = "MARS EXPRESS"
MISSION_PHASE_NAME = ME_Phase_6
PROCESSING_LEVEL_ID = 4
PRODUCT_CREATION_TIME = 2023-02-09T17:15:12.000Z
PRODUCT_ID = "H3795_0000_IR4.TIF"
RELEASE_ID = 0004
REVISION_ID = 0000
/* QUALITY DATA ELEMENTS */
DATA_QUALITY_ID = 1
DATA_QUALITY_DESC = "Data calculated based on original SPICE kernels"
/* TIME DATA ELEMENTS */
SPACECRAFT_CLOCK_START_COUNT = "1/0114770466.09054"
SPACECRAFT_CLOCK_STOP_COUNT = "1/0114770959.45989"
START_TIME = 2006-12-21T08:43:23.560Z
STOP_TIME = 2006-12-21T08:48:49.229Z
/* ORBITAL DATA ELEMENTS */
ASCENDING_NODE_LONGITUDE = 148.75
MAXIMUM_RESOLUTION = 0.0629
FOOTPRINT_POINT_LATITUDE = (85.3887,85.9831,86.2799,86.7492, 87.1436,87.6113,87.9062,87.9308,87.9593 ,88.0323,87.9536,87.8209,87.4855,87.232 ,86.747,86.2091,85.8693,85.513,84.9066, 84.5315,84.0151,83.6179,83.3515,83.0819 ,82.811,82.5377,82.262,81.9844,81.7051, 81.4236,81.1401,80.8542,80.5666,80.2771 ,79.9855,79.5498,79.2517,78.9531, 78.6525,78.3498,78.0451,77.7383,77.4291 ,77.1181,76.6481,76.4903,76.3975, 76.3679,76.3348,76.2955,76.2497,76.1978 ,76.1396,76.0754,75.9868,75.8474, 75.7134,75.6043,75.5917,75.5881,75.8871 ,76.1832,76.4773,76.7684,77.0572, 77.3436,77.6272,77.9085,78.1871,78.4629 ,78.736,79.0063,79.2737,79.538,79.7991, 80.0569,80.3114,80.5627,80.8106,81.0552 ,81.296,81.5332,81.7661,81.9942,82.2181 ,82.4374,82.8593,83.1616,83.6356, 83.9847,84.302,84.6495,84.9342,85.1116, 85.213,85.3039,85.3379,85.3424,85.3375, 85.3887)
FOOTPRINT_POINT_LONGITUDE = (254.428,253.868,253.511,252.795, 251.988,250.656,249.488,249.376,245.908 ,259.754,277.35,286.849,299.905,306.094 ,314.166,320.122,322.958,325.379, 328.682,330.323,332.202,333.418,334.154 ,334.836,335.472,336.065,336.618, 337.136,337.622,338.08,338.51,338.916, 339.3,339.662,340.006,340.497,340.797, 341.084,341.358,341.619,341.868,342.106 ,342.333,342.551,342.861,342.961, 343.018,341.521,340.193,338.873,337.563 ,336.262,334.971,333.69,332.105,329.917 ,328.074,326.711,326.561,326.506, 326.127,325.735,325.325,324.898,324.452 ,323.987,323.501,322.993,322.462, 321.906,321.325,320.716,320.078,319.411 ,318.712,317.979,317.21,316.402,315.552 ,314.656,313.713,312.717,311.672, 310.573,309.414,308.19,305.562,303.391, 299.36,295.716,291.689,286.07,279.838, 274.436,270.168,264.294,259.814,255.32, 253.838,254.428)
ORBIT_NUMBER = 3795
ORBITAL_ECCENTRICITY = 0.565
ORBITAL_INCLINATION = 86.67
ORBITAL_SEMIMAJOR_AXIS = 8565.72
PERIAPSIS_ALTITUDE = 337.6
PERIAPSIS_ARGUMENT_ANGLE = 50.12
PERIAPSIS_TIME = 2006-12-21T08:31:37.000Z
SPACECRAFT_ORIENTATION = (0.0,1.0,0.0)
^MEX_ORIENTATION_DESC = "MEX_ORIENTATION_DESC.TXT"
SPACECRAFT_POINTING_MODE = NADIR
^MEX_POINTING_DESC = "MEX_POINTING_DESC.TXT"
RIGHT_ASCENSION = -1e+32
DECLINATION = -1e+32
OFFSET_ANGLE = -1e+32
SPACECRAFT_SOLAR_DISTANCE = 2.28644e+08
TARGET_NAME = MARS
/* CAMERA DATA ELEMENTS */
DETECTOR_TEMPERATURE = 17.5549
FOCAL_PLANE_TEMPERATURE = 8.3794
INST_CMPRS_NAME = "DISCRETE COSINE TRANSFORMATION (DCT)"
INST_CMPRS_RATIO = 8.54468
INST_CMPRS_QUALITY = 0
INST_CMPRS_QUANTZ_TBL_ID = 0
INSTRUMENT_TEMPERATURE = 11.234
LENS_TEMPERATURE = 8.7872
MACROPIXEL_SIZE = 2
MISSING_FRAMES = 0
PIXEL_SUBSAMPLING_FLAG = N
SIGNAL_CHAIN_ID = 3
/* RADIOMETRIC DATA ELEMENTS */
BANDWIDTH = 81.0
CENTER_FILTER_WAVELENGTH = 955.5
RADIANCE_OFFSET = 0.342037
RADIANCE_SCALING_FACTOR = 0.00288241
REFLECTANCE_SCALING_FACTOR = 0.000325088
MEX:REFLECTANCE_OFFSET = 0.038576
/* IMAGE OBJECT DEFINITIONS */
OBJECT = IMAGE
  INTERCHANGE_FORMAT = BINARY
  LINES = 14558
  LINE_SAMPLES = 12314
  SAMPLE_TYPE = UNSIGNED_INTEGER
  SAMPLE_BITS = 8
  BANDS = 1
  BAND_STORAGE_TYPE = BAND_SEQUENTIAL
  MAXIMUM = 255
  MEAN = 101.879
  MINIMUM = 1
  STANDARD_DEVIATION = 47.9003
END_OBJECT = IMAGE
/* MAP OBJECT DEFINITIONS */
OBJECT = IMAGE_MAP_PROJECTION
  ^DATA_SET_MAP_PROJECTION_CATALOG= "DSMAP.CAT"
  A_AXIS_RADIUS = 3396.0
  B_AXIS_RADIUS = 3396.0
  C_AXIS_RADIUS = 3396.0
  CENTER_LATITUDE = 0.0
  CENTER_LONGITUDE = 320.0
  COORDINATE_SYSTEM_NAME = PLANETOGRAPHIC
  COORDINATE_SYSTEM_TYPE = "BODY-FIXED ROTATING"
  EASTERNMOST_LONGITUDE = 343.018
  FIRST_STANDARD_PARALLEL = "N/A"
  LINE_FIRST_PIXEL = 1
  LINE_LAST_PIXEL = 14558
  LINE_PROJECTION_OFFSET = 104177.75
  MAP_PROJECTION_ROTATION = 0.0
  MAP_PROJECTION_TYPE = SINUSOIDAL
  MAP_RESOLUTION = 1185.42760773333
  MAP_SCALE = 0.05
  MAXIMUM_LATITUDE = 88.03230000000001
  MINIMUM_LATITUDE = 75.5881
  POSITIVE_LONGITUDE_DIRECTION = EAST
  REFERENCE_LATITUDE = "N/A"
  REFERENCE_LONGITUDE = "N/A"
  SAMPLE_FIRST_PIXEL = 1
  SAMPLE_LAST_PIXEL = 12314
  SAMPLE_PROJECTION_OFFSET = 6291.25
  SECOND_STANDARD_PARALLEL = "N/A"
  WESTERNMOST_LONGITUDE = 245.908
END_OBJECT = IMAGE_MAP_PROJECTION
END
