PDS_VERSION_ID = PDS3
/* FILE DATA ELEMENTS */
RECORD_TYPE = UNDEFINED
/* POINTERS TO DATA OBJECTS */
^IMAGE = ("H4072_0000_BL4.TIF")
/* IDENTIFICATION DATA ELEMENTS */
DATA_SET_ID = "MEX-M-HRSC-4-REFDR-MAPPROJECT-EXT1-V4.0"
DATA_SET_NAME = "MARS EXPRESS HRSC MAP PROJECTED REFDR EXTENSION1 V4.0"
DETECTOR_ID = MEX_HRSC_BLUE
EVENT_TYPE = "MARS-REGIONAL-MAPPING-Te-Im-Fl"
INSTRUMENT_HOST_ID = MEX
INSTRUMENT_HOST_NAME = "MARS EXPRESS"
INSTRUMENT_ID = HRSC
INSTRUMENT_NAME = "HIGH RESOLUTION STEREO CAMERA"
MISSION_NAME = "MARS EXPRESS"
MISSION_PHASE_NAME = ME_Phase_7
PROCESSING_LEVEL_ID = 4
PRODUCT_CREATION_TIME = 2023-02-09T23:17:53.000Z
PRODUCT_ID = "H4072_0000_BL4.TIF"
RELEASE_ID = 0005
REVISION_ID = 0000
/* QUALITY DATA ELEMENTS */
DATA_QUALITY_ID = 1
DATA_QUALITY_DESC = "Data calculated based on original SPICE kernels"
/* TIME DATA ELEMENTS */
SPACECRAFT_CLOCK_START_COUNT = "1/0121469474.09083"
SPACECRAFT_CLOCK_STOP_COUNT = "1/0121469780.50017"
START_TIME = 2007-03-08T21:32:20.816Z
STOP_TIME = 2007-03-08T21:35:34.548Z
/* ORBITAL DATA ELEMENTS */
ASCENDING_NODE_LONGITUDE = 142.99
MAXIMUM_RESOLUTION = 0.1484
FOOTPRINT_POINT_LATITUDE = (-36.4932,-36.4923,-36.4906,-36.4881, -36.4832,-36.4771,-36.4696,-36.4624, -36.4618,-36.45,-36.2033,-35.9576, -35.5899,-35.3458,-35.1048,-34.7434, -34.505,-34.2669,-33.9144,-33.6788, -33.3309,-33.099,-32.7556,-32.5265, -32.3006,-32.0744,-31.7385,-31.5154, -31.2927,-31.0733,-30.8536,-30.6326, -30.4163,-30.2012,-29.9856,-29.7725, -29.5589,-29.3461,-29.1365,-28.9264, -28.612,-28.4056,-28.1985,-27.8889, -27.482,-27.0775,-26.6773,-26.0835, -25.4972,-25.4007,-25.3435,-25.3462, -25.3488,-25.3508,-25.3513,-25.351, -25.3509,-25.3532,-25.6429,-26.1342, -26.4296,-26.8288,-27.2302,-27.5359, -27.7397,-27.9433,-28.2541,-28.4614, -28.668,-28.8784,-29.1941,-29.4049, -29.619,-29.8328,-30.0461,-30.2632, -30.48,-30.6969,-30.9172,-31.1375, -31.4695,-31.6931,-31.9163,-32.2556, -32.4822,-32.826,-33.0555,-33.4037, -33.6364,-33.9893,-34.225,-34.5826, -34.8215,-35.0633,-35.4258,-35.6708, -36.04,-36.2879,-36.412,-36.4932)
FOOTPRINT_POINT_LONGITUDE = (315.81,315.335,315.035,314.734,314.31, 313.91,313.51,313.184,313.159,313.131, 313.15,313.171,313.195,313.212,313.228, 313.25,313.265,313.281,313.303,313.316, 313.337,313.351,313.371,313.383,313.395 ,313.408,313.426,313.437,313.449,313.46 ,313.471,313.479,313.489,313.503, 313.513,313.523,313.533,313.544,313.553 ,313.563,313.576,313.585,313.593, 313.605,313.621,313.637,313.652,313.674 ,313.695,313.699,313.701,313.964, 314.296,314.744,315.158,315.44,315.457, 315.468,315.476,315.491,315.498,315.511 ,315.521,315.529,315.535,315.541,315.55 ,315.555,315.562,315.567,315.577, 315.583,315.59,315.596,315.603,315.61, 315.617,315.623,315.631,315.638,315.648 ,315.656,315.663,315.674,315.681, 315.692,315.7,315.712,315.72,315.732, 315.741,315.753,315.762,315.77,315.786, 315.795,315.809,315.818,315.822,315.81)
ORBIT_NUMBER = 4072
ORBITAL_ECCENTRICITY = 0.57
ORBITAL_INCLINATION = 86.68
ORBITAL_SEMIMAJOR_AXIS = 8621.37
PERIAPSIS_ALTITUDE = 309.68
PERIAPSIS_ARGUMENT_ANGLE = 0.93
PERIAPSIS_TIME = 2007-03-08T21:42:33.000Z
SPACECRAFT_ORIENTATION = (0.0,1.0,0.0)
^MEX_ORIENTATION_DESC = "MEX_ORIENTATION_DESC.TXT"
SPACECRAFT_POINTING_MODE = NADIR
^MEX_POINTING_DESC = "MEX_POINTING_DESC.TXT"
RIGHT_ASCENSION = -1e+32
DECLINATION = -1e+32
OFFSET_ANGLE = -1e+32
SPACECRAFT_SOLAR_DISTANCE = 2.14267e+08
TARGET_NAME = MARS
/* CAMERA DATA ELEMENTS */
DETECTOR_TEMPERATURE = 18.3705
FOCAL_PLANE_TEMPERATURE = 8.3794
INST_CMPRS_NAME = "DISCRETE COSINE TRANSFORMATION (DCT)"
INST_CMPRS_RATIO = 25.827
INST_CMPRS_QUALITY = 0
INST_CMPRS_QUANTZ_TBL_ID = 0
INSTRUMENT_TEMPERATURE = 11.234
LENS_TEMPERATURE = 8.5833
MACROPIXEL_SIZE = 8
MISSING_FRAMES = 0
PIXEL_SUBSAMPLING_FLAG = N
SIGNAL_CHAIN_ID = 2
/* RADIOMETRIC DATA ELEMENTS */
BANDWIDTH = 76.0
CENTER_FILTER_WAVELENGTH = 444.0
RADIANCE_OFFSET = 0.321172
RADIANCE_SCALING_FACTOR = 0.000729936
REFLECTANCE_SCALING_FACTOR = 3.44314e-05
MEX:REFLECTANCE_OFFSET = 0.0151498
/* IMAGE OBJECT DEFINITIONS */
OBJECT = IMAGE
  INTERCHANGE_FORMAT = BINARY
  LINES = 6596
  LINE_SAMPLES = 1281
  SAMPLE_TYPE = UNSIGNED_INTEGER
  SAMPLE_BITS = 8
  BANDS = 1
  BAND_STORAGE_TYPE = BAND_SEQUENTIAL
  MAXIMUM = 255
  MEAN = 116.361
  MINIMUM = 1
  STANDARD_DEVIATION = 43.9763
END_OBJECT = IMAGE
/* MAP OBJECT DEFINITIONS */
OBJECT = IMAGE_MAP_PROJECTION
  ^DATA_SET_MAP_PROJECTION_CATALOG= "DSMAP.CAT"
  A_AXIS_RADIUS = 3396.0
  B_AXIS_RADIUS = 3396.0
  C_AXIS_RADIUS = 3396.0
  CENTER_LATITUDE = 0.0
  CENTER_LONGITUDE = 315.0
  COORDINATE_SYSTEM_NAME = PLANETOGRAPHIC
  COORDINATE_SYSTEM_TYPE = "BODY-FIXED ROTATING"
  EASTERNMOST_LONGITUDE = 315.822
  FIRST_STANDARD_PARALLEL = "N/A"
  LINE_FIRST_PIXEL = 1
  LINE_LAST_PIXEL = 6596
  LINE_PROJECTION_OFFSET = -15025.9375
  MAP_PROJECTION_ROTATION = 0.0
  MAP_PROJECTION_TYPE = SINUSOIDAL
  MAP_RESOLUTION = 592.713803866667
  MAP_SCALE = 0.1
  MAXIMUM_LATITUDE = -25.3435
  MINIMUM_LATITUDE = -36.4932
  POSITIVE_LONGITUDE_DIRECTION = EAST
  REFERENCE_LATITUDE = "N/A"
  REFERENCE_LONGITUDE = "N/A"
  SAMPLE_FIRST_PIXEL = 1
  SAMPLE_LAST_PIXEL = 1281
  SAMPLE_PROJECTION_OFFSET = 896.4375
  SECOND_STANDARD_PARALLEL = "N/A"
  WESTERNMOST_LONGITUDE = 313.131
END_OBJECT = IMAGE_MAP_PROJECTION
END
