PDS_VERSION_ID = PDS3
/* FILE DATA ELEMENTS */
RECORD_TYPE = UNDEFINED
/* POINTERS TO DATA OBJECTS */
^IMAGE = ("H4072_0000_GR4.TIF")
/* IDENTIFICATION DATA ELEMENTS */
DATA_SET_ID = "MEX-M-HRSC-4-REFDR-MAPPROJECT-EXT1-V4.0"
DATA_SET_NAME = "MARS EXPRESS HRSC MAP PROJECTED REFDR EXTENSION1 V4.0"
DETECTOR_ID = MEX_HRSC_GREEN
EVENT_TYPE = "MARS-REGIONAL-MAPPING-Te-Im-Fl"
INSTRUMENT_HOST_ID = MEX
INSTRUMENT_HOST_NAME = "MARS EXPRESS"
INSTRUMENT_ID = HRSC
INSTRUMENT_NAME = "HIGH RESOLUTION STEREO CAMERA"
MISSION_NAME = "MARS EXPRESS"
MISSION_PHASE_NAME = ME_Phase_7
PROCESSING_LEVEL_ID = 4
PRODUCT_CREATION_TIME = 2023-02-09T23:17:53.000Z
PRODUCT_ID = "H4072_0000_GR4.TIF"
RELEASE_ID = 0005
REVISION_ID = 0000
/* QUALITY DATA ELEMENTS */
DATA_QUALITY_ID = 1
DATA_QUALITY_DESC = "Data calculated based on original SPICE kernels"
/* TIME DATA ELEMENTS */
SPACECRAFT_CLOCK_START_COUNT = "1/0121469474.09083"
SPACECRAFT_CLOCK_STOP_COUNT = "1/0121469780.50017"
START_TIME = 2007-03-08T21:32:42.717Z
STOP_TIME = 2007-03-08T21:35:49.357Z
/* ORBITAL DATA ELEMENTS */
ASCENDING_NODE_LONGITUDE = 142.99
MAXIMUM_RESOLUTION = 0.1449
FOOTPRINT_POINT_LATITUDE = (-36.4687,-36.4675,-36.4657,-36.4608, -36.4559,-36.4473,-36.4397,-36.4392, -36.4425,-36.1925,-35.943,-35.6974, -35.3297,-35.087,-34.8441,-34.4853, -34.2457,-34.0096,-33.7739,-33.4226, -33.1896,-32.9579,-32.7285,-32.3842, -32.1584,-31.9321,-31.7065,-31.484, -31.2612,-31.0388,-30.8196,-30.4919, -30.273,-30.0574,-29.8414,-29.5202, -29.308,-29.0954,-28.8843,-28.5717, -28.3624,-28.1545,-27.7447,-27.3357, -26.9329,-26.531,-26.1357,-25.7397, -25.4486,-25.3515,-25.3471,-25.3495, -25.3517,-25.3528,-25.3538,-25.3538, -25.3538,-25.356,-25.7448,-26.0419, -26.4383,-26.8395,-27.2423,-27.5471, -27.7528,-28.1634,-28.4762,-28.6855, -28.8941,-29.2123,-29.4249,-29.6374, -29.9608,-30.1771,-30.5033,-30.723, -31.0525,-31.2752,-31.4985,-31.7215, -31.9477,-32.1745,-32.4008,-32.6307, -32.8606,-33.0908,-33.3243,-33.6745, -34.0299,-34.2665,-34.5067,-34.8666, -35.1102,-35.3541,-35.5999,-35.8465, -36.0938,-36.3443,-36.4693,-36.4687)
FOOTPRINT_POINT_LONGITUDE = (315.765,315.377,315.063,314.531, 314.144,313.613,313.225,313.201,313.173 ,313.191,313.211,313.226,313.25,313.266 ,313.281,313.302,313.317,313.331, 313.343,313.364,313.378,313.39,313.403, 313.421,313.433,313.445,313.456,313.467 ,313.478,313.489,313.5,313.512,313.525, 313.535,313.545,313.56,313.569,313.579, 313.587,313.599,313.609,313.617,313.632 ,313.648,313.663,313.677,313.691, 313.705,313.715,313.718,313.718,314.025 ,314.382,314.642,315.015,315.421, 315.437,315.448,315.458,315.466,315.477 ,315.489,315.497,315.506,315.511, 315.522,315.53,315.536,315.542,315.55, 315.556,315.562,315.572,315.578,315.588 ,315.594,315.604,315.611,315.617, 315.624,315.631,315.638,315.645,315.652 ,315.658,315.666,315.673,315.684, 315.696,315.703,315.711,315.723,315.731 ,315.74,315.75,315.758,315.766,315.775, 315.78,315.765)
ORBIT_NUMBER = 4072
ORBITAL_ECCENTRICITY = 0.57
ORBITAL_INCLINATION = 86.68
ORBITAL_SEMIMAJOR_AXIS = 8621.37
PERIAPSIS_ALTITUDE = 309.68
PERIAPSIS_ARGUMENT_ANGLE = 0.93
PERIAPSIS_TIME = 2007-03-08T21:42:33.000Z
SPACECRAFT_ORIENTATION = (0.0,1.0,0.0)
^MEX_ORIENTATION_DESC = "MEX_ORIENTATION_DESC.TXT"
SPACECRAFT_POINTING_MODE = NADIR
^MEX_POINTING_DESC = "MEX_POINTING_DESC.TXT"
RIGHT_ASCENSION = -1e+32
DECLINATION = -1e+32
OFFSET_ANGLE = -1e+32
SPACECRAFT_SOLAR_DISTANCE = 2.14267e+08
TARGET_NAME = MARS
/* CAMERA DATA ELEMENTS */
DETECTOR_TEMPERATURE = 18.3705
FOCAL_PLANE_TEMPERATURE = 8.3794
INST_CMPRS_NAME = "DISCRETE COSINE TRANSFORMATION (DCT)"
INST_CMPRS_RATIO = 27.9636
INST_CMPRS_QUALITY = 0
INST_CMPRS_QUANTZ_TBL_ID = 0
INSTRUMENT_TEMPERATURE = 11.234
LENS_TEMPERATURE = 8.5833
MACROPIXEL_SIZE = 8
MISSING_FRAMES = 0
PIXEL_SUBSAMPLING_FLAG = N
SIGNAL_CHAIN_ID = 2
/* RADIOMETRIC DATA ELEMENTS */
BANDWIDTH = 88.0
CENTER_FILTER_WAVELENGTH = 538.0
RADIANCE_OFFSET = 0.677445
RADIANCE_SCALING_FACTOR = 0.00151808
REFLECTANCE_SCALING_FACTOR = 6.00066e-05
MEX:REFLECTANCE_OFFSET = 0.0267779
/* IMAGE OBJECT DEFINITIONS */
OBJECT = IMAGE
  INTERCHANGE_FORMAT = BINARY
  LINES = 6596
  LINE_SAMPLES = 1281
  SAMPLE_TYPE = UNSIGNED_INTEGER
  SAMPLE_BITS = 8
  BANDS = 1
  BAND_STORAGE_TYPE = BAND_SEQUENTIAL
  MAXIMUM = 255
  MEAN = 115.734
  MINIMUM = 1
  STANDARD_DEVIATION = 43.1158
END_OBJECT = IMAGE
/* MAP OBJECT DEFINITIONS */
OBJECT = IMAGE_MAP_PROJECTION
  ^DATA_SET_MAP_PROJECTION_CATALOG= "DSMAP.CAT"
  A_AXIS_RADIUS = 3396.0
  B_AXIS_RADIUS = 3396.0
  C_AXIS_RADIUS = 3396.0
  CENTER_LATITUDE = 0.0
  CENTER_LONGITUDE = 315.0
  COORDINATE_SYSTEM_NAME = PLANETOGRAPHIC
  COORDINATE_SYSTEM_TYPE = "BODY-FIXED ROTATING"
  EASTERNMOST_LONGITUDE = 315.78
  FIRST_STANDARD_PARALLEL = "N/A"
  LINE_FIRST_PIXEL = 1
  LINE_LAST_PIXEL = 6596
  LINE_PROJECTION_OFFSET = -15025.9375
  MAP_PROJECTION_ROTATION = 0.0
  MAP_PROJECTION_TYPE = SINUSOIDAL
  MAP_RESOLUTION = 592.713803866667
  MAP_SCALE = 0.1
  MAXIMUM_LATITUDE = -25.3471
  MINIMUM_LATITUDE = -36.4693
  POSITIVE_LONGITUDE_DIRECTION = EAST
  REFERENCE_LATITUDE = "N/A"
  REFERENCE_LONGITUDE = "N/A"
  SAMPLE_FIRST_PIXEL = 1
  SAMPLE_LAST_PIXEL = 1281
  SAMPLE_PROJECTION_OFFSET = 896.4375
  SECOND_STANDARD_PARALLEL = "N/A"
  WESTERNMOST_LONGITUDE = 313.173
END_OBJECT = IMAGE_MAP_PROJECTION
END
