PDS_VERSION_ID = PDS3
/* FILE DATA ELEMENTS */
RECORD_TYPE = UNDEFINED
/* POINTERS TO DATA OBJECTS */
^IMAGE = ("H4080_0000_S14.TIF")
/* IDENTIFICATION DATA ELEMENTS */
DATA_SET_ID = "MEX-M-HRSC-4-REFDR-MAPPROJECT-EXT1-V4.0"
DATA_SET_NAME = "MARS EXPRESS HRSC MAP PROJECTED REFDR EXTENSION1 V4.0"
DETECTOR_ID = MEX_HRSC_S1
EVENT_TYPE = "MARS-REGIONAL-MAPPING-Vo-Te-Im"
INSTRUMENT_HOST_ID = MEX
INSTRUMENT_HOST_NAME = "MARS EXPRESS"
INSTRUMENT_ID = HRSC
INSTRUMENT_NAME = "HIGH RESOLUTION STEREO CAMERA"
MISSION_NAME = "MARS EXPRESS"
MISSION_PHASE_NAME = ME_Phase_7
PROCESSING_LEVEL_ID = 4
PRODUCT_CREATION_TIME = 2023-02-09T23:17:53.000Z
PRODUCT_ID = "H4080_0000_S14.TIF"
RELEASE_ID = 0005
REVISION_ID = 0000
/* QUALITY DATA ELEMENTS */
DATA_QUALITY_ID = 1
DATA_QUALITY_DESC = "Data calculated based on original SPICE kernels"
/* TIME DATA ELEMENTS */
SPACECRAFT_CLOCK_START_COUNT = "1/0121662954.09071"
SPACECRAFT_CLOCK_STOP_COUNT = "1/0121663298.05992"
START_TIME = 2007-03-11T03:18:16.876Z
STOP_TIME = 2007-03-11T03:21:40.335Z
/* ORBITAL DATA ELEMENTS */
ASCENDING_NODE_LONGITUDE = 142.82
MAXIMUM_RESOLUTION = 0.0356
FOOTPRINT_POINT_LATITUDE = (-39.0513,-39.0471,-39.0432,-39.0351, -39.0297,-39.0214,-39.021,-39.0468, -38.5933,-38.2897,-37.9907,-37.5339, -37.2499,-36.9632,-36.6749,-36.3869, -36.1034,-35.6782,-35.3987,-35.1196, -34.8427,-34.5688,-34.2931,-34.0222, -33.752,-33.483,-33.2184,-32.9538, -32.5591,-32.2996,-32.0385,-31.7777, -31.5217,-31.2664,-31.0144,-30.7673, -30.5187,-30.1458,-29.9007,-29.655, -29.2878,-28.9248,-28.5679,-28.3297, -27.9774,-27.7424,-27.3916,-27.0467, -26.5862,-26.1342,-26.0216,-25.9878, -25.9901,-25.9913,-25.9929,-25.9929, -25.9934,-26.4435,-26.9023,-27.3633, -27.8322,-28.4196,-28.6601,-28.901, -29.1425,-29.3834,-29.6295,-29.8751, -30.1162,-30.3634,-30.6152,-30.8676, -31.1172,-31.3724,-31.6242,-32.0145, -32.2757,-32.5342,-32.9233,-33.3262, -33.7307,-34.0006,-34.4073,-34.6835, -34.9579,-35.2359,-35.5167,-35.8005, -36.0858,-36.3709,-36.8041,-37.0932, -37.3875,-37.6818,-37.9786,-38.2769, -38.5788,-38.8815,-39.0337,-39.0513)
FOOTPRINT_POINT_LONGITUDE = (249.562,248.959,248.557,247.88,247.503 ,247.0,246.975,246.956,246.989,247.012, 247.034,247.07,247.086,247.103,247.122, 247.14,247.158,247.184,247.201,247.217, 247.233,247.248,247.264,247.279,247.294 ,247.308,247.322,247.335,247.355, 247.368,247.38,247.394,247.406,247.418, 247.429,247.438,247.449,247.464,247.475 ,247.485,247.5,247.515,247.527,247.536, 247.549,247.557,247.57,247.581,247.597, 247.611,247.615,247.616,248.12,248.641, 249.224,249.24,249.246,249.255,249.264, 249.274,249.285,249.297,249.303,249.308 ,249.314,249.319,249.325,249.331, 249.335,249.341,249.347,249.353,249.359 ,249.365,249.37,249.381,249.388,249.394 ,249.401,249.413,249.425,249.431, 249.442,249.449,249.456,249.463,249.471 ,249.48,249.488,249.496,249.508,249.516 ,249.524,249.533,249.541,249.549, 249.559,249.567,249.572,249.562)
ORBIT_NUMBER = 4080
ORBITAL_ECCENTRICITY = 0.571
ORBITAL_INCLINATION = 86.67
ORBITAL_SEMIMAJOR_AXIS = 8639.45
PERIAPSIS_ALTITUDE = 308.41
PERIAPSIS_ARGUMENT_ANGLE = 359.48
PERIAPSIS_TIME = 2007-03-11T03:27:38.000Z
SPACECRAFT_ORIENTATION = (0.0,1.0,0.0)
^MEX_ORIENTATION_DESC = "MEX_ORIENTATION_DESC.TXT"
SPACECRAFT_POINTING_MODE = NADIR
^MEX_POINTING_DESC = "MEX_POINTING_DESC.TXT"
RIGHT_ASCENSION = -1e+32
DECLINATION = -1e+32
OFFSET_ANGLE = -1e+32
SPACECRAFT_SOLAR_DISTANCE = 2.13915e+08
TARGET_NAME = MARS
/* CAMERA DATA ELEMENTS */
DETECTOR_TEMPERATURE = 17.5549
FOCAL_PLANE_TEMPERATURE = 8.1755
INST_CMPRS_NAME = "DISCRETE COSINE TRANSFORMATION (DCT)"
INST_CMPRS_RATIO = 9.48127
INST_CMPRS_QUALITY = 0
INST_CMPRS_QUANTZ_TBL_ID = 0
INSTRUMENT_TEMPERATURE = 11.234
LENS_TEMPERATURE = 8.5833
MACROPIXEL_SIZE = 2
MISSING_FRAMES = 0
PIXEL_SUBSAMPLING_FLAG = N
SIGNAL_CHAIN_ID = 1
/* RADIOMETRIC DATA ELEMENTS */
BANDWIDTH = 180.0
CENTER_FILTER_WAVELENGTH = 677.0
RADIANCE_OFFSET = 1.57549
RADIANCE_SCALING_FACTOR = 0.0116828
REFLECTANCE_SCALING_FACTOR = 0.000278916
MEX:REFLECTANCE_OFFSET = 0.0376135
/* IMAGE OBJECT DEFINITIONS */
OBJECT = IMAGE
  INTERCHANGE_FORMAT = BINARY
  LINES = 31063
  LINE_SAMPLES = 5253
  SAMPLE_TYPE = UNSIGNED_INTEGER
  SAMPLE_BITS = 8
  BANDS = 1
  BAND_STORAGE_TYPE = BAND_SEQUENTIAL
  MAXIMUM = 255
  MEAN = 82.1154
  MINIMUM = 1
  STANDARD_DEVIATION = 26.633
END_OBJECT = IMAGE
/* MAP OBJECT DEFINITIONS */
OBJECT = IMAGE_MAP_PROJECTION
  ^DATA_SET_MAP_PROJECTION_CATALOG= "DSMAP.CAT"
  A_AXIS_RADIUS = 3396.0
  B_AXIS_RADIUS = 3396.0
  C_AXIS_RADIUS = 3396.0
  CENTER_LATITUDE = 0.0
  CENTER_LONGITUDE = 248.0
  COORDINATE_SYSTEM_NAME = PLANETOGRAPHIC
  COORDINATE_SYSTEM_TYPE = "BODY-FIXED ROTATING"
  EASTERNMOST_LONGITUDE = 249.572
  FIRST_STANDARD_PARALLEL = "N/A"
  LINE_FIRST_PIXEL = 1
  LINE_LAST_PIXEL = 31063
  LINE_PROJECTION_OFFSET = -61698.75
  MAP_PROJECTION_ROTATION = 0.0
  MAP_PROJECTION_TYPE = SINUSOIDAL
  MAP_RESOLUTION = 2370.85521546667
  MAP_SCALE = 0.025
  MAXIMUM_LATITUDE = -25.9878
  MINIMUM_LATITUDE = -39.0513
  POSITIVE_LONGITUDE_DIRECTION = EAST
  REFERENCE_LATITUDE = "N/A"
  REFERENCE_LONGITUDE = "N/A"
  SAMPLE_FIRST_PIXEL = 1
  SAMPLE_LAST_PIXEL = 5253
  SAMPLE_PROJECTION_OFFSET = 2157.75
  SECOND_STANDARD_PARALLEL = "N/A"
  WESTERNMOST_LONGITUDE = 246.956
END_OBJECT = IMAGE_MAP_PROJECTION
END
