PDS_VERSION_ID = PDS3
/* FILE DATA ELEMENTS */
RECORD_TYPE = UNDEFINED
/* POINTERS TO DATA OBJECTS */
^IMAGE = ("H4087_0000_IR4.TIF")
/* IDENTIFICATION DATA ELEMENTS */
DATA_SET_ID = "MEX-M-HRSC-4-REFDR-MAPPROJECT-EXT1-V4.0"
DATA_SET_NAME = "MARS EXPRESS HRSC MAP PROJECTED REFDR EXTENSION1 V4.0"
DETECTOR_ID = MEX_HRSC_IR
EVENT_TYPE = "MARS-REGIONAL-MAPPING-Vo-Te-Fl"
INSTRUMENT_HOST_ID = MEX
INSTRUMENT_HOST_NAME = "MARS EXPRESS"
INSTRUMENT_ID = HRSC
INSTRUMENT_NAME = "HIGH RESOLUTION STEREO CAMERA"
MISSION_NAME = "MARS EXPRESS"
MISSION_PHASE_NAME = ME_Phase_7
PROCESSING_LEVEL_ID = 4
PRODUCT_CREATION_TIME = 2023-02-09T23:17:53.000Z
PRODUCT_ID = "H4087_0000_IR4.TIF"
RELEASE_ID = 0005
REVISION_ID = 0000
/* QUALITY DATA ELEMENTS */
DATA_QUALITY_ID = 1
DATA_QUALITY_DESC = "Data calculated based on original SPICE kernels"
/* TIME DATA ELEMENTS */
SPACECRAFT_CLOCK_START_COUNT = "1/0121832285.07294"
SPACECRAFT_CLOCK_STOP_COUNT = "1/0121832697.05980"
START_TIME = 2007-03-13T02:20:16.336Z
STOP_TIME = 2007-03-13T02:24:53.443Z
/* ORBITAL DATA ELEMENTS */
ASCENDING_NODE_LONGITUDE = 142.67
MAXIMUM_RESOLUTION = 0.0637
FOOTPRINT_POINT_LATITUDE = (-39.9621,-39.9611,-39.9566,-39.9489, -39.943,-39.9427,-39.9596,-39.5253, -39.0966,-38.6743,-38.2551,-37.8413, -37.4328,-37.0271,-36.6264,-36.2283, -35.8336,-35.444,-34.8625,-34.4818, -34.103,-33.5404,-32.9866,-32.6202, -32.259,-31.7194,-31.3657,-31.0115, -30.664,-30.3163,-29.8017,-29.4607, -28.955,-28.6215,-28.2879,-27.9618, -27.635,-27.1486,-26.8289,-26.5091, -26.1912,-25.8792,-25.5666,-25.0999, -24.4902,-23.8798,-23.268,-22.9616, -22.5018,-22.3482,-22.3003,-22.294, -22.2872,-22.2817,-22.2816,-22.2825, -22.5899,-22.8968,-23.2032,-23.9684, -24.5799,-25.0384,-25.5043,-25.8174, -26.1301,-26.447,-26.7668,-27.2468, -27.5722,-27.8972,-28.2237,-28.5583, -28.8937,-29.3995,-29.741,-30.0815, -30.4284,-30.9484,-31.3011,-31.6551, -32.1967,-32.5594,-33.1125,-33.4791, -33.8552,-34.2308,-34.6175,-34.9935, -35.3857,-35.9734,-36.5702,-36.9722, -37.3814,-37.7906,-38.2068,-38.6308, -39.0551,-39.6975,-39.9154,-39.9621)
FOOTPRINT_POINT_LONGITUDE = (281.112,280.526,279.741,278.951, 278.504,278.479,278.459,278.499,278.536 ,278.571,278.606,278.637,278.668, 278.697,278.726,278.753,278.78,278.806, 278.844,278.867,278.89,278.923,278.955, 278.975,278.994,279.023,279.04,279.058, 279.075,279.091,279.115,279.13,279.153, 279.167,279.181,279.194,279.207,279.226 ,279.238,279.25,279.261,279.272,279.283 ,279.299,279.318,279.337,279.355, 279.364,279.376,279.381,279.382,279.911 ,280.408,280.807,280.821,280.825, 280.829,280.833,280.838,280.848,280.857 ,280.863,280.87,280.875,280.879,280.884 ,280.889,280.896,280.901,280.905,280.91 ,280.916,280.921,280.929,280.935,280.94 ,280.946,280.954,280.959,280.965, 280.974,280.981,280.99,280.996,281.003, 281.009,281.017,281.022,281.03,281.04, 281.051,281.058,281.066,281.074,281.082 ,281.091,281.1,281.112,281.116,281.112)
ORBIT_NUMBER = 4087
ORBITAL_ECCENTRICITY = 0.571
ORBITAL_INCLINATION = 86.67
ORBITAL_SEMIMAJOR_AXIS = 8631.2
PERIAPSIS_ALTITUDE = 307.95
PERIAPSIS_ARGUMENT_ANGLE = 358.26
PERIAPSIS_TIME = 2007-03-13T02:29:42.000Z
SPACECRAFT_ORIENTATION = (0.0,1.0,0.0)
^MEX_ORIENTATION_DESC = "MEX_ORIENTATION_DESC.TXT"
SPACECRAFT_POINTING_MODE = ACROSSTRACK
^MEX_POINTING_DESC = "MEX_POINTING_DESC.TXT"
RIGHT_ASCENSION = -1e+32
DECLINATION = -1e+32
OFFSET_ANGLE = 0.4
SPACECRAFT_SOLAR_DISTANCE = 2.13611e+08
TARGET_NAME = MARS
/* CAMERA DATA ELEMENTS */
DETECTOR_TEMPERATURE = 17.351
FOCAL_PLANE_TEMPERATURE = 7.9716
INST_CMPRS_NAME = "DISCRETE COSINE TRANSFORMATION (DCT)"
INST_CMPRS_RATIO = 9.24903
INST_CMPRS_QUALITY = 0
INST_CMPRS_QUANTZ_TBL_ID = 0
INSTRUMENT_TEMPERATURE = 11.4379
LENS_TEMPERATURE = 8.7872
MACROPIXEL_SIZE = 4
MISSING_FRAMES = 0
PIXEL_SUBSAMPLING_FLAG = N
SIGNAL_CHAIN_ID = 2
/* RADIOMETRIC DATA ELEMENTS */
BANDWIDTH = 81.0
CENTER_FILTER_WAVELENGTH = 955.5
RADIANCE_OFFSET = 0.304921
RADIANCE_SCALING_FACTOR = 0.002188
REFLECTANCE_SCALING_FACTOR = 0.000215392
MEX:REFLECTANCE_OFFSET = 0.0300171
/* IMAGE OBJECT DEFINITIONS */
OBJECT = IMAGE
  INTERCHANGE_FORMAT = BINARY
  LINES = 21010
  LINE_SAMPLES = 2605
  SAMPLE_TYPE = UNSIGNED_INTEGER
  SAMPLE_BITS = 8
  BANDS = 1
  BAND_STORAGE_TYPE = BAND_SEQUENTIAL
  MAXIMUM = 255
  MEAN = 85.5227
  MINIMUM = 1
  STANDARD_DEVIATION = 22.3125
END_OBJECT = IMAGE
/* MAP OBJECT DEFINITIONS */
OBJECT = IMAGE_MAP_PROJECTION
  ^DATA_SET_MAP_PROJECTION_CATALOG= "DSMAP.CAT"
  A_AXIS_RADIUS = 3396.0
  B_AXIS_RADIUS = 3396.0
  C_AXIS_RADIUS = 3396.0
  CENTER_LATITUDE = 0.0
  CENTER_LONGITUDE = 280.0
  COORDINATE_SYSTEM_NAME = PLANETOGRAPHIC
  COORDINATE_SYSTEM_TYPE = "BODY-FIXED ROTATING"
  EASTERNMOST_LONGITUDE = 281.116
  FIRST_STANDARD_PARALLEL = "N/A"
  LINE_FIRST_PIXEL = 1
  LINE_LAST_PIXEL = 21010
  LINE_PROJECTION_OFFSET = -26438.375
  MAP_PROJECTION_ROTATION = 0.0
  MAP_PROJECTION_TYPE = SINUSOIDAL
  MAP_RESOLUTION = 1185.42760773333
  MAP_SCALE = 0.05
  MAXIMUM_LATITUDE = -22.2816
  MINIMUM_LATITUDE = -39.9621
  POSITIVE_LONGITUDE_DIRECTION = EAST
  REFERENCE_LATITUDE = "N/A"
  REFERENCE_LONGITUDE = "N/A"
  SAMPLE_FIRST_PIXEL = 1
  SAMPLE_LAST_PIXEL = 2605
  SAMPLE_PROJECTION_OFFSET = 1500.625
  SECOND_STANDARD_PARALLEL = "N/A"
  WESTERNMOST_LONGITUDE = 278.459
END_OBJECT = IMAGE_MAP_PROJECTION
END
