PDS_VERSION_ID = PDS3
/* FILE DATA ELEMENTS */
RECORD_TYPE = UNDEFINED
/* POINTERS TO DATA OBJECTS */
^IMAGE = ("H4090_0000_BL4.TIF")
/* IDENTIFICATION DATA ELEMENTS */
DATA_SET_ID = "MEX-M-HRSC-4-REFDR-MAPPROJECT-EXT1-V4.0"
DATA_SET_NAME = "MARS EXPRESS HRSC MAP PROJECTED REFDR EXTENSION1 V4.0"
DETECTOR_ID = MEX_HRSC_BLUE
EVENT_TYPE = "MARS-REGIONAL-MAPPING-Im-Fl"
INSTRUMENT_HOST_ID = MEX
INSTRUMENT_HOST_NAME = "MARS EXPRESS"
INSTRUMENT_ID = HRSC
INSTRUMENT_NAME = "HIGH RESOLUTION STEREO CAMERA"
MISSION_NAME = "MARS EXPRESS"
MISSION_PHASE_NAME = ME_Phase_7
PROCESSING_LEVEL_ID = 4
PRODUCT_CREATION_TIME = 2023-02-09T23:17:53.000Z
PRODUCT_ID = "H4090_0000_BL4.TIF"
RELEASE_ID = 0005
REVISION_ID = 0000
/* QUALITY DATA ELEMENTS */
DATA_QUALITY_ID = 1
DATA_QUALITY_DESC = "Data calculated based on original SPICE kernels"
/* TIME DATA ELEMENTS */
SPACECRAFT_CLOCK_START_COUNT = "1/0121904992.08234"
SPACECRAFT_CLOCK_STOP_COUNT = "1/0121905356.49857"
START_TIME = 2007-03-13T22:30:44.556Z
STOP_TIME = 2007-03-13T22:35:23.031Z
/* ORBITAL DATA ELEMENTS */
ASCENDING_NODE_LONGITUDE = 142.62
MAXIMUM_RESOLUTION = 0.1133
FOOTPRINT_POINT_LATITUDE = (-33.1903,-33.1883,-33.1806,-33.1687, -33.1683,-33.1598,-32.7562,-32.158, -31.7647,-31.3742,-30.7945,-30.4102, -30.0328,-29.6545,-29.2841,-28.7291, -28.3644,-28.0007,-27.6423,-27.1063, -26.7549,-26.2286,-25.7113,-25.3663, -25.0275,-24.6866,-24.3519,-24.0218, -23.6898,-23.3587,-23.0345,-22.7096, -22.3843,-22.0584,-21.7321,-21.4051, -21.0775,-20.7492,-20.4211,-20.0922, -19.7626,-19.4328,-19.1022,-18.7699, -18.4634,-17.9076,-17.3496,-16.7908, -16.3707,-16.2305,-16.1325,-16.1337, -16.1329,-16.1329,-16.1345,-16.415, -16.9754,-17.5343,-17.9526,-18.5094, -18.9904,-19.3215,-19.6509,-19.9815, -20.3111,-20.6392,-20.9681,-21.296, -21.6233,-21.9502,-22.2767,-22.6027, -22.9281,-23.2515,-23.58,-24.0791, -24.4116,-24.7503,-25.2584,-25.6012, -25.9471,-26.2921,-26.8203,-27.1724, -27.5309,-27.8898,-28.4348,-28.7999, -29.1704,-29.5424,-29.9183,-30.2965, -30.6789,-31.064,-31.4533,-31.8443, -32.2415,-32.8419,-33.0437,-33.1903)
FOOTPRINT_POINT_LONGITUDE = (346.771,346.21,345.409,344.668,344.648 ,344.628,344.648,344.679,344.702, 344.721,344.748,344.766,344.782,344.798 ,344.815,344.837,344.852,344.866, 344.879,344.899,344.912,344.93,344.947, 344.958,344.967,344.974,344.988,344.999 ,345.008,345.017,345.025,345.034, 345.042,345.05,345.058,345.065,345.073, 345.079,345.087,345.094,345.101,345.108 ,345.114,345.118,345.123,345.134, 345.143,345.152,345.158,345.16,345.161, 345.755,346.41,346.421,346.429,346.434, 346.441,346.45,346.457,346.466,346.473, 346.478,346.486,346.49,346.496,346.503, 346.508,346.514,346.52,346.526,346.532, 346.538,346.544,346.553,346.559,346.568 ,346.572,346.579,346.59,346.597,346.605 ,346.612,346.624,346.631,346.639, 346.648,346.66,346.669,346.678,346.687, 346.697,346.706,346.716,346.725,346.736 ,346.746,346.756,346.772,346.778, 346.771)
ORBIT_NUMBER = 4090
ORBITAL_ECCENTRICITY = 0.57
ORBITAL_INCLINATION = 86.67
ORBITAL_SEMIMAJOR_AXIS = 8621.47
PERIAPSIS_ALTITUDE = 308.21
PERIAPSIS_ARGUMENT_ANGLE = 357.7
PERIAPSIS_TIME = 2007-03-13T22:39:01.000Z
SPACECRAFT_ORIENTATION = (0.0,1.0,0.0)
^MEX_ORIENTATION_DESC = "MEX_ORIENTATION_DESC.TXT"
SPACECRAFT_POINTING_MODE = NADIR
^MEX_POINTING_DESC = "MEX_POINTING_DESC.TXT"
RIGHT_ASCENSION = -1e+32
DECLINATION = -1e+32
OFFSET_ANGLE = -1e+32
SPACECRAFT_SOLAR_DISTANCE = 2.13483e+08
TARGET_NAME = MARS
/* CAMERA DATA ELEMENTS */
DETECTOR_TEMPERATURE = 18.3705
FOCAL_PLANE_TEMPERATURE = 7.9716
INST_CMPRS_NAME = "DISCRETE COSINE TRANSFORMATION (DCT)"
INST_CMPRS_RATIO = 10.9612
INST_CMPRS_QUALITY = 0
INST_CMPRS_QUANTZ_TBL_ID = 0
INSTRUMENT_TEMPERATURE = 11.234
LENS_TEMPERATURE = 8.5833
MACROPIXEL_SIZE = 8
MISSING_FRAMES = 0
PIXEL_SUBSAMPLING_FLAG = N
SIGNAL_CHAIN_ID = 2
/* RADIOMETRIC DATA ELEMENTS */
BANDWIDTH = 76.0
CENTER_FILTER_WAVELENGTH = 444.0
RADIANCE_OFFSET = 0.39756
RADIANCE_SCALING_FACTOR = 0.00100303
REFLECTANCE_SCALING_FACTOR = 4.6968e-05
MEX:REFLECTANCE_OFFSET = 0.0186162
/* IMAGE OBJECT DEFINITIONS */
OBJECT = IMAGE
  INTERCHANGE_FORMAT = BINARY
  LINES = 10102
  LINE_SAMPLES = 1069
  SAMPLE_TYPE = UNSIGNED_INTEGER
  SAMPLE_BITS = 8
  BANDS = 1
  BAND_STORAGE_TYPE = BAND_SEQUENTIAL
  MAXIMUM = 255
  MEAN = 110.836
  MINIMUM = 1
  STANDARD_DEVIATION = 32.0038
END_OBJECT = IMAGE
/* MAP OBJECT DEFINITIONS */
OBJECT = IMAGE_MAP_PROJECTION
  ^DATA_SET_MAP_PROJECTION_CATALOG= "DSMAP.CAT"
  A_AXIS_RADIUS = 3396.0
  B_AXIS_RADIUS = 3396.0
  C_AXIS_RADIUS = 3396.0
  CENTER_LATITUDE = 0.0
  CENTER_LONGITUDE = 346.0
  COORDINATE_SYSTEM_NAME = PLANETOGRAPHIC
  COORDINATE_SYSTEM_TYPE = "BODY-FIXED ROTATING"
  EASTERNMOST_LONGITUDE = 346.778
  FIRST_STANDARD_PARALLEL = "N/A"
  LINE_FIRST_PIXEL = 1
  LINE_LAST_PIXEL = 10102
  LINE_PROJECTION_OFFSET = -9567.0625
  MAP_PROJECTION_ROTATION = 0.0
  MAP_PROJECTION_TYPE = SINUSOIDAL
  MAP_RESOLUTION = 592.713803866667
  MAP_SCALE = 0.1
  MAXIMUM_LATITUDE = -16.1325
  MINIMUM_LATITUDE = -33.1903
  POSITIVE_LONGITUDE_DIRECTION = EAST
  REFERENCE_LATITUDE = "N/A"
  REFERENCE_LONGITUDE = "N/A"
  SAMPLE_FIRST_PIXEL = 1
  SAMPLE_LAST_PIXEL = 1069
  SAMPLE_PROJECTION_OFFSET = 686.9375
  SECOND_STANDARD_PARALLEL = "N/A"
  WESTERNMOST_LONGITUDE = 344.628
END_OBJECT = IMAGE_MAP_PROJECTION
END
