PDS_VERSION_ID = PDS3
/* FILE DATA ELEMENTS */
RECORD_TYPE = UNDEFINED
/* POINTERS TO DATA OBJECTS */
^IMAGE = ("H4094_0000_S24.TIF")
/* IDENTIFICATION DATA ELEMENTS */
DATA_SET_ID = "MEX-M-HRSC-4-REFDR-MAPPROJECT-EXT1-V4.0"
DATA_SET_NAME = "MARS EXPRESS HRSC MAP PROJECTED REFDR EXTENSION1 V4.0"
DETECTOR_ID = MEX_HRSC_S2
EVENT_TYPE = "MARS-REGIONAL-MAPPING-Te-Im-Fl"
INSTRUMENT_HOST_ID = MEX
INSTRUMENT_HOST_NAME = "MARS EXPRESS"
INSTRUMENT_ID = HRSC
INSTRUMENT_NAME = "HIGH RESOLUTION STEREO CAMERA"
MISSION_NAME = "MARS EXPRESS"
MISSION_PHASE_NAME = ME_Phase_7
PROCESSING_LEVEL_ID = 4
PRODUCT_CREATION_TIME = 2023-02-09T23:17:53.000Z
PRODUCT_ID = "H4094_0000_S24.TIF"
RELEASE_ID = 0005
REVISION_ID = 0000
/* QUALITY DATA ELEMENTS */
DATA_QUALITY_ID = 1
DATA_QUALITY_DESC = "Data calculated based on original SPICE kernels"
/* TIME DATA ELEMENTS */
SPACECRAFT_CLOCK_START_COUNT = "1/0122001734.09057"
SPACECRAFT_CLOCK_STOP_COUNT = "1/0122002018.34315"
START_TIME = 2007-03-15T01:22:18.343Z
STOP_TIME = 2007-03-15T01:25:46.707Z
/* ORBITAL DATA ELEMENTS */
ASCENDING_NODE_LONGITUDE = 142.53
MAXIMUM_RESOLUTION = 0.0178
FOOTPRINT_POINT_LATITUDE = (-34.5723,-34.5809,-34.5834,-34.5838, -34.5822,-34.5797,-34.5759,-34.5755, -34.5422,-33.9894,-33.6641,-33.2353, -32.796,-32.3541,-32.0214,-31.7994, -31.5761,-31.2409,-30.9036,-30.6783, -30.4519,-30.2249,-29.9977,-29.7704, -29.4301,-29.2014,-28.971,-28.7405, -28.5092,-28.2777,-28.0457,-27.8127, -27.4627,-27.229,-26.9953,-26.6425, -26.4068,-26.1704,-25.9329,-25.696, -25.4581,-25.1006,-24.8622,-24.623, -24.3828,-24.0217,-23.7807,-23.5392, -23.1755,-23.0538,-23.0332,-23.03, -23.024,-23.0146,-23.0089,-23.0085, -23.0087,-23.3743,-23.7392,-23.9826, -24.2228,-24.4632,-24.7032,-24.9426, -25.2939,-25.5383,-25.7746,-26.0104, -26.2468,-26.6006,-27.0714,-27.3063, -27.5399,-27.774,-28.0075,-28.2412, -28.4736,-28.7026,-28.9363,-29.1657, -29.3944,-29.6219,-29.8501,-30.0772, -30.3046,-30.5316,-30.7577,-30.9827, -31.2076,-31.432,-31.656,-31.9913, -32.2139,-32.6581,-33.0993,-33.5392, -33.9761,-34.4053,-34.5114,-34.5723)
FOOTPRINT_POINT_LONGITUDE = (314.231,313.574,313.186,312.8,312.415, 312.127,311.815,311.791,311.772,311.804 ,311.823,311.851,311.876,311.9,311.918, 311.93,311.942,311.959,311.975,311.986, 311.997,312.008,312.018,312.029,312.044 ,312.055,312.064,312.074,312.083, 312.093,312.102,312.111,312.125,312.134 ,312.142,312.155,312.164,312.172,312.18 ,312.188,312.196,312.207,312.215, 312.222,312.23,312.24,312.247,312.254, 312.264,312.268,312.268,312.565,313.052 ,313.591,313.846,313.862,313.869, 313.878,313.887,313.892,313.899,313.906 ,313.913,313.919,313.933,313.936, 313.944,313.951,313.959,313.969,313.983 ,313.99,313.997,314.004,314.011,314.018 ,314.025,314.033,314.039,314.047, 314.055,314.064,314.071,314.08,314.087, 314.095,314.103,314.112,314.12,314.128, 314.136,314.148,314.157,314.173,314.19, 314.207,314.224,314.245,314.25,314.231)
ORBIT_NUMBER = 4094
ORBITAL_ECCENTRICITY = 0.57
ORBITAL_INCLINATION = 86.68
ORBITAL_SEMIMAJOR_AXIS = 8621.73
PERIAPSIS_ALTITUDE = 307.91
PERIAPSIS_ARGUMENT_ANGLE = 357.02
PERIAPSIS_TIME = 2007-03-15T01:31:36.000Z
SPACECRAFT_ORIENTATION = (0.0,1.0,0.0)
^MEX_ORIENTATION_DESC = "MEX_ORIENTATION_DESC.TXT"
SPACECRAFT_POINTING_MODE = ACROSSTRACK
^MEX_POINTING_DESC = "MEX_POINTING_DESC.TXT"
RIGHT_ASCENSION = -1e+32
DECLINATION = -1e+32
OFFSET_ANGLE = -0.33
SPACECRAFT_SOLAR_DISTANCE = 2.13313e+08
TARGET_NAME = MARS
/* CAMERA DATA ELEMENTS */
DETECTOR_TEMPERATURE = 18.3705
FOCAL_PLANE_TEMPERATURE = 8.3794
INST_CMPRS_NAME = "DISCRETE COSINE TRANSFORMATION (DCT)"
INST_CMPRS_RATIO = 7.03179
INST_CMPRS_QUALITY = 0
INST_CMPRS_QUANTZ_TBL_ID = 0
INSTRUMENT_TEMPERATURE = 11.234
LENS_TEMPERATURE = 8.5833
MACROPIXEL_SIZE = 1
MISSING_FRAMES = 0
PIXEL_SUBSAMPLING_FLAG = N
SIGNAL_CHAIN_ID = 1
/* RADIOMETRIC DATA ELEMENTS */
BANDWIDTH = 178.0
CENTER_FILTER_WAVELENGTH = 679.0
RADIANCE_OFFSET = 2.04691
RADIANCE_SCALING_FACTOR = 0.00677614
REFLECTANCE_SCALING_FACTOR = 0.000163287
MEX:REFLECTANCE_OFFSET = 0.0493251
/* IMAGE OBJECT DEFINITIONS */
OBJECT = IMAGE
  INTERCHANGE_FORMAT = BINARY
  LINES = 54611
  LINE_SAMPLES = 8733
  SAMPLE_TYPE = UNSIGNED_INTEGER
  SAMPLE_BITS = 8
  BANDS = 1
  BAND_STORAGE_TYPE = BAND_SEQUENTIAL
  MAXIMUM = 254
  MEAN = 98.9886
  MINIMUM = 1
  STANDARD_DEVIATION = 29.2784
END_OBJECT = IMAGE
/* MAP OBJECT DEFINITIONS */
OBJECT = IMAGE_MAP_PROJECTION
  ^DATA_SET_MAP_PROJECTION_CATALOG= "DSMAP.CAT"
  A_AXIS_RADIUS = 3396.0
  B_AXIS_RADIUS = 3396.0
  C_AXIS_RADIUS = 3396.0
  CENTER_LATITUDE = 0.0
  CENTER_LONGITUDE = 313.0
  COORDINATE_SYSTEM_NAME = PLANETOGRAPHIC
  COORDINATE_SYSTEM_TYPE = "BODY-FIXED ROTATING"
  EASTERNMOST_LONGITUDE = 314.25
  FIRST_STANDARD_PARALLEL = "N/A"
  LINE_FIRST_PIXEL = 1
  LINE_LAST_PIXEL = 54611
  LINE_PROJECTION_OFFSET = -109161.0
  MAP_PROJECTION_ROTATION = 0.0
  MAP_PROJECTION_TYPE = SINUSOIDAL
  MAP_RESOLUTION = 4741.71043093333
  MAP_SCALE = 0.0125
  MAXIMUM_LATITUDE = -23.0085
  MINIMUM_LATITUDE = -34.5838
  POSITIVE_LONGITUDE_DIRECTION = EAST
  REFERENCE_LATITUDE = "N/A"
  REFERENCE_LONGITUDE = "N/A"
  SAMPLE_FIRST_PIXEL = 1
  SAMPLE_LAST_PIXEL = 8733
  SAMPLE_PROJECTION_OFFSET = 4347.0
  SECOND_STANDARD_PARALLEL = "N/A"
  WESTERNMOST_LONGITUDE = 311.772
END_OBJECT = IMAGE_MAP_PROJECTION
END
