PDS_VERSION_ID = PDS3
/* FILE DATA ELEMENTS */
RECORD_TYPE = UNDEFINED
/* POINTERS TO DATA OBJECTS */
^IMAGE = ("H4097_0000_P24.TIF")
/* IDENTIFICATION DATA ELEMENTS */
DATA_SET_ID = "MEX-M-HRSC-4-REFDR-MAPPROJECT-EXT1-V4.0"
DATA_SET_NAME = "MARS EXPRESS HRSC MAP PROJECTED REFDR EXTENSION1 V4.0"
DETECTOR_ID = MEX_HRSC_P2
EVENT_TYPE = "MARS-GLOBAL-MAPPING-Te-Im-Eo"
INSTRUMENT_HOST_ID = MEX
INSTRUMENT_HOST_NAME = "MARS EXPRESS"
INSTRUMENT_ID = HRSC
INSTRUMENT_NAME = "HIGH RESOLUTION STEREO CAMERA"
MISSION_NAME = "MARS EXPRESS"
MISSION_PHASE_NAME = ME_Phase_7
PROCESSING_LEVEL_ID = 4
PRODUCT_CREATION_TIME = 2023-02-09T23:17:53.000Z
PRODUCT_ID = "H4097_0000_P24.TIF"
RELEASE_ID = 0005
REVISION_ID = 0000
/* QUALITY DATA ELEMENTS */
DATA_QUALITY_ID = 1
DATA_QUALITY_DESC = "Data calculated based on original SPICE kernels"
/* TIME DATA ELEMENTS */
SPACECRAFT_CLOCK_START_COUNT = "1/0122074212.08240"
SPACECRAFT_CLOCK_STOP_COUNT = "1/0122074617.05943"
START_TIME = 2007-03-15T21:30:42.517Z
STOP_TIME = 2007-03-15T21:36:02.697Z
/* ORBITAL DATA ELEMENTS */
ASCENDING_NODE_LONGITUDE = 142.47
MAXIMUM_RESOLUTION = 0.032
FOOTPRINT_POINT_LATITUDE = (-39.6415,-39.6399,-39.6325,-39.6249, -39.607,-39.5915,-39.5905,-39.5653, -38.9087,-38.2543,-37.8264,-37.4032, -36.9878,-36.3625,-35.9546,-35.5514, -34.9486,-34.5518,-34.157,-33.7678, -33.1893,-32.6167,-32.2391,-31.6781, -31.125,-30.5801,-30.2173,-29.8609, -29.5042,-29.1528,-28.8029,-28.2861, -27.9419,-27.6005,-27.2605,-26.7554, -26.4244,-25.9308,-25.4383,-25.1175, -24.7937,-24.4725,-23.8404,-23.2128, -22.4368,-21.6532,-21.4959,-21.4814, -21.486,-21.487,-21.4862,-21.4862, -21.4866,-21.9563,-22.7382,-23.2059, -23.8317,-24.1489,-24.4636,-24.7852, -25.1083,-25.4304,-25.9234,-26.2521, -26.5851,-26.9203,-27.2586,-27.6,-27.94 ,-28.2861,-28.8041,-29.1563,-29.5083, -29.8645,-30.222,-30.5842,-30.9489, -31.3171,-31.6867,-32.062,-32.431, -32.8193,-33.2003,-33.585,-33.9747, -34.3669,-34.763,-35.1643,-35.5692, -35.9772,-36.3867,-36.7968,-37.2148, -37.6419,-38.0671,-38.499,-38.9361, -39.367,-39.5862,-39.6415)
FOOTPRINT_POINT_LONGITUDE = (19.0936,18.6771,17.9568,17.5137, 16.7664,16.2673,16.2395,16.2182,16.2771 ,16.3292,16.3639,16.3978,16.4325,16.477 ,16.508,16.5375,16.5783,16.6042,16.6292 ,16.6537,16.6887,16.7215,16.7429, 16.7732,16.8017,16.8296,16.8468,16.8641 ,16.8805,16.8963,16.9128,16.9358, 16.9503,16.9633,16.9771,16.9947,17.0091 ,17.0267,17.0438,17.0551,17.0651, 17.0759,17.0955,17.1134,17.1353,17.1543 ,17.158,17.1583,17.6527,18.2318,18.5995 ,18.6136,18.6187,18.6276,18.6417, 18.6501,18.6633,18.6696,18.6769,18.6839 ,18.6907,18.6978,18.7085,18.7158, 18.7233,18.7308,18.7369,18.7449,18.7532 ,18.7609,18.7744,18.7832,18.7921, 18.8015,18.8109,18.8206,18.8296,18.8396 ,18.8493,18.8594,18.8734,18.8802, 18.8925,18.9043,18.9164,18.9284,18.9407 ,18.953,18.965,18.9773,18.9924,19.0093, 19.0239,19.0359,19.052,19.0674,19.0824, 19.104,19.1132,19.0936)
ORBIT_NUMBER = 4097
ORBITAL_ECCENTRICITY = 0.571
ORBITAL_INCLINATION = 86.66
ORBITAL_SEMIMAJOR_AXIS = 8626.65
PERIAPSIS_ALTITUDE = 307.7
PERIAPSIS_ARGUMENT_ANGLE = 356.47
PERIAPSIS_TIME = 2007-03-15T21:41:03.000Z
SPACECRAFT_ORIENTATION = (0.0,1.0,0.0)
^MEX_ORIENTATION_DESC = "MEX_ORIENTATION_DESC.TXT"
SPACECRAFT_POINTING_MODE = NADIR
^MEX_POINTING_DESC = "MEX_POINTING_DESC.TXT"
RIGHT_ASCENSION = -1e+32
DECLINATION = -1e+32
OFFSET_ANGLE = -1e+32
SPACECRAFT_SOLAR_DISTANCE = 2.13187e+08
TARGET_NAME = MARS
/* CAMERA DATA ELEMENTS */
DETECTOR_TEMPERATURE = 18.9822
FOCAL_PLANE_TEMPERATURE = 8.9911
INST_CMPRS_NAME = "DISCRETE COSINE TRANSFORMATION (DCT)"
INST_CMPRS_RATIO = 5.84294
INST_CMPRS_QUALITY = 0
INST_CMPRS_QUANTZ_TBL_ID = 0
INSTRUMENT_TEMPERATURE = 11.4379
LENS_TEMPERATURE = 9.195
MACROPIXEL_SIZE = 2
MISSING_FRAMES = 0
PIXEL_SUBSAMPLING_FLAG = N
SIGNAL_CHAIN_ID = 3
/* RADIOMETRIC DATA ELEMENTS */
BANDWIDTH = 177.0
CENTER_FILTER_WAVELENGTH = 676.5
RADIANCE_OFFSET = 1.81885
RADIANCE_SCALING_FACTOR = 0.0103519
REFLECTANCE_SCALING_FACTOR = 0.000249462
MEX:REFLECTANCE_OFFSET = 0.0438308
/* IMAGE OBJECT DEFINITIONS */
OBJECT = IMAGE
  INTERCHANGE_FORMAT = BINARY
  LINES = 42943
  LINE_SAMPLES = 4919
  SAMPLE_TYPE = UNSIGNED_INTEGER
  SAMPLE_BITS = 8
  BANDS = 1
  BAND_STORAGE_TYPE = BAND_SEQUENTIAL
  MAXIMUM = 255
  MEAN = 85.228
  MINIMUM = 1
  STANDARD_DEVIATION = 21.2976
END_OBJECT = IMAGE
/* MAP OBJECT DEFINITIONS */
OBJECT = IMAGE_MAP_PROJECTION
  ^DATA_SET_MAP_PROJECTION_CATALOG= "DSMAP.CAT"
  A_AXIS_RADIUS = 3396.0
  B_AXIS_RADIUS = 3396.0
  C_AXIS_RADIUS = 3396.0
  CENTER_LATITUDE = 0.0
  CENTER_LONGITUDE = 18.0
  COORDINATE_SYSTEM_NAME = PLANETOGRAPHIC
  COORDINATE_SYSTEM_TYPE = "BODY-FIXED ROTATING"
  EASTERNMOST_LONGITUDE = 19.1132
  FIRST_STANDARD_PARALLEL = "N/A"
  LINE_FIRST_PIXEL = 1
  LINE_LAST_PIXEL = 42943
  LINE_PROJECTION_OFFSET = -50933.25
  MAP_PROJECTION_ROTATION = 0.0
  MAP_PROJECTION_TYPE = SINUSOIDAL
  MAP_RESOLUTION = 2370.85521546667
  MAP_SCALE = 0.025
  MAXIMUM_LATITUDE = -21.4814
  MINIMUM_LATITUDE = -39.6415
  POSITIVE_LONGITUDE_DIRECTION = EAST
  REFERENCE_LATITUDE = "N/A"
  REFERENCE_LONGITUDE = "N/A"
  SAMPLE_FIRST_PIXEL = 1
  SAMPLE_LAST_PIXEL = 4919
  SAMPLE_PROJECTION_OFFSET = 3074.75
  SECOND_STANDARD_PARALLEL = "N/A"
  WESTERNMOST_LONGITUDE = 16.2182
END_OBJECT = IMAGE_MAP_PROJECTION
END
