PDS_VERSION_ID = PDS3
/* FILE DATA ELEMENTS */
RECORD_TYPE = UNDEFINED
/* POINTERS TO DATA OBJECTS */
^IMAGE = ("H4098_0000_BL4.TIF")
/* IDENTIFICATION DATA ELEMENTS */
DATA_SET_ID = "MEX-M-HRSC-4-REFDR-MAPPROJECT-EXT1-V4.0"
DATA_SET_NAME = "MARS EXPRESS HRSC MAP PROJECTED REFDR EXTENSION1 V4.0"
DETECTOR_ID = MEX_HRSC_BLUE
EVENT_TYPE = "MARS-REGIONAL-MAPPING-Vo-Te"
INSTRUMENT_HOST_ID = MEX
INSTRUMENT_HOST_NAME = "MARS EXPRESS"
INSTRUMENT_ID = HRSC
INSTRUMENT_NAME = "HIGH RESOLUTION STEREO CAMERA"
MISSION_NAME = "MARS EXPRESS"
MISSION_PHASE_NAME = ME_Phase_7
PROCESSING_LEVEL_ID = 4
PRODUCT_CREATION_TIME = 2023-02-09T23:17:53.000Z
PRODUCT_ID = "H4098_0000_BL4.TIF"
RELEASE_ID = 0005
REVISION_ID = 0000
/* QUALITY DATA ELEMENTS */
DATA_QUALITY_ID = 1
DATA_QUALITY_DESC = "Data calculated based on original SPICE kernels"
/* TIME DATA ELEMENTS */
SPACECRAFT_CLOCK_START_COUNT = "1/0122098701.07282"
SPACECRAFT_CLOCK_STOP_COUNT = "1/0122098930.16122"
START_TIME = 2007-03-16T04:18:58.455Z
STOP_TIME = 2007-03-16T04:21:38.580Z
/* ORBITAL DATA ELEMENTS */
ASCENDING_NODE_LONGITUDE = 142.44
MAXIMUM_RESOLUTION = 0.1046
FOOTPRINT_POINT_LATITUDE = (-23.9181,-23.9181,-23.9172,-23.9155, -23.9138,-23.9114,-23.9112,-23.9091, -23.6855,-23.4616,-23.2375,-23.0131, -22.7884,-22.5635,-22.3384,-22.113, -21.8874,-21.6615,-21.4353,-21.2089, -20.9823,-20.7553,-20.5282,-20.301, -20.0821,-19.7005,-19.3181,-18.935, -18.7432,-18.5513,-18.3593,-18.1672, -17.9749,-17.7825,-17.5899,-17.3971, -17.2043,-17.0113,-16.8183,-16.6251, -16.3354,-16.142,-15.9484,-15.7545, -15.5605,-15.3661,-15.0783,-14.7021, -14.4195,-13.8537,-13.7593,-13.7428, -13.7433,-13.7431,-13.7423,-13.7423, -13.7439,-14.1215,-14.4987,-14.8756, -15.1583,-15.4489,-15.6432,-15.8373, -16.128,-16.3214,-16.5145,-16.7073, -16.9006,-17.0938,-17.2868,-17.4797, -17.6725,-17.8651,-18.0576,-18.25, -18.4423,-18.6344,-19.0181,-19.4012, -19.6882,-20.0704,-20.4003,-20.6276, -20.8549,-21.0818,-21.3084,-21.5349, -21.7612,-21.9871,-22.213,-22.4385, -22.6639,-22.8889,-23.1137,-23.3381, -23.5624,-23.7864,-23.8984,-23.9181)
FOOTPRINT_POINT_LONGITUDE = (280.336,280.098,279.719,279.382, 279.144,278.863,278.849,278.842,278.849 ,278.855,278.861,278.867,278.872, 278.878,278.884,278.889,278.894,278.9, 278.905,278.91,278.915,278.92,278.924, 278.929,278.934,278.941,278.949,278.955 ,278.959,278.962,278.965,278.969, 278.972,278.975,278.978,278.981,278.984 ,278.987,278.99,278.993,278.998,279.0, 279.003,279.006,279.008,279.01,279.013, 279.017,279.02,279.026,279.027,279.027, 279.352,279.841,280.167,280.178,280.185 ,280.19,280.194,280.198,280.201,280.204 ,280.206,280.209,280.213,280.216, 280.219,280.222,280.225,280.228,280.231 ,280.233,280.236,280.239,280.241, 280.244,280.247,280.25,280.255,280.261, 280.266,280.271,280.276,280.28,280.284, 280.287,280.291,280.295,280.299,280.303 ,280.306,280.31,280.314,280.318,280.322 ,280.326,280.33,280.334,280.336, 280.336)
ORBIT_NUMBER = 4098
ORBITAL_ECCENTRICITY = 0.571
ORBITAL_INCLINATION = 86.67
ORBITAL_SEMIMAJOR_AXIS = 8631.32
PERIAPSIS_ALTITUDE = 307.17
PERIAPSIS_ARGUMENT_ANGLE = 356.3
PERIAPSIS_TIME = 2007-03-16T04:24:17.000Z
SPACECRAFT_ORIENTATION = (0.0,1.0,0.0)
^MEX_ORIENTATION_DESC = "MEX_ORIENTATION_DESC.TXT"
SPACECRAFT_POINTING_MODE = NADIR
^MEX_POINTING_DESC = "MEX_POINTING_DESC.TXT"
RIGHT_ASCENSION = -1e+32
DECLINATION = -1e+32
OFFSET_ANGLE = -1e+32
SPACECRAFT_SOLAR_DISTANCE = 2.13145e+08
TARGET_NAME = MARS
/* CAMERA DATA ELEMENTS */
DETECTOR_TEMPERATURE = 19.5939
FOCAL_PLANE_TEMPERATURE = 8.9911
INST_CMPRS_NAME = "DISCRETE COSINE TRANSFORMATION (DCT)"
INST_CMPRS_RATIO = 8.36757
INST_CMPRS_QUALITY = 0
INST_CMPRS_QUANTZ_TBL_ID = 0
INSTRUMENT_TEMPERATURE = 11.234
LENS_TEMPERATURE = 10.4184
MACROPIXEL_SIZE = 8
MISSING_FRAMES = 0
PIXEL_SUBSAMPLING_FLAG = N
SIGNAL_CHAIN_ID = 2
/* RADIOMETRIC DATA ELEMENTS */
BANDWIDTH = 76.0
CENTER_FILTER_WAVELENGTH = 444.0
RADIANCE_OFFSET = 0.297475
RADIANCE_SCALING_FACTOR = 0.00116657
REFLECTANCE_SCALING_FACTOR = 5.44525e-05
MEX:REFLECTANCE_OFFSET = 0.0138854
/* IMAGE OBJECT DEFINITIONS */
OBJECT = IMAGE
  INTERCHANGE_FORMAT = BINARY
  LINES = 6037
  LINE_SAMPLES = 814
  SAMPLE_TYPE = UNSIGNED_INTEGER
  SAMPLE_BITS = 8
  BANDS = 1
  BAND_STORAGE_TYPE = BAND_SEQUENTIAL
  MAXIMUM = 254
  MEAN = 116.666
  MINIMUM = 1
  STANDARD_DEVIATION = 20.5245
END_OBJECT = IMAGE
/* MAP OBJECT DEFINITIONS */
OBJECT = IMAGE_MAP_PROJECTION
  ^DATA_SET_MAP_PROJECTION_CATALOG= "DSMAP.CAT"
  A_AXIS_RADIUS = 3396.0
  B_AXIS_RADIUS = 3396.0
  C_AXIS_RADIUS = 3396.0
  CENTER_LATITUDE = 0.0
  CENTER_LONGITUDE = 280.0
  COORDINATE_SYSTEM_NAME = PLANETOGRAPHIC
  COORDINATE_SYSTEM_TYPE = "BODY-FIXED ROTATING"
  EASTERNMOST_LONGITUDE = 280.336
  FIRST_STANDARD_PARALLEL = "N/A"
  LINE_FIRST_PIXEL = 1
  LINE_LAST_PIXEL = 6037
  LINE_PROJECTION_OFFSET = -8144.5625
  MAP_PROJECTION_ROTATION = 0.0
  MAP_PROJECTION_TYPE = SINUSOIDAL
  MAP_RESOLUTION = 592.713803866667
  MAP_SCALE = 0.1
  MAXIMUM_LATITUDE = -13.7423
  MINIMUM_LATITUDE = -23.9181
  POSITIVE_LONGITUDE_DIRECTION = EAST
  REFERENCE_LATITUDE = "N/A"
  REFERENCE_LONGITUDE = "N/A"
  SAMPLE_FIRST_PIXEL = 1
  SAMPLE_LAST_PIXEL = 814
  SAMPLE_PROJECTION_OFFSET = 633.9375
  SECOND_STANDARD_PARALLEL = "N/A"
  WESTERNMOST_LONGITUDE = 278.842
END_OBJECT = IMAGE_MAP_PROJECTION
END
