PDS_VERSION_ID = PDS3
/* FILE DATA ELEMENTS */
RECORD_TYPE = UNDEFINED
/* POINTERS TO DATA OBJECTS */
^IMAGE = ("H4118_0000_IR4.TIF")
/* IDENTIFICATION DATA ELEMENTS */
DATA_SET_ID = "MEX-M-HRSC-4-REFDR-MAPPROJECT-EXT1-V4.0"
DATA_SET_NAME = "MARS EXPRESS HRSC MAP PROJECTED REFDR EXTENSION1 V4.0"
DETECTOR_ID = MEX_HRSC_IR
EVENT_TYPE = "MARS-REGIONAL-MAPPING-Vo-Te"
INSTRUMENT_HOST_ID = MEX
INSTRUMENT_HOST_NAME = "MARS EXPRESS"
INSTRUMENT_ID = HRSC
INSTRUMENT_NAME = "HIGH RESOLUTION STEREO CAMERA"
MISSION_NAME = "MARS EXPRESS"
MISSION_PHASE_NAME = ME_Phase_7
PROCESSING_LEVEL_ID = 4
PRODUCT_CREATION_TIME = 2023-02-09T23:17:53.000Z
PRODUCT_ID = "H4118_0000_IR4.TIF"
RELEASE_ID = 0005
REVISION_ID = 0000
/* QUALITY DATA ELEMENTS */
DATA_QUALITY_ID = 1
DATA_QUALITY_DESC = "Data calculated based on original SPICE kernels"
/* TIME DATA ELEMENTS */
SPACECRAFT_CLOCK_START_COUNT = "1/0122582474.09093"
SPACECRAFT_CLOCK_STOP_COUNT = "1/0122582707.08272"
START_TIME = 2007-03-21T18:42:26.933Z
STOP_TIME = 2007-03-21T18:45:04.411Z
/* ORBITAL DATA ELEMENTS */
ASCENDING_NODE_LONGITUDE = 142.02
MAXIMUM_RESOLUTION = 0.107
FOOTPRINT_POINT_LATITUDE = (-27.7082,-27.7065,-27.7034,-27.7006, -27.6984,-27.6983,-27.7089,-27.3477, -27.1068,-26.8656,-26.6242,-26.383, -26.1413,-25.9073,-25.6033,-25.4005, -25.1974,-24.9935,-24.791,-24.589, -24.3863,-24.0818,-23.8788,-23.6757, -23.4723,-23.2693,-23.0662,-22.8631, -22.6597,-22.4564,-22.2526,-22.049, -21.8455,-21.6426,-21.4388,-21.2348, -20.9289,-20.633,-20.4358,-20.2385, -20.0413,-19.7458,-19.5488,-19.3516, -19.1542,-18.9567,-18.6626,-18.2813, -17.8997,-17.4226,-17.327,-17.281, -17.2816,-17.2813,-17.2808,-17.2808, -17.2824,-17.7606,-18.2383,-18.5252, -18.9128,-19.1102,-19.3081,-19.5051, -19.8994,-20.1959,-20.3936,-20.5911, -20.8871,-21.0895,-21.2933,-21.5992, -21.8025,-22.1077,-22.3117,-22.6177, -22.8212,-23.0245,-23.2279,-23.4315, -23.6347,-23.8379,-24.0412,-24.2443, -24.4476,-24.6507,-24.8537,-25.0561, -25.2595,-25.5639,-25.7669,-25.9726, -26.2141,-26.4558,-26.8187,-27.0603, -27.3014,-27.5426,-27.6632,-27.7082)
FOOTPRINT_POINT_LONGITUDE = (114.913,114.566,114.08,113.705,113.455 ,113.441,113.429,113.44,113.448,113.455 ,113.462,113.469,113.476,113.482, 113.491,113.496,113.501,113.507,113.512 ,113.517,113.522,113.529,113.534, 113.538,113.543,113.547,113.552,113.556 ,113.56,113.564,113.568,113.572,113.576 ,113.58,113.584,113.587,113.593,113.598 ,113.601,113.605,113.608,113.612, 113.615,113.618,113.621,113.623,113.628 ,113.632,113.637,113.643,113.644, 113.644,113.992,114.417,114.788,114.799 ,114.806,114.81,114.815,114.817,114.821 ,114.823,114.825,114.826,114.83,114.833 ,114.835,114.837,114.84,114.842,114.844 ,114.847,114.849,114.852,114.855, 114.858,114.86,114.862,114.865,114.867, 114.869,114.871,114.874,114.876,114.878 ,114.881,114.883,114.885,114.888, 114.892,114.894,114.897,114.899,114.902 ,114.907,114.91,114.913,114.916,114.918 ,114.913)
ORBIT_NUMBER = 4118
ORBITAL_ECCENTRICITY = 0.571
ORBITAL_INCLINATION = 86.66
ORBITAL_SEMIMAJOR_AXIS = 8627.21
PERIAPSIS_ALTITUDE = 305.44
PERIAPSIS_ARGUMENT_ANGLE = 352.73
PERIAPSIS_TIME = 2007-03-21T18:47:14.000Z
SPACECRAFT_ORIENTATION = (0.0,1.0,0.0)
^MEX_ORIENTATION_DESC = "MEX_ORIENTATION_DESC.TXT"
SPACECRAFT_POINTING_MODE = NADIR
^MEX_POINTING_DESC = "MEX_POINTING_DESC.TXT"
RIGHT_ASCENSION = -1e+32
DECLINATION = -1e+32
OFFSET_ANGLE = -1e+32
SPACECRAFT_SOLAR_DISTANCE = 2.12329e+08
TARGET_NAME = MARS
/* CAMERA DATA ELEMENTS */
DETECTOR_TEMPERATURE = 18.3705
FOCAL_PLANE_TEMPERATURE = 10.4184
INST_CMPRS_NAME = "DISCRETE COSINE TRANSFORMATION (DCT)"
INST_CMPRS_RATIO = 13.3322
INST_CMPRS_QUALITY = 0
INST_CMPRS_QUANTZ_TBL_ID = 0
INSTRUMENT_TEMPERATURE = 11.4379
LENS_TEMPERATURE = 50.9945
MACROPIXEL_SIZE = 8
MISSING_FRAMES = 0
PIXEL_SUBSAMPLING_FLAG = N
SIGNAL_CHAIN_ID = 2
/* RADIOMETRIC DATA ELEMENTS */
BANDWIDTH = 81.0
CENTER_FILTER_WAVELENGTH = 955.5
RADIANCE_OFFSET = 0.511989
RADIANCE_SCALING_FACTOR = 0.00229463
REFLECTANCE_SCALING_FACTOR = 0.000223183
MEX:REFLECTANCE_OFFSET = 0.0497977
/* IMAGE OBJECT DEFINITIONS */
OBJECT = IMAGE
  INTERCHANGE_FORMAT = BINARY
  LINES = 6188
  LINE_SAMPLES = 820
  SAMPLE_TYPE = UNSIGNED_INTEGER
  SAMPLE_BITS = 8
  BANDS = 1
  BAND_STORAGE_TYPE = BAND_SEQUENTIAL
  MAXIMUM = 255
  MEAN = 78.1793
  MINIMUM = 1
  STANDARD_DEVIATION = 21.1057
END_OBJECT = IMAGE
/* MAP OBJECT DEFINITIONS */
OBJECT = IMAGE_MAP_PROJECTION
  ^DATA_SET_MAP_PROJECTION_CATALOG= "DSMAP.CAT"
  A_AXIS_RADIUS = 3396.0
  B_AXIS_RADIUS = 3396.0
  C_AXIS_RADIUS = 3396.0
  CENTER_LATITUDE = 0.0
  CENTER_LONGITUDE = 114.0
  COORDINATE_SYSTEM_NAME = PLANETOGRAPHIC
  COORDINATE_SYSTEM_TYPE = "BODY-FIXED ROTATING"
  EASTERNMOST_LONGITUDE = 114.918
  FIRST_STANDARD_PARALLEL = "N/A"
  LINE_FIRST_PIXEL = 1
  LINE_LAST_PIXEL = 6188
  LINE_PROJECTION_OFFSET = -10251.9375
  MAP_PROJECTION_ROTATION = 0.0
  MAP_PROJECTION_TYPE = SINUSOIDAL
  MAP_RESOLUTION = 592.713803866667
  MAP_SCALE = 0.1
  MAXIMUM_LATITUDE = -17.2808
  MINIMUM_LATITUDE = -27.7089
  POSITIVE_LONGITUDE_DIRECTION = EAST
  REFERENCE_LATITUDE = "N/A"
  REFERENCE_LONGITUDE = "N/A"
  SAMPLE_FIRST_PIXEL = 1
  SAMPLE_LAST_PIXEL = 820
  SAMPLE_PROJECTION_OFFSET = 323.0625
  SECOND_STANDARD_PARALLEL = "N/A"
  WESTERNMOST_LONGITUDE = 113.429
END_OBJECT = IMAGE_MAP_PROJECTION
END
