PDS_VERSION_ID = PDS3
/* FILE DATA ELEMENTS */
RECORD_TYPE = UNDEFINED
/* POINTERS TO DATA OBJECTS */
^IMAGE = ("H4118_0000_S24.TIF")
/* IDENTIFICATION DATA ELEMENTS */
DATA_SET_ID = "MEX-M-HRSC-4-REFDR-MAPPROJECT-EXT1-V4.0"
DATA_SET_NAME = "MARS EXPRESS HRSC MAP PROJECTED REFDR EXTENSION1 V4.0"
DETECTOR_ID = MEX_HRSC_S2
EVENT_TYPE = "MARS-REGIONAL-MAPPING-Vo-Te"
INSTRUMENT_HOST_ID = MEX
INSTRUMENT_HOST_NAME = "MARS EXPRESS"
INSTRUMENT_ID = HRSC
INSTRUMENT_NAME = "HIGH RESOLUTION STEREO CAMERA"
MISSION_NAME = "MARS EXPRESS"
MISSION_PHASE_NAME = ME_Phase_7
PROCESSING_LEVEL_ID = 4
PRODUCT_CREATION_TIME = 2023-02-09T23:17:53.000Z
PRODUCT_ID = "H4118_0000_S24.TIF"
RELEASE_ID = 0005
REVISION_ID = 0000
/* QUALITY DATA ELEMENTS */
DATA_QUALITY_ID = 1
DATA_QUALITY_DESC = "Data calculated based on original SPICE kernels"
/* TIME DATA ELEMENTS */
SPACECRAFT_CLOCK_START_COUNT = "1/0122582474.09093"
SPACECRAFT_CLOCK_STOP_COUNT = "1/0122582707.08272"
START_TIME = 2007-03-21T18:41:18.336Z
STOP_TIME = 2007-03-21T18:44:10.351Z
/* ORBITAL DATA ELEMENTS */
ASCENDING_NODE_LONGITUDE = 142.02
MAXIMUM_RESOLUTION = 0.0286
FOOTPRINT_POINT_LATITUDE = (-27.7578,-27.7573,-27.7559,-27.7515, -27.7478,-27.7423,-27.742,-27.7245, -27.4969,-27.2728,-27.0485,-26.7119, -26.3793,-26.0496,-25.8294,-25.6086, -25.278,-25.0575,-24.8349,-24.6113, -24.2761,-24.0527,-23.8287,-23.6043, -23.3799,-23.1546,-22.9287,-22.7028, -22.4765,-22.2505,-22.0259,-21.644, -21.3579,-20.9758,-20.5925,-20.304, -19.9183,-19.5314,-19.3377,-19.144, -18.9503,-18.7565,-18.4642,-18.2694, -18.0743,-17.8791,-17.6842,-17.4883, -17.3905,-17.2952,-17.2968,-17.2985, -17.3,-17.3,-17.3001,-17.3,-17.3004, -17.4943,-17.6896,-17.9823,-18.1774, -18.3728,-18.5668,-18.7617,-19.0534, -19.2469,-19.4411,-19.6348,-19.8287, -20.2141,-20.5027,-20.7907,-21.1744, -21.5568,-21.9387,-22.1461,-22.3726, -22.7119,-22.9382,-23.164,-23.3893, -23.6143,-23.8389,-24.0633,-24.2874, -24.5105,-24.8452,-25.0684,-25.4006, -25.622,-25.9532,-26.1743,-26.3945, -26.6145,-26.8397,-27.0644,-27.2892, -27.5133,-27.6272,-27.7578)
FOOTPRINT_POINT_LONGITUDE = (114.993,114.625,114.369,113.921, 113.665,113.36,113.344,113.334,113.343, 113.351,113.359,113.371,113.383,113.395 ,113.402,113.409,113.42,113.428,113.435 ,113.441,113.451,113.457,113.464,113.47 ,113.476,113.482,113.488,113.494, 113.499,113.505,113.511,113.519,113.526 ,113.535,113.543,113.549,113.557, 113.564,113.567,113.571,113.575,113.578 ,113.583,113.586,113.589,113.592, 113.596,113.599,113.6,113.601,113.864, 114.079,114.342,114.546,114.82,114.832, 114.836,114.839,114.841,114.845,114.848 ,114.85,114.853,114.855,114.859,114.861 ,114.864,114.866,114.869,114.874, 114.878,114.882,114.888,114.893,114.899 ,114.902,114.906,114.911,114.914, 114.918,114.922,114.925,114.929,114.933 ,114.936,114.94,114.946,114.949,114.955 ,114.959,114.965,114.969,114.973, 114.977,114.982,114.986,114.99,114.994, 114.997,114.993)
ORBIT_NUMBER = 4118
ORBITAL_ECCENTRICITY = 0.571
ORBITAL_INCLINATION = 86.66
ORBITAL_SEMIMAJOR_AXIS = 8627.21
PERIAPSIS_ALTITUDE = 305.44
PERIAPSIS_ARGUMENT_ANGLE = 352.73
PERIAPSIS_TIME = 2007-03-21T18:47:14.000Z
SPACECRAFT_ORIENTATION = (0.0,1.0,0.0)
^MEX_ORIENTATION_DESC = "MEX_ORIENTATION_DESC.TXT"
SPACECRAFT_POINTING_MODE = NADIR
^MEX_POINTING_DESC = "MEX_POINTING_DESC.TXT"
RIGHT_ASCENSION = -1e+32
DECLINATION = -1e+32
OFFSET_ANGLE = -1e+32
SPACECRAFT_SOLAR_DISTANCE = 2.12329e+08
TARGET_NAME = MARS
/* CAMERA DATA ELEMENTS */
DETECTOR_TEMPERATURE = 18.3705
FOCAL_PLANE_TEMPERATURE = 10.4184
INST_CMPRS_NAME = "DISCRETE COSINE TRANSFORMATION (DCT)"
INST_CMPRS_RATIO = 9.67012
INST_CMPRS_QUALITY = 0
INST_CMPRS_QUANTZ_TBL_ID = 0
INSTRUMENT_TEMPERATURE = 11.4379
LENS_TEMPERATURE = 50.9945
MACROPIXEL_SIZE = 2
MISSING_FRAMES = 0
PIXEL_SUBSAMPLING_FLAG = N
SIGNAL_CHAIN_ID = 1
/* RADIOMETRIC DATA ELEMENTS */
BANDWIDTH = 178.0
CENTER_FILTER_WAVELENGTH = 679.0
RADIANCE_OFFSET = 2.50907
RADIANCE_SCALING_FACTOR = 0.00913106
REFLECTANCE_SCALING_FACTOR = 0.000218008
MEX:REFLECTANCE_OFFSET = 0.0599051
/* IMAGE OBJECT DEFINITIONS */
OBJECT = IMAGE
  INTERCHANGE_FORMAT = BINARY
  LINES = 24752
  LINE_SAMPLES = 3278
  SAMPLE_TYPE = UNSIGNED_INTEGER
  SAMPLE_BITS = 8
  BANDS = 1
  BAND_STORAGE_TYPE = BAND_SEQUENTIAL
  MAXIMUM = 255
  MEAN = 84.9098
  MINIMUM = 1
  STANDARD_DEVIATION = 20.5465
END_OBJECT = IMAGE
/* MAP OBJECT DEFINITIONS */
OBJECT = IMAGE_MAP_PROJECTION
  ^DATA_SET_MAP_PROJECTION_CATALOG= "DSMAP.CAT"
  A_AXIS_RADIUS = 3396.0
  B_AXIS_RADIUS = 3396.0
  C_AXIS_RADIUS = 3396.0
  CENTER_LATITUDE = 0.0
  CENTER_LONGITUDE = 114.0
  COORDINATE_SYSTEM_NAME = PLANETOGRAPHIC
  COORDINATE_SYSTEM_TYPE = "BODY-FIXED ROTATING"
  EASTERNMOST_LONGITUDE = 114.997
  FIRST_STANDARD_PARALLEL = "N/A"
  LINE_FIRST_PIXEL = 1
  LINE_LAST_PIXEL = 24752
  LINE_PROJECTION_OFFSET = -41006.25
  MAP_PROJECTION_ROTATION = 0.0
  MAP_PROJECTION_TYPE = SINUSOIDAL
  MAP_RESOLUTION = 2370.85521546667
  MAP_SCALE = 0.025
  MAXIMUM_LATITUDE = -17.2952
  MINIMUM_LATITUDE = -27.7578
  POSITIVE_LONGITUDE_DIRECTION = EAST
  REFERENCE_LATITUDE = "N/A"
  REFERENCE_LONGITUDE = "N/A"
  SAMPLE_FIRST_PIXEL = 1
  SAMPLE_LAST_PIXEL = 3278
  SAMPLE_PROJECTION_OFFSET = 1293.75
  SECOND_STANDARD_PARALLEL = "N/A"
  WESTERNMOST_LONGITUDE = 113.334
END_OBJECT = IMAGE_MAP_PROJECTION
END
