PDS_VERSION_ID = PDS3
/* FILE DATA ELEMENTS */
RECORD_TYPE = UNDEFINED
/* POINTERS TO DATA OBJECTS */
^IMAGE = ("H4131_0000_P14.TIF")
/* IDENTIFICATION DATA ELEMENTS */
DATA_SET_ID = "MEX-M-HRSC-4-REFDR-MAPPROJECT-EXT1-V4.0"
DATA_SET_NAME = "MARS EXPRESS HRSC MAP PROJECTED REFDR EXTENSION1 V4.0"
DETECTOR_ID = MEX_HRSC_P1
EVENT_TYPE = "MARS-REGIONAL-MAPPING-Vo-Te-Im"
INSTRUMENT_HOST_ID = MEX
INSTRUMENT_HOST_NAME = "MARS EXPRESS"
INSTRUMENT_ID = HRSC
INSTRUMENT_NAME = "HIGH RESOLUTION STEREO CAMERA"
MISSION_NAME = "MARS EXPRESS"
MISSION_PHASE_NAME = ME_Phase_7
PROCESSING_LEVEL_ID = 4
PRODUCT_CREATION_TIME = 2023-02-09T23:17:53.000Z
PRODUCT_ID = "H4131_0000_P14.TIF"
RELEASE_ID = 0005
REVISION_ID = 0000
/* QUALITY DATA ELEMENTS */
DATA_QUALITY_ID = 1
DATA_QUALITY_DESC = "Data calculated based on original SPICE kernels"
/* TIME DATA ELEMENTS */
SPACECRAFT_CLOCK_START_COUNT = "1/0122896858.09386"
SPACECRAFT_CLOCK_STOP_COUNT = "1/0122897180.00569"
START_TIME = 2007-03-25T10:02:15.335Z
STOP_TIME = 2007-03-25T10:06:12.564Z
/* ORBITAL DATA ELEMENTS */
ASCENDING_NODE_LONGITUDE = 141.75
MAXIMUM_RESOLUTION = 0.0261
FOOTPRINT_POINT_LATITUDE = (-34.5857,-34.568,-34.5514,-34.5335, -34.533,-34.5385,-34.0054,-33.4717, -33.1249,-32.7773,-32.4297,-32.0901, -31.75,-31.4097,-31.0687,-30.5575, -30.2162,-29.8745,-29.5325,-29.1901, -28.8472,-28.5045,-27.9895,-27.6461, -27.3099,-27.0211,-26.7327,-26.4442, -26.1554,-25.866,-25.4324,-25.143, -24.8536,-24.5639,-24.274,-23.9844, -23.5491,-23.2589,-22.9688,-22.6783, -22.3879,-22.0981,-21.5353,-20.9721, -20.5498,-20.2681,-19.8455,-19.1613, -19.0249,-18.9863,-18.9996,-19.0166, -19.0284,-19.0288,-19.0294,-19.438, -19.9895,-20.4122,-20.6939,-20.9756, -21.2571,-21.5389,-22.1021,-22.5358, -22.8265,-23.117,-23.4073,-23.8427, -24.1328,-24.4225,-24.8578,-25.1473, -25.4365,-25.726,-26.0155,-26.4493, -26.738,-27.0272,-27.3155,-27.6441, -27.988,-28.5033,-29.0184,-29.361, -29.7036,-30.046,-30.388,-30.7294, -31.0707,-31.4113,-31.7512,-32.0921, -32.4325,-32.7808,-33.1286,-33.4764, -33.8312,-34.365,-34.5426,-34.5857)
FOOTPRINT_POINT_LONGITUDE = (278.525,277.845,277.285,276.736, 276.719,276.714,276.733,276.752,276.764 ,276.776,276.787,276.798,276.808, 276.818,276.828,276.842,276.851,276.86, 276.868,276.877,276.885,276.893,276.904 ,276.911,276.918,276.924,276.929, 276.935,276.94,276.945,276.952,276.957, 276.961,276.966,276.97,276.974,276.98, 276.984,276.987,276.991,276.994,276.997 ,277.003,277.008,277.012,277.015, 277.018,277.023,277.024,277.024,277.387 ,277.866,278.215,278.227,278.231, 278.237,278.245,278.251,278.256,278.26, 278.264,278.269,278.278,278.286,278.29, 278.295,278.3,278.308,278.313,278.318, 278.326,278.331,278.336,278.342,278.347 ,278.356,278.361,278.368,278.373, 278.379,278.386,278.397,278.408,278.415 ,278.422,278.43,278.437,278.445,278.452 ,278.46,278.466,278.475,278.484,278.492 ,278.5,278.508,278.517,278.529,278.533, 278.525)
ORBIT_NUMBER = 4131
ORBITAL_ECCENTRICITY = 0.571
ORBITAL_INCLINATION = 86.67
ORBITAL_SEMIMAJOR_AXIS = 8629.96
PERIAPSIS_ALTITUDE = 304.28
PERIAPSIS_ARGUMENT_ANGLE = 350.44
PERIAPSIS_TIME = 2007-03-25T10:08:18.000Z
SPACECRAFT_ORIENTATION = (0.0,1.0,0.0)
^MEX_ORIENTATION_DESC = "MEX_ORIENTATION_DESC.TXT"
SPACECRAFT_POINTING_MODE = ACROSSTRACK
^MEX_POINTING_DESC = "MEX_POINTING_DESC.TXT"
RIGHT_ASCENSION = -1e+32
DECLINATION = -1e+32
OFFSET_ANGLE = -0.88
SPACECRAFT_SOLAR_DISTANCE = 2.11822e+08
TARGET_NAME = MARS
/* CAMERA DATA ELEMENTS */
DETECTOR_TEMPERATURE = 17.5549
FOCAL_PLANE_TEMPERATURE = 8.7872
INST_CMPRS_NAME = "DISCRETE COSINE TRANSFORMATION (DCT)"
INST_CMPRS_RATIO = 9.62291
INST_CMPRS_QUALITY = 0
INST_CMPRS_QUANTZ_TBL_ID = 0
INSTRUMENT_TEMPERATURE = 11.234
LENS_TEMPERATURE = 9.195
MACROPIXEL_SIZE = 2
MISSING_FRAMES = 0
PIXEL_SUBSAMPLING_FLAG = N
SIGNAL_CHAIN_ID = 3
/* RADIOMETRIC DATA ELEMENTS */
BANDWIDTH = 174.0
CENTER_FILTER_WAVELENGTH = 675.0
RADIANCE_OFFSET = 1.91837
RADIANCE_SCALING_FACTOR = 0.0108258
REFLECTANCE_SCALING_FACTOR = 0.00026127
MEX:REFLECTANCE_OFFSET = 0.046298
/* IMAGE OBJECT DEFINITIONS */
OBJECT = IMAGE
  INTERCHANGE_FORMAT = BINARY
  LINES = 36936
  LINE_SAMPLES = 3688
  SAMPLE_TYPE = UNSIGNED_INTEGER
  SAMPLE_BITS = 8
  BANDS = 1
  BAND_STORAGE_TYPE = BAND_SEQUENTIAL
  MAXIMUM = 255
  MEAN = 89.8014
  MINIMUM = 1
  STANDARD_DEVIATION = 14.1903
END_OBJECT = IMAGE
/* MAP OBJECT DEFINITIONS */
OBJECT = IMAGE_MAP_PROJECTION
  ^DATA_SET_MAP_PROJECTION_CATALOG= "DSMAP.CAT"
  A_AXIS_RADIUS = 3396.0
  B_AXIS_RADIUS = 3396.0
  C_AXIS_RADIUS = 3396.0
  CENTER_LATITUDE = 0.0
  CENTER_LONGITUDE = 278.0
  COORDINATE_SYSTEM_NAME = PLANETOGRAPHIC
  COORDINATE_SYSTEM_TYPE = "BODY-FIXED ROTATING"
  EASTERNMOST_LONGITUDE = 278.533
  FIRST_STANDARD_PARALLEL = "N/A"
  LINE_FIRST_PIXEL = 1
  LINE_LAST_PIXEL = 36936
  LINE_PROJECTION_OFFSET = -45087.25
  MAP_PROJECTION_ROTATION = 0.0
  MAP_PROJECTION_TYPE = SINUSOIDAL
  MAP_RESOLUTION = 2370.85521546667
  MAP_SCALE = 0.025
  MAXIMUM_LATITUDE = -18.9863
  MINIMUM_LATITUDE = -34.5857
  POSITIVE_LONGITUDE_DIRECTION = EAST
  REFERENCE_LATITUDE = "N/A"
  REFERENCE_LONGITUDE = "N/A"
  SAMPLE_FIRST_PIXEL = 1
  SAMPLE_LAST_PIXEL = 3688
  SAMPLE_PROJECTION_OFFSET = 2592.25
  SECOND_STANDARD_PARALLEL = "N/A"
  WESTERNMOST_LONGITUDE = 276.714
END_OBJECT = IMAGE_MAP_PROJECTION
END
