PDS_VERSION_ID = PDS3
/* FILE DATA ELEMENTS */
RECORD_TYPE = UNDEFINED
/* POINTERS TO DATA OBJECTS */
^IMAGE = ("H4132_0000_GR4.TIF")
/* IDENTIFICATION DATA ELEMENTS */
DATA_SET_ID = "MEX-M-HRSC-4-REFDR-MAPPROJECT-EXT1-V4.0"
DATA_SET_NAME = "MARS EXPRESS HRSC MAP PROJECTED REFDR EXTENSION1 V4.0"
DETECTOR_ID = MEX_HRSC_GREEN
EVENT_TYPE = "MARS-REGIONAL-MAPPING-Fl-Lc-La"
INSTRUMENT_HOST_ID = MEX
INSTRUMENT_HOST_NAME = "MARS EXPRESS"
INSTRUMENT_ID = HRSC
INSTRUMENT_NAME = "HIGH RESOLUTION STEREO CAMERA"
MISSION_NAME = "MARS EXPRESS"
MISSION_PHASE_NAME = ME_Phase_7
PROCESSING_LEVEL_ID = 4
PRODUCT_CREATION_TIME = 2023-02-09T23:17:53.000Z
PRODUCT_ID = "H4132_0000_GR4.TIF"
RELEASE_ID = 0005
REVISION_ID = 0000
/* QUALITY DATA ELEMENTS */
DATA_QUALITY_ID = 1
DATA_QUALITY_DESC = "Data calculated based on original SPICE kernels"
/* TIME DATA ELEMENTS */
SPACECRAFT_CLOCK_START_COUNT = "1/0122921099.08410"
SPACECRAFT_CLOCK_STOP_COUNT = "1/0122921305.57063"
START_TIME = 2007-03-25T16:45:51.489Z
STOP_TIME = 2007-03-25T16:48:02.904Z
/* ORBITAL DATA ELEMENTS */
ASCENDING_NODE_LONGITUDE = 141.73
MAXIMUM_RESOLUTION = 0.1098
FOOTPRINT_POINT_LATITUDE = (-31.6742,-31.6714,-31.668,-31.665, -31.6616,-31.6547,-31.6544,-31.6565, -31.4776,-31.2985,-31.1194,-30.9401, -30.7607,-30.5811,-30.4014,-30.2215, -30.0415,-29.7712,-29.5909,-29.4104, -29.2298,-28.9589,-28.7777,-28.5963, -28.324,-28.052,-27.8707,-27.6891, -27.5073,-27.3255,-27.1438,-26.9618, -26.6369,-26.1782,-25.8714,-25.6415, -25.3347,-24.9511,-24.7974,-24.5665, -24.4126,-24.2588,-24.1047,-23.9507, -23.7965,-23.6422,-23.4876,-23.3335, -23.2561,-23.2527,-23.2555,-23.2576, -23.258,-23.258,-23.258,-23.2597, -23.4143,-23.5689,-23.7233,-23.9552, -24.1102,-24.2644,-24.4948,-24.6487, -24.8028,-25.0337,-25.1875,-25.3413, -25.495,-25.7254,-26.1092,-26.4159, -26.7215,-26.971,-27.1534,-27.3356, -27.5178,-27.6995,-27.9725,-28.1548, -28.3365,-28.518,-28.6995,-28.8808, -29.0619,-29.2438,-29.4236,-29.6046, -29.7853,-29.9659,-30.1464,-30.4169, -30.597,-30.7768,-30.9567,-31.1365, -31.3159,-31.5847,-31.6744,-31.6742)
FOOTPRINT_POINT_LONGITUDE = (178.558,178.194,177.857,177.611, 177.364,176.943,176.928,176.902,176.911 ,176.919,176.928,176.936,176.945, 176.953,176.961,176.969,176.977,176.989 ,176.997,177.004,177.012,177.022,177.03 ,177.039,177.052,177.061,177.067, 177.074,177.08,177.086,177.092,177.097, 177.108,177.122,177.134,177.141,177.151 ,177.16,177.165,177.172,177.177,177.18, 177.185,177.189,177.193,177.198,177.203 ,177.206,177.209,177.209,177.578, 177.909,178.14,178.49,178.502,178.51, 178.511,178.512,178.512,178.514,178.515 ,178.516,178.517,178.518,178.519,178.52 ,178.521,178.522,178.523,178.524, 178.526,178.528,178.53,178.531,178.533, 178.534,178.535,178.536,178.537,178.539 ,178.54,178.541,178.542,178.543,178.544 ,178.546,178.546,178.547,178.549,178.55 ,178.551,178.553,178.554,178.555, 178.556,178.557,178.558,178.56,178.56, 178.558)
ORBIT_NUMBER = 4132
ORBITAL_ECCENTRICITY = 0.571
ORBITAL_INCLINATION = 86.68
ORBITAL_SEMIMAJOR_AXIS = 8617.74
PERIAPSIS_ALTITUDE = 304.74
PERIAPSIS_ARGUMENT_ANGLE = 350.27
PERIAPSIS_TIME = 2007-03-25T16:51:25.000Z
SPACECRAFT_ORIENTATION = (0.0,1.0,0.0)
^MEX_ORIENTATION_DESC = "MEX_ORIENTATION_DESC.TXT"
SPACECRAFT_POINTING_MODE = ACROSSTRACK
^MEX_POINTING_DESC = "MEX_POINTING_DESC.TXT"
RIGHT_ASCENSION = -1e+32
DECLINATION = -1e+32
OFFSET_ANGLE = 0.5
SPACECRAFT_SOLAR_DISTANCE = 2.11784e+08
TARGET_NAME = MARS
/* CAMERA DATA ELEMENTS */
DETECTOR_TEMPERATURE = 18.5744
FOCAL_PLANE_TEMPERATURE = 8.9911
INST_CMPRS_NAME = "DISCRETE COSINE TRANSFORMATION (DCT)"
INST_CMPRS_RATIO = 7.1445
INST_CMPRS_QUALITY = 0
INST_CMPRS_QUANTZ_TBL_ID = 0
INSTRUMENT_TEMPERATURE = 11.4379
LENS_TEMPERATURE = 9.3989
MACROPIXEL_SIZE = 8
MISSING_FRAMES = 0
PIXEL_SUBSAMPLING_FLAG = N
SIGNAL_CHAIN_ID = 2
/* RADIOMETRIC DATA ELEMENTS */
BANDWIDTH = 88.0
CENTER_FILTER_WAVELENGTH = 538.0
RADIANCE_OFFSET = 1.03743
RADIANCE_SCALING_FACTOR = 0.00389742
REFLECTANCE_SCALING_FACTOR = 0.000150506
MEX:REFLECTANCE_OFFSET = 0.0400624
/* IMAGE OBJECT DEFINITIONS */
OBJECT = IMAGE
  INTERCHANGE_FORMAT = BINARY
  LINES = 5013
  LINE_SAMPLES = 856
  SAMPLE_TYPE = UNSIGNED_INTEGER
  SAMPLE_BITS = 8
  BANDS = 1
  BAND_STORAGE_TYPE = BAND_SEQUENTIAL
  MAXIMUM = 255
  MEAN = 110.154
  MINIMUM = 1
  STANDARD_DEVIATION = 22.8871
END_OBJECT = IMAGE
/* MAP OBJECT DEFINITIONS */
OBJECT = IMAGE_MAP_PROJECTION
  ^DATA_SET_MAP_PROJECTION_CATALOG= "DSMAP.CAT"
  A_AXIS_RADIUS = 3396.0
  B_AXIS_RADIUS = 3396.0
  C_AXIS_RADIUS = 3396.0
  CENTER_LATITUDE = 0.0
  CENTER_LONGITUDE = 178.0
  COORDINATE_SYSTEM_NAME = PLANETOGRAPHIC
  COORDINATE_SYSTEM_TYPE = "BODY-FIXED ROTATING"
  EASTERNMOST_LONGITUDE = 178.56
  FIRST_STANDARD_PARALLEL = "N/A"
  LINE_FIRST_PIXEL = 1
  LINE_LAST_PIXEL = 5013
  LINE_PROJECTION_OFFSET = -13773.5625
  MAP_PROJECTION_ROTATION = 0.0
  MAP_PROJECTION_TYPE = SINUSOIDAL
  MAP_RESOLUTION = 592.713803866667
  MAP_SCALE = 0.1
  MAXIMUM_LATITUDE = -23.2527
  MINIMUM_LATITUDE = -31.6744
  POSITIVE_LONGITUDE_DIRECTION = EAST
  REFERENCE_LATITUDE = "N/A"
  REFERENCE_LONGITUDE = "N/A"
  SAMPLE_FIRST_PIXEL = 1
  SAMPLE_LAST_PIXEL = 856
  SAMPLE_PROJECTION_OFFSET = 567.9375
  SECOND_STANDARD_PARALLEL = "N/A"
  WESTERNMOST_LONGITUDE = 176.902
END_OBJECT = IMAGE_MAP_PROJECTION
END
