PDS_VERSION_ID = PDS3
/* FILE DATA ELEMENTS */
RECORD_TYPE = UNDEFINED
/* POINTERS TO DATA OBJECTS */
^IMAGE = ("H4147_0000_BL4.TIF")
/* IDENTIFICATION DATA ELEMENTS */
DATA_SET_ID = "MEX-M-HRSC-4-REFDR-MAPPROJECT-EXT1-V4.0"
DATA_SET_NAME = "MARS EXPRESS HRSC MAP PROJECTED REFDR EXTENSION1 V4.0"
DETECTOR_ID = MEX_HRSC_BLUE
EVENT_TYPE = "MARS-LOCAL-STEREO-Fl-Tc-Ts"
INSTRUMENT_HOST_ID = MEX
INSTRUMENT_HOST_NAME = "MARS EXPRESS"
INSTRUMENT_ID = HRSC
INSTRUMENT_NAME = "HIGH RESOLUTION STEREO CAMERA"
MISSION_NAME = "MARS EXPRESS"
MISSION_PHASE_NAME = ME_Phase_7
PROCESSING_LEVEL_ID = 4
PRODUCT_CREATION_TIME = 2023-02-09T23:17:53.000Z
PRODUCT_ID = "H4147_0000_BL4.TIF"
RELEASE_ID = 0005
REVISION_ID = 0000
/* QUALITY DATA ELEMENTS */
DATA_QUALITY_ID = 1
DATA_QUALITY_DESC = "Data calculated based on original SPICE kernels"
/* TIME DATA ELEMENTS */
SPACECRAFT_CLOCK_START_COUNT = "1/0123284334.09074"
SPACECRAFT_CLOCK_STOP_COUNT = "1/0123284573.57998"
START_TIME = 2007-03-29T21:39:20.613Z
STOP_TIME = 2007-03-29T21:42:18.227Z
/* ORBITAL DATA ELEMENTS */
ASCENDING_NODE_LONGITUDE = 141.42
MAXIMUM_RESOLUTION = 0.0981
FOOTPRINT_POINT_LATITUDE = (-9.13037,-9.13274,-9.13398,-9.13481, -9.13483,-9.13064,-8.69281,-8.14608, -7.69493,-7.35463,-7.12769,-6.90107, -6.67442,-6.44789,-6.10798,-5.88049, -5.5421,-5.3159,-5.08944,-4.86268, -4.63622,-4.40877,-4.06985,-3.84338, -3.61215,-3.37772,-3.14415,-2.91044, -2.55999,-2.32615,-2.09253,-1.74223, -1.50897,-1.1592,-0.919993,-0.678758, -0.437584,-0.196898,0.163928,0.404439, 0.644571,1.00492,1.25305,1.50107,1.7487 ,2.11996,2.3673,2.49096,2.51498,2.51821 ,2.52008,2.52255,2.52262,2.52096, 2.27377,2.02651,1.77896,1.5312,1.28324, 0.913997,0.67379,0.433394,0.192843, -0.16782,-0.40872,-0.649702,-0.890955, -1.13108,-1.36417,-1.59734,-1.8309, -2.06437,-2.29828,-2.53198,-2.76588, -3.11642,-3.35041,-3.58429,-3.81658, -4.04278,-4.26876,-4.49709,-4.7236, -5.06323,-5.28939,-5.51395,-5.7414, -6.08117,-6.42149,-6.64847,-6.87533, -7.10232,-7.32952,-7.66999,-7.89699, -8.34026,-8.6685,-8.99689,-9.10666, -9.13037)
FOOTPRINT_POINT_LONGITUDE = (145.092,144.641,144.321,144.042, 144.032,144.024,144.023,144.021,144.019 ,144.017,144.016,144.015,144.014, 144.013,144.011,144.008,144.007,144.006 ,144.004,144.002,144.0,143.997,143.994, 143.992,143.99,143.988,143.986,143.984, 143.98,143.978,143.975,143.971,143.968, 143.964,143.962,143.959,143.955,143.952 ,143.948,143.944,143.941,143.936, 143.932,143.929,143.925,143.919,143.916 ,143.914,143.913,144.408,144.714, 145.101,145.113,145.12,145.119,145.118, 145.116,145.115,145.113,145.11,145.109, 145.108,145.107,145.106,145.105,145.104 ,145.103,145.102,145.101,145.101,145.1, 145.1,145.098,145.098,145.097,145.097, 145.097,145.097,145.097,145.096,145.097 ,145.092,145.092,145.092,145.092, 145.096,145.094,145.095,145.095,145.094 ,145.094,145.094,145.094,145.094, 145.094,145.096,145.097,145.098,145.097 ,145.092)
ORBIT_NUMBER = 4147
ORBITAL_ECCENTRICITY = 0.571
ORBITAL_INCLINATION = 86.67
ORBITAL_SEMIMAJOR_AXIS = 8620.19
PERIAPSIS_ALTITUDE = 303.54
PERIAPSIS_ARGUMENT_ANGLE = 347.63
PERIAPSIS_TIME = 2007-03-29T21:38:37.000Z
SPACECRAFT_ORIENTATION = (0.0,1.0,0.0)
^MEX_ORIENTATION_DESC = "MEX_ORIENTATION_DESC.TXT"
SPACECRAFT_POINTING_MODE = ACROSSTRACK
^MEX_POINTING_DESC = "MEX_POINTING_DESC.TXT"
RIGHT_ASCENSION = -1e+32
DECLINATION = -1e+32
OFFSET_ANGLE = -0.15
SPACECRAFT_SOLAR_DISTANCE = 2.11225e+08
TARGET_NAME = MARS
/* CAMERA DATA ELEMENTS */
DETECTOR_TEMPERATURE = 18.1666
FOCAL_PLANE_TEMPERATURE = 8.3794
INST_CMPRS_NAME = "DISCRETE COSINE TRANSFORMATION (DCT)"
INST_CMPRS_RATIO = 8.41091
INST_CMPRS_QUALITY = 0
INST_CMPRS_QUANTZ_TBL_ID = 0
INSTRUMENT_TEMPERATURE = 12.0496
LENS_TEMPERATURE = 8.9911
MACROPIXEL_SIZE = 8
MISSING_FRAMES = 0
PIXEL_SUBSAMPLING_FLAG = N
SIGNAL_CHAIN_ID = 2
/* RADIOMETRIC DATA ELEMENTS */
BANDWIDTH = 76.0
CENTER_FILTER_WAVELENGTH = 444.0
RADIANCE_OFFSET = 0.541414
RADIANCE_SCALING_FACTOR = 0.0011816
REFLECTANCE_SCALING_FACTOR = 5.41648e-05
MEX:REFLECTANCE_OFFSET = 0.0248185
/* IMAGE OBJECT DEFINITIONS */
OBJECT = IMAGE
  INTERCHANGE_FORMAT = BINARY
  LINES = 6893
  LINE_SAMPLES = 729
  SAMPLE_TYPE = UNSIGNED_INTEGER
  SAMPLE_BITS = 8
  BANDS = 1
  BAND_STORAGE_TYPE = BAND_SEQUENTIAL
  MAXIMUM = 255
  MEAN = 144.386
  MINIMUM = 2
  STANDARD_DEVIATION = 31.5331
END_OBJECT = IMAGE
/* MAP OBJECT DEFINITIONS */
OBJECT = IMAGE_MAP_PROJECTION
  ^DATA_SET_MAP_PROJECTION_CATALOG= "DSMAP.CAT"
  A_AXIS_RADIUS = 3396.0
  B_AXIS_RADIUS = 3396.0
  C_AXIS_RADIUS = 3396.0
  CENTER_LATITUDE = 0.0
  CENTER_LONGITUDE = 145.0
  COORDINATE_SYSTEM_NAME = PLANETOGRAPHIC
  COORDINATE_SYSTEM_TYPE = "BODY-FIXED ROTATING"
  EASTERNMOST_LONGITUDE = 145.12
  FIRST_STANDARD_PARALLEL = "N/A"
  LINE_FIRST_PIXEL = 1
  LINE_LAST_PIXEL = 6893
  LINE_PROJECTION_OFFSET = 1479.1875
  MAP_PROJECTION_ROTATION = 0.0
  MAP_PROJECTION_TYPE = SINUSOIDAL
  MAP_RESOLUTION = 592.713803866667
  MAP_SCALE = 0.1
  MAXIMUM_LATITUDE = 2.52262
  MINIMUM_LATITUDE = -9.134829999999999
  POSITIVE_LONGITUDE_DIRECTION = EAST
  REFERENCE_LATITUDE = "N/A"
  REFERENCE_LONGITUDE = "N/A"
  SAMPLE_FIRST_PIXEL = 1
  SAMPLE_LAST_PIXEL = 729
  SAMPLE_PROJECTION_OFFSET = 654.3125
  SECOND_STANDARD_PARALLEL = "N/A"
  WESTERNMOST_LONGITUDE = 143.913
END_OBJECT = IMAGE_MAP_PROJECTION
END
