PDS_VERSION_ID = PDS3
/* FILE DATA ELEMENTS */
RECORD_TYPE = UNDEFINED
/* POINTERS TO DATA OBJECTS */
^IMAGE = ("H4150_0000_RE4.TIF")
/* IDENTIFICATION DATA ELEMENTS */
DATA_SET_ID = "MEX-M-HRSC-4-REFDR-MAPPROJECT-EXT1-V4.0"
DATA_SET_NAME = "MARS EXPRESS HRSC MAP PROJECTED REFDR EXTENSION1 V4.0"
DETECTOR_ID = MEX_HRSC_RED
EVENT_TYPE = "MARS-REGIONAL-MAPPING-Vo-Te-Fl"
INSTRUMENT_HOST_ID = MEX
INSTRUMENT_HOST_NAME = "MARS EXPRESS"
INSTRUMENT_ID = HRSC
INSTRUMENT_NAME = "HIGH RESOLUTION STEREO CAMERA"
MISSION_NAME = "MARS EXPRESS"
MISSION_PHASE_NAME = ME_Phase_7
PROCESSING_LEVEL_ID = 4
PRODUCT_CREATION_TIME = 2023-02-09T23:17:53.000Z
PRODUCT_ID = "H4150_0000_RE4.TIF"
RELEASE_ID = 0005
REVISION_ID = 0000
/* QUALITY DATA ELEMENTS */
DATA_QUALITY_ID = 1
DATA_QUALITY_DESC = "Data calculated based on original SPICE kernels"
/* TIME DATA ELEMENTS */
SPACECRAFT_CLOCK_START_COUNT = "1/0123356620.08227"
SPACECRAFT_CLOCK_STOP_COUNT = "1/0123356918.14769"
START_TIME = 2007-03-30T17:43:50.427Z
STOP_TIME = 2007-03-30T17:47:48.424Z
/* ORBITAL DATA ELEMENTS */
ASCENDING_NODE_LONGITUDE = 141.36
MAXIMUM_RESOLUTION = 0.1045
FOOTPRINT_POINT_LATITUDE = (-27.2216,-27.2781,-27.3172,-27.3524, -27.3535,-27.3358,-26.8013,-26.4445, -26.1073,-25.8062,-25.3531,-25.0511, -24.7478,-24.4448,-23.9899,-23.5314, -23.2273,-22.9219,-22.6166,-22.3076, -22.0036,-21.6963,-21.3892,-21.0814, -20.7731,-20.4643,-20.1595,-19.8608, -19.5602,-19.2599,-18.9603,-18.6596, -18.3532,-17.9005,-17.5981,-17.2962, -16.8441,-16.2585,-15.524,-14.9354, -14.6404,-14.3457,-14.0507,-13.7556, -13.3123,-13.0162,-12.572,-12.2758, -12.127,-12.0587,-12.0256,-11.9891, -11.9292,-11.9278,-11.9285,-12.2249, -12.5211,-12.8171,-13.2609,-13.7037, -13.9991,-14.2942,-14.5894,-15.0304, -15.6199,-15.9273,-16.5188,-16.9632, -17.2631,-17.5627,-17.8633,-18.1621, -18.6087,-18.9047,-19.3561,-19.6604, -19.9576,-20.2625,-20.5728,-20.8811, -21.3418,-21.6495,-21.9569,-22.417, -22.7229,-23.0243,-23.3336,-23.6373, -24.0902,-24.3931,-24.6966,-25.0019, -25.3024,-25.6038,-25.9042,-26.2307, -26.5881,-26.9444,-27.1226,-27.2216)
FOOTPRINT_POINT_LONGITUDE = (212.345,211.728,211.269,210.828, 210.815,210.82,210.825,210.828,210.83, 210.833,210.837,210.84,210.842,210.844, 210.847,210.851,210.852,210.854,210.855 ,210.858,210.857,210.858,210.859, 210.859,210.86,210.861,210.86,210.86, 210.86,210.861,210.86,210.86,210.864, 210.863,210.863,210.863,210.862,210.86, 210.858,210.856,210.855,210.854,210.853 ,210.851,210.849,210.848,210.845, 210.844,210.843,210.843,211.166,211.506 ,212.046,212.059,212.067,212.071, 212.074,212.078,212.084,212.09,212.094, 212.098,212.102,212.11,212.117,212.101, 212.104,212.111,212.12,212.13,212.137, 212.146,212.162,212.175,212.182,212.182 ,212.191,212.197,212.201,212.207, 212.219,212.225,212.231,212.241,212.248 ,212.261,212.262,212.271,212.286, 212.294,212.301,212.305,212.315,212.323 ,212.331,212.339,212.35,212.361,212.366 ,212.345)
ORBIT_NUMBER = 4150
ORBITAL_ECCENTRICITY = 0.571
ORBITAL_INCLINATION = 86.68
ORBITAL_SEMIMAJOR_AXIS = 8619.22
PERIAPSIS_ALTITUDE = 302.91
PERIAPSIS_ARGUMENT_ANGLE = 347.07
PERIAPSIS_TIME = 2007-03-30T17:47:59.000Z
SPACECRAFT_ORIENTATION = (0.0,1.0,0.0)
^MEX_ORIENTATION_DESC = "MEX_ORIENTATION_DESC.TXT"
SPACECRAFT_POINTING_MODE = ACROSSTRACK
^MEX_POINTING_DESC = "MEX_POINTING_DESC.TXT"
RIGHT_ASCENSION = -1e+32
DECLINATION = -1e+32
OFFSET_ANGLE = -1.74
SPACECRAFT_SOLAR_DISTANCE = 2.11117e+08
TARGET_NAME = MARS
/* CAMERA DATA ELEMENTS */
DETECTOR_TEMPERATURE = 18.7783
FOCAL_PLANE_TEMPERATURE = 8.7872
INST_CMPRS_NAME = "DISCRETE COSINE TRANSFORMATION (DCT)"
INST_CMPRS_RATIO = 7.99309
INST_CMPRS_QUALITY = 0
INST_CMPRS_QUANTZ_TBL_ID = 0
INSTRUMENT_TEMPERATURE = 11.4379
LENS_TEMPERATURE = 8.9911
MACROPIXEL_SIZE = 8
MISSING_FRAMES = 0
PIXEL_SUBSAMPLING_FLAG = N
SIGNAL_CHAIN_ID = 2
/* RADIOMETRIC DATA ELEMENTS */
BANDWIDTH = 48.0
CENTER_FILTER_WAVELENGTH = 748.0
RADIANCE_OFFSET = 0.977146
RADIANCE_SCALING_FACTOR = 0.00557719
REFLECTANCE_SCALING_FACTOR = 0.000567267
MEX:REFLECTANCE_OFFSET = 0.0993875
/* IMAGE OBJECT DEFINITIONS */
OBJECT = IMAGE
  INTERCHANGE_FORMAT = BINARY
  LINES = 9052
  LINE_SAMPLES = 804
  SAMPLE_TYPE = UNSIGNED_INTEGER
  SAMPLE_BITS = 8
  BANDS = 1
  BAND_STORAGE_TYPE = BAND_SEQUENTIAL
  MAXIMUM = 255
  MEAN = 110.279
  MINIMUM = 1
  STANDARD_DEVIATION = 21.4954
END_OBJECT = IMAGE
/* MAP OBJECT DEFINITIONS */
OBJECT = IMAGE_MAP_PROJECTION
  ^DATA_SET_MAP_PROJECTION_CATALOG= "DSMAP.CAT"
  A_AXIS_RADIUS = 3396.0
  B_AXIS_RADIUS = 3396.0
  C_AXIS_RADIUS = 3396.0
  CENTER_LATITUDE = 0.0
  CENTER_LONGITUDE = 211.0
  COORDINATE_SYSTEM_NAME = PLANETOGRAPHIC
  COORDINATE_SYSTEM_TYPE = "BODY-FIXED ROTATING"
  EASTERNMOST_LONGITUDE = 212.366
  FIRST_STANDARD_PARALLEL = "N/A"
  LINE_FIRST_PIXEL = 1
  LINE_LAST_PIXEL = 9052
  LINE_PROJECTION_OFFSET = -7110.6875
  MAP_PROJECTION_ROTATION = 0.0
  MAP_PROJECTION_TYPE = SINUSOIDAL
  MAP_RESOLUTION = 592.713803866667
  MAP_SCALE = 0.1
  MAXIMUM_LATITUDE = -11.9278
  MINIMUM_LATITUDE = -27.3535
  POSITIVE_LONGITUDE_DIRECTION = EAST
  REFERENCE_LATITUDE = "N/A"
  REFERENCE_LONGITUDE = "N/A"
  SAMPLE_FIRST_PIXEL = 1
  SAMPLE_LAST_PIXEL = 804
  SAMPLE_PROJECTION_OFFSET = 98.9375
  SECOND_STANDARD_PARALLEL = "N/A"
  WESTERNMOST_LONGITUDE = 210.815
END_OBJECT = IMAGE_MAP_PROJECTION
END
