PDS_VERSION_ID = PDS3
/* FILE DATA ELEMENTS */
RECORD_TYPE = UNDEFINED
/* POINTERS TO DATA OBJECTS */
^IMAGE = ("H4157_0000_ND4.TIF")
/* IDENTIFICATION DATA ELEMENTS */
DATA_SET_ID = "MEX-M-HRSC-4-REFDR-MAPPROJECT-EXT1-V4.0"
DATA_SET_NAME = "MARS EXPRESS HRSC MAP PROJECTED REFDR EXTENSION1 V4.0"
DETECTOR_ID = MEX_HRSC_NADIR
EVENT_TYPE = "MARS-REGIONAL-MAPPING-Vo-Im"
INSTRUMENT_HOST_ID = MEX
INSTRUMENT_HOST_NAME = "MARS EXPRESS"
INSTRUMENT_ID = HRSC
INSTRUMENT_NAME = "HIGH RESOLUTION STEREO CAMERA"
MISSION_NAME = "MARS EXPRESS"
MISSION_PHASE_NAME = ME_Phase_7
PROCESSING_LEVEL_ID = 4
PRODUCT_CREATION_TIME = 2023-02-09T23:17:53.000Z
PRODUCT_ID = "H4157_0000_ND4.TIF"
RELEASE_ID = 0005
REVISION_ID = 0000
/* QUALITY DATA ELEMENTS */
DATA_QUALITY_ID = 1
DATA_QUALITY_DESC = "Data calculated based on original SPICE kernels"
/* TIME DATA ELEMENTS */
SPACECRAFT_CLOCK_START_COUNT = "1/0123525766.09052"
SPACECRAFT_CLOCK_STOP_COUNT = "1/0123526122.33930"
START_TIME = 2007-04-01T16:43:35.312Z
STOP_TIME = 2007-04-01T16:48:17.332Z
/* ORBITAL DATA ELEMENTS */
ASCENDING_NODE_LONGITUDE = 141.21
MAXIMUM_RESOLUTION = 0.0123
FOOTPRINT_POINT_LATITUDE = (-38.9011,-38.8913,-38.878,-38.8585, -38.8579,-38.8563,-38.2241,-37.8049, -37.3921,-36.7761,-36.3717,-35.9666, -35.5709,-35.1747,-34.7778,-34.38, -33.9815,-33.5823,-33.1823,-32.7816, -32.3802,-31.9781,-31.5753,-31.1835, -30.8449,-30.506,-30.1665,-29.8267, -29.4864,-29.1457,-28.8045,-28.463, -28.1211,-27.7787,-27.436,-27.093, -26.7495,-26.4088,-26.0757,-25.7424, -25.4088,-25.0748,-24.7406,-24.4067, -23.7592,-23.1107,-22.4614,-21.4975, -21.0259,-20.8686,-20.8604,-20.8652, -20.8681,-20.8681,-20.8683,-21.8123, -22.4625,-23.1126,-23.7618,-24.4101, -24.7442,-25.0789,-25.4133,-25.7474, -26.0812,-26.4147,-26.7557,-27.0996, -27.4432,-27.7865,-28.1294,-28.4719, -28.814,-29.1557,-29.4971,-29.838, -30.1785,-30.5186,-30.8583,-31.1975, -31.5885,-31.9922,-32.3952,-32.7976, -33.1992,-33.6002,-34.0004,-34.3999, -34.7987,-35.1969,-35.5943,-36.1941, -36.6001,-37.0056,-37.4206,-37.8348, -38.2551,-38.6779,-38.8894,-38.9011)
FOOTPRINT_POINT_LONGITUDE = (241.934,241.349,240.74,240.031,240.011 ,239.985,240.034,240.063,240.09,240.132 ,240.158,240.185,240.21,240.233,240.256 ,240.279,240.3,240.322,240.342,240.363, 240.382,240.401,240.42,240.438,240.452, 240.467,240.481,240.494,240.508,240.521 ,240.533,240.546,240.558,240.57,240.581 ,240.592,240.603,240.614,240.624, 240.633,240.643,240.652,240.661,240.669 ,240.685,240.7,240.715,240.734,240.743, 240.746,240.746,241.319,241.883,241.894 ,241.899,241.901,241.903,241.904, 241.906,241.907,241.908,241.909,241.909 ,241.91,241.911,241.912,241.913,241.914 ,241.914,241.915,241.916,241.917, 241.918,241.919,241.919,241.92,241.921, 241.922,241.923,241.923,241.924,241.925 ,241.926,241.927,241.928,241.929,241.93 ,241.931,241.932,241.932,241.931, 241.933,241.934,241.936,241.936,241.936 ,241.937,241.937,241.938,241.934)
ORBIT_NUMBER = 4157
ORBITAL_ECCENTRICITY = 0.572
ORBITAL_INCLINATION = 86.68
ORBITAL_SEMIMAJOR_AXIS = 8630.27
PERIAPSIS_ALTITUDE = 301.92
PERIAPSIS_ARGUMENT_ANGLE = 345.81
PERIAPSIS_TIME = 2007-04-01T16:50:00.000Z
SPACECRAFT_ORIENTATION = (0.0,1.0,0.0)
^MEX_ORIENTATION_DESC = "MEX_ORIENTATION_DESC.TXT"
SPACECRAFT_POINTING_MODE = ACROSSTRACK
^MEX_POINTING_DESC = "MEX_POINTING_DESC.TXT"
RIGHT_ASCENSION = -1e+32
DECLINATION = -1e+32
OFFSET_ANGLE = 0.38
SPACECRAFT_SOLAR_DISTANCE = 2.10868e+08
TARGET_NAME = MARS
/* CAMERA DATA ELEMENTS */
DETECTOR_TEMPERATURE = 18.5744
FOCAL_PLANE_TEMPERATURE = 9.195
INST_CMPRS_NAME = "DISCRETE COSINE TRANSFORMATION (DCT)"
INST_CMPRS_RATIO = 6.7359
INST_CMPRS_QUALITY = 0
INST_CMPRS_QUANTZ_TBL_ID = 0
INSTRUMENT_TEMPERATURE = 11.234
LENS_TEMPERATURE = 10.4184
MACROPIXEL_SIZE = 1
MISSING_FRAMES = 0
PIXEL_SUBSAMPLING_FLAG = N
SIGNAL_CHAIN_ID = 0
/* RADIOMETRIC DATA ELEMENTS */
BANDWIDTH = 177.0
CENTER_FILTER_WAVELENGTH = 677.5
RADIANCE_OFFSET = 2.43068
RADIANCE_SCALING_FACTOR = 0.0227181
REFLECTANCE_SCALING_FACTOR = 0.000536635
MEX:REFLECTANCE_OFFSET = 0.0574162
/* IMAGE OBJECT DEFINITIONS */
OBJECT = IMAGE
  INTERCHANGE_FORMAT = BINARY
  LINES = 85542
  LINE_SAMPLES = 7735
  SAMPLE_TYPE = UNSIGNED_INTEGER
  SAMPLE_BITS = 8
  BANDS = 1
  BAND_STORAGE_TYPE = BAND_SEQUENTIAL
  MAXIMUM = 255
  MEAN = 92.6161
  MINIMUM = 1
  STANDARD_DEVIATION = 18.048
END_OBJECT = IMAGE
/* MAP OBJECT DEFINITIONS */
OBJECT = IMAGE_MAP_PROJECTION
  ^DATA_SET_MAP_PROJECTION_CATALOG= "DSMAP.CAT"
  A_AXIS_RADIUS = 3396.0
  B_AXIS_RADIUS = 3396.0
  C_AXIS_RADIUS = 3396.0
  CENTER_LATITUDE = 0.0
  CENTER_LONGITUDE = 241.0
  COORDINATE_SYSTEM_NAME = PLANETOGRAPHIC
  COORDINATE_SYSTEM_TYPE = "BODY-FIXED ROTATING"
  EASTERNMOST_LONGITUDE = 241.938
  FIRST_STANDARD_PARALLEL = "N/A"
  LINE_FIRST_PIXEL = 1
  LINE_LAST_PIXEL = 85542
  LINE_PROJECTION_OFFSET = -98914.0
  MAP_PROJECTION_ROTATION = 0.0
  MAP_PROJECTION_TYPE = SINUSOIDAL
  MAP_RESOLUTION = 4741.71043093333
  MAP_SCALE = 0.0125
  MAXIMUM_LATITUDE = -20.8604
  MINIMUM_LATITUDE = -38.9011
  POSITIVE_LONGITUDE_DIRECTION = EAST
  REFERENCE_LATITUDE = "N/A"
  REFERENCE_LONGITUDE = "N/A"
  SAMPLE_FIRST_PIXEL = 1
  SAMPLE_LAST_PIXEL = 7735
  SAMPLE_PROJECTION_OFFSET = 3746.0
  SECOND_STANDARD_PARALLEL = "N/A"
  WESTERNMOST_LONGITUDE = 239.985
END_OBJECT = IMAGE_MAP_PROJECTION
END
