PDS_VERSION_ID = PDS3
/* FILE DATA ELEMENTS */
RECORD_TYPE = UNDEFINED
/* POINTERS TO DATA OBJECTS */
^IMAGE = ("H4160_0000_IR4.TIF")
/* IDENTIFICATION DATA ELEMENTS */
DATA_SET_ID = "MEX-M-HRSC-4-REFDR-MAPPROJECT-EXT1-V4.0"
DATA_SET_NAME = "MARS EXPRESS HRSC MAP PROJECTED REFDR EXTENSION1 V4.0"
DETECTOR_ID = MEX_HRSC_IR
EVENT_TYPE = "MARS-LOCAL-STEREO-Fl-Lc-La"
INSTRUMENT_HOST_ID = MEX
INSTRUMENT_HOST_NAME = "MARS EXPRESS"
INSTRUMENT_ID = HRSC
INSTRUMENT_NAME = "HIGH RESOLUTION STEREO CAMERA"
MISSION_NAME = "MARS EXPRESS"
MISSION_PHASE_NAME = ME_Phase_7
PROCESSING_LEVEL_ID = 4
PRODUCT_CREATION_TIME = 2023-02-09T23:17:53.000Z
PRODUCT_ID = "H4160_0000_IR4.TIF"
RELEASE_ID = 0005
REVISION_ID = 0000
/* QUALITY DATA ELEMENTS */
DATA_QUALITY_ID = 1
DATA_QUALITY_DESC = "Data calculated based on original SPICE kernels"
/* TIME DATA ELEMENTS */
SPACECRAFT_CLOCK_START_COUNT = "1/0123598685.07289"
SPACECRAFT_CLOCK_STOP_COUNT = "1/0123598935.63554"
START_TIME = 2007-04-02T12:58:59.470Z
STOP_TIME = 2007-04-02T13:02:13.055Z
/* ORBITAL DATA ELEMENTS */
ASCENDING_NODE_LONGITUDE = 141.15
MAXIMUM_RESOLUTION = 0.0502
FOOTPRINT_POINT_LATITUDE = (-18.0921,-18.0787,-18.0686,-18.0584, -18.0581,-18.0588,-17.8096,-17.5606, -17.3104,-17.0613,-16.6904,-16.3157, -16.0757,-15.6051,-15.3598,-15.1044, -14.7417,-14.4944,-14.2336,-13.9679, -13.718,-13.4715,-13.2256,-12.9795, -12.7329,-12.4866,-12.1117,-11.8566, -11.4743,-11.0926,-10.8381,-10.5849, -10.3312,-9.95013,-9.69808,-9.44626, -9.0684,-8.81743,-8.43982,-8.18814, -7.937,-7.5503,-7.29073,-6.90125, -6.64183,-6.38274,-5.99502,-5.60838, -5.48006,-5.42795,-5.43401,-5.44305, -5.45816,-5.45846,-5.45935,-5.71709, -5.97443,-6.23337,-6.49204,-6.75187, -7.14172,-7.41332,-7.6855,-7.9464, -8.32195,-8.57426,-9.05219,-9.42978, -9.68359,-9.9336,-10.1874,-10.5683, -10.8221,-11.0758,-11.3305,-11.5851, -11.9667,-12.2218,-12.4707,-12.7167, -12.9635,-13.2165,-13.461,-13.7193, -14.1051,-14.3533,-14.6021,-14.9706, -15.2197,-15.7053,-16.058,-16.3032, -16.551,-16.7991,-17.0473,-17.2956, -17.5445,-17.9188,-18.0435,-18.0921)
FOOTPRINT_POINT_LONGITUDE = (308.075,307.628,307.294,306.964, 306.954,306.952,306.952,306.953,306.954 ,306.955,306.955,306.956,306.956, 306.957,306.957,306.957,306.957,306.957 ,306.956,306.955,306.955,306.954, 306.954,306.953,306.952,306.951,306.95, 306.949,306.947,306.945,306.944,306.943 ,306.941,306.939,306.937,306.935, 306.932,306.931,306.927,306.925,306.923 ,306.92,306.917,306.913,306.911,306.908 ,306.904,306.9,306.898,306.898,307.138, 307.478,308.03,308.041,308.045,308.045, 308.044,308.044,308.044,308.044,308.044 ,308.053,308.063,308.064,308.063, 308.064,308.044,308.044,308.045,308.043 ,308.043,308.045,308.045,308.045, 308.046,308.047,308.048,308.049,308.05, 308.05,308.052,308.058,308.057,308.067, 308.08,308.082,308.085,308.084,308.087, 308.081,308.068,308.066,308.067,308.069 ,308.07,308.071,308.072,308.075,308.076 ,308.075)
ORBIT_NUMBER = 4160
ORBITAL_ECCENTRICITY = 0.571
ORBITAL_INCLINATION = 86.68
ORBITAL_SEMIMAJOR_AXIS = 8616.98
PERIAPSIS_ALTITUDE = 302.27
PERIAPSIS_ARGUMENT_ANGLE = 345.33
PERIAPSIS_TIME = 2007-04-02T12:59:30.000Z
SPACECRAFT_ORIENTATION = (0.0,1.0,0.0)
^MEX_ORIENTATION_DESC = "MEX_ORIENTATION_DESC.TXT"
SPACECRAFT_POINTING_MODE = ACROSSTRACK
^MEX_POINTING_DESC = "MEX_POINTING_DESC.TXT"
RIGHT_ASCENSION = -1e+32
DECLINATION = -1e+32
OFFSET_ANGLE = -0.55
SPACECRAFT_SOLAR_DISTANCE = 2.10763e+08
TARGET_NAME = MARS
/* CAMERA DATA ELEMENTS */
DETECTOR_TEMPERATURE = 17.5549
FOCAL_PLANE_TEMPERATURE = 7.3599
INST_CMPRS_NAME = "DISCRETE COSINE TRANSFORMATION (DCT)"
INST_CMPRS_RATIO = 8.34707
INST_CMPRS_QUALITY = 0
INST_CMPRS_QUANTZ_TBL_ID = 0
INSTRUMENT_TEMPERATURE = 11.4379
LENS_TEMPERATURE = 9.6028
MACROPIXEL_SIZE = 4
MISSING_FRAMES = 0
PIXEL_SUBSAMPLING_FLAG = N
SIGNAL_CHAIN_ID = 2
/* RADIOMETRIC DATA ELEMENTS */
BANDWIDTH = 81.0
CENTER_FILTER_WAVELENGTH = 955.5
RADIANCE_OFFSET = 0.516755
RADIANCE_SCALING_FACTOR = 0.00313185
REFLECTANCE_SCALING_FACTOR = 0.000300135
MEX:REFLECTANCE_OFFSET = 0.0495223
/* IMAGE OBJECT DEFINITIONS */
OBJECT = IMAGE
  INTERCHANGE_FORMAT = BINARY
  LINES = 14995
  LINE_SAMPLES = 1353
  SAMPLE_TYPE = UNSIGNED_INTEGER
  SAMPLE_BITS = 8
  BANDS = 1
  BAND_STORAGE_TYPE = BAND_SEQUENTIAL
  MAXIMUM = 255
  MEAN = 91.362
  MINIMUM = 1
  STANDARD_DEVIATION = 23.8747
END_OBJECT = IMAGE
/* MAP OBJECT DEFINITIONS */
OBJECT = IMAGE_MAP_PROJECTION
  ^DATA_SET_MAP_PROJECTION_CATALOG= "DSMAP.CAT"
  A_AXIS_RADIUS = 3396.0
  B_AXIS_RADIUS = 3396.0
  C_AXIS_RADIUS = 3396.0
  CENTER_LATITUDE = 0.0
  CENTER_LONGITUDE = 307.0
  COORDINATE_SYSTEM_NAME = PLANETOGRAPHIC
  COORDINATE_SYSTEM_TYPE = "BODY-FIXED ROTATING"
  EASTERNMOST_LONGITUDE = 308.087
  FIRST_STANDARD_PARALLEL = "N/A"
  LINE_FIRST_PIXEL = 1
  LINE_LAST_PIXEL = 14995
  LINE_PROJECTION_OFFSET = -6458.875
  MAP_PROJECTION_ROTATION = 0.0
  MAP_PROJECTION_TYPE = SINUSOIDAL
  MAP_RESOLUTION = 1185.42760773333
  MAP_SCALE = 0.05
  MAXIMUM_LATITUDE = -5.42795
  MINIMUM_LATITUDE = -18.0921
  POSITIVE_LONGITUDE_DIRECTION = EAST
  REFERENCE_LATITUDE = "N/A"
  REFERENCE_LONGITUDE = "N/A"
  SAMPLE_FIRST_PIXEL = 1
  SAMPLE_LAST_PIXEL = 1353
  SAMPLE_PROJECTION_OFFSET = 115.125
  SECOND_STANDARD_PARALLEL = "N/A"
  WESTERNMOST_LONGITUDE = 306.898
END_OBJECT = IMAGE_MAP_PROJECTION
END
