PDS_VERSION_ID = PDS3
/* FILE DATA ELEMENTS */
RECORD_TYPE = UNDEFINED
/* POINTERS TO DATA OBJECTS */
^IMAGE = ("H4171_0000_S24.TIF")
/* IDENTIFICATION DATA ELEMENTS */
DATA_SET_ID = "MEX-M-HRSC-4-REFDR-MAPPROJECT-EXT1-V4.0"
DATA_SET_NAME = "MARS EXPRESS HRSC MAP PROJECTED REFDR EXTENSION1 V4.0"
DETECTOR_ID = MEX_HRSC_S2
EVENT_TYPE = "MARS-LOCAL-STEREO-Fl-Lc-La"
INSTRUMENT_HOST_ID = MEX
INSTRUMENT_HOST_NAME = "MARS EXPRESS"
INSTRUMENT_ID = HRSC
INSTRUMENT_NAME = "HIGH RESOLUTION STEREO CAMERA"
MISSION_NAME = "MARS EXPRESS"
MISSION_PHASE_NAME = ME_Phase_7
PROCESSING_LEVEL_ID = 4
PRODUCT_CREATION_TIME = 2023-02-09T23:17:53.000Z
PRODUCT_ID = "H4171_0000_S24.TIF"
RELEASE_ID = 0005
REVISION_ID = 0000
/* QUALITY DATA ELEMENTS */
DATA_QUALITY_ID = 1
DATA_QUALITY_DESC = "Data calculated based on original SPICE kernels"
/* TIME DATA ELEMENTS */
SPACECRAFT_CLOCK_START_COUNT = "1/0123864789.07308"
SPACECRAFT_CLOCK_STOP_COUNT = "1/0123865039.63366"
START_TIME = 2007-04-05T14:53:13.306Z
STOP_TIME = 2007-04-05T14:56:23.778Z
/* ORBITAL DATA ELEMENTS */
ASCENDING_NODE_LONGITUDE = 140.92
MAXIMUM_RESOLUTION = 0.0255
FOOTPRINT_POINT_LATITUDE = (-18.0142,-18.0309,-18.0431,-18.0538, -18.0541,-18.052,-17.719,-17.3832, -17.1555,-16.9331,-16.6085,-16.3859, -16.05,-15.8262,-15.5935,-15.3337, -14.9126,-14.6834,-14.2257,-13.9215, -13.6973,-13.3598,-13.1349,-12.7978, -12.5725,-12.3482,-12.1223,-11.8968, -11.5585,-10.2884,-9.93956,-9.70417, -9.35169,-9.1161,-8.88153,-8.64604, -8.29321,-8.05771,-7.82245,-7.46947, -7.23393,-6.99857,-6.7635,-6.52834, -6.29296,-6.05746,-5.81437,-5.57021, -5.44807,-5.42737,-5.41513,-5.40121, -5.38095,-5.38045,-5.38068,-5.74833, -5.99224,-6.34526,-6.58056,-6.81565, -7.16835,-7.40361,-7.63909,-7.99226, -8.22771,-8.46249,-8.6981,-8.93352, -9.17035,-9.40668,-9.64239,-9.99597, -10.2261,-10.4793,-11.6083,-11.8336, -12.0587,-12.2839,-12.6212,-12.8464, -13.0712,-13.2963,-13.5218,-13.7471, -14.187,-14.491,-14.8336,-15.068, -15.4964,-15.8584,-16.0925,-16.4387, -16.6583,-16.884,-17.2172,-17.439, -17.6604,-17.8826,-17.9934,-18.0142)
FOOTPRINT_POINT_LONGITUDE = (307.086,306.664,306.315,305.97,305.959 ,305.956,305.958,305.959,305.96,305.961 ,305.962,305.962,305.963,305.964, 305.964,305.964,305.965,305.965,305.965 ,305.965,305.965,305.964,305.964, 305.963,305.963,305.962,305.961,305.961 ,305.96,305.954,305.952,305.951,305.949 ,305.947,305.946,305.944,305.941,305.94 ,305.938,305.935,305.933,305.931, 305.929,305.927,305.924,305.922,305.92, 305.917,305.916,305.916,306.227,306.575 ,307.029,307.04,307.044,307.043,307.043 ,307.044,307.044,307.044,307.045, 307.045,307.045,307.045,307.046,307.046 ,307.046,307.046,307.046,307.046, 307.046,307.046,307.046,307.048,307.052 ,307.053,307.054,307.055,307.057, 307.058,307.059,307.06,307.061,307.062, 307.069,307.09,307.088,307.084,307.098, 307.084,307.079,307.074,307.078,307.078 ,307.081,307.083,307.085,307.086, 307.087,307.086)
ORBIT_NUMBER = 4171
ORBITAL_ECCENTRICITY = 0.571
ORBITAL_INCLINATION = 86.68
ORBITAL_SEMIMAJOR_AXIS = 8615.58
PERIAPSIS_ALTITUDE = 301.41
PERIAPSIS_ARGUMENT_ANGLE = 343.38
PERIAPSIS_TIME = 2007-04-05T14:54:03.000Z
SPACECRAFT_ORIENTATION = (0.0,1.0,0.0)
^MEX_ORIENTATION_DESC = "MEX_ORIENTATION_DESC.TXT"
SPACECRAFT_POINTING_MODE = ACROSSTRACK
^MEX_POINTING_DESC = "MEX_POINTING_DESC.TXT"
RIGHT_ASCENSION = -1e+32
DECLINATION = -1e+32
OFFSET_ANGLE = -0.5
SPACECRAFT_SOLAR_DISTANCE = 2.10388e+08
TARGET_NAME = MARS
/* CAMERA DATA ELEMENTS */
DETECTOR_TEMPERATURE = 18.7783
FOCAL_PLANE_TEMPERATURE = 8.9911
INST_CMPRS_NAME = "DISCRETE COSINE TRANSFORMATION (DCT)"
INST_CMPRS_RATIO = 11.2295
INST_CMPRS_QUALITY = 0
INST_CMPRS_QUANTZ_TBL_ID = 0
INSTRUMENT_TEMPERATURE = 11.4379
LENS_TEMPERATURE = 9.195
MACROPIXEL_SIZE = 2
PIXEL_SUBSAMPLING_FLAG = N
SIGNAL_CHAIN_ID = 1
/* RADIOMETRIC DATA ELEMENTS */
BANDWIDTH = 178.0
CENTER_FILTER_WAVELENGTH = 679.0
RADIANCE_OFFSET = 3.10367
RADIANCE_SCALING_FACTOR = 0.0113121
REFLECTANCE_SCALING_FACTOR = 0.000265166
MEX:REFLECTANCE_OFFSET = 0.0727527
/* IMAGE OBJECT DEFINITIONS */
OBJECT = IMAGE
  INTERCHANGE_FORMAT = BINARY
  LINES = 29953
  LINE_SAMPLES = 2723
  SAMPLE_TYPE = UNSIGNED_INTEGER
  SAMPLE_BITS = 8
  BANDS = 1
  BAND_STORAGE_TYPE = BAND_SEQUENTIAL
  MAXIMUM = 255
  MEAN = 101.709
  MINIMUM = 1
  STANDARD_DEVIATION = 26.2832
END_OBJECT = IMAGE
/* MAP OBJECT DEFINITIONS */
OBJECT = IMAGE_MAP_PROJECTION
  ^DATA_SET_MAP_PROJECTION_CATALOG= "DSMAP.CAT"
  A_AXIS_RADIUS = 3396.0
  B_AXIS_RADIUS = 3396.0
  C_AXIS_RADIUS = 3396.0
  CENTER_LATITUDE = 0.0
  CENTER_LONGITUDE = 306.0
  COORDINATE_SYSTEM_NAME = PLANETOGRAPHIC
  COORDINATE_SYSTEM_TYPE = "BODY-FIXED ROTATING"
  EASTERNMOST_LONGITUDE = 307.098
  FIRST_STANDARD_PARALLEL = "N/A"
  LINE_FIRST_PIXEL = 1
  LINE_LAST_PIXEL = 29953
  LINE_PROJECTION_OFFSET = -12805.25
  MAP_PROJECTION_ROTATION = 0.0
  MAP_PROJECTION_TYPE = SINUSOIDAL
  MAP_RESOLUTION = 2370.85521546667
  MAP_SCALE = 0.025
  MAXIMUM_LATITUDE = -5.38045
  MINIMUM_LATITUDE = -18.0541
  POSITIVE_LONGITUDE_DIRECTION = EAST
  REFERENCE_LATITUDE = "N/A"
  REFERENCE_LONGITUDE = "N/A"
  SAMPLE_FIRST_PIXEL = 1
  SAMPLE_LAST_PIXEL = 2723
  SAMPLE_PROJECTION_OFFSET = 229.25
  SECOND_STANDARD_PARALLEL = "N/A"
  WESTERNMOST_LONGITUDE = 305.916
END_OBJECT = IMAGE_MAP_PROJECTION
END
