PDS_VERSION_ID = PDS3
/* FILE DATA ELEMENTS */
RECORD_TYPE = UNDEFINED
/* POINTERS TO DATA OBJECTS */
^IMAGE = ("H4178_0000_RE4.TIF")
/* IDENTIFICATION DATA ELEMENTS */
DATA_SET_ID = "MEX-M-HRSC-4-REFDR-MAPPROJECT-EXT1-V4.0"
DATA_SET_NAME = "MARS EXPRESS HRSC MAP PROJECTED REFDR EXTENSION1 V4.0"
DETECTOR_ID = MEX_HRSC_RED
EVENT_TYPE = "MARS-LOCAL-STEREO-Fl-Mw-La"
INSTRUMENT_HOST_ID = MEX
INSTRUMENT_HOST_NAME = "MARS EXPRESS"
INSTRUMENT_ID = HRSC
INSTRUMENT_NAME = "HIGH RESOLUTION STEREO CAMERA"
MISSION_NAME = "MARS EXPRESS"
MISSION_PHASE_NAME = ME_Phase_7
PROCESSING_LEVEL_ID = 4
PRODUCT_CREATION_TIME = 2023-02-09T23:17:53.000Z
PRODUCT_ID = "H4178_0000_RE4.TIF"
RELEASE_ID = 0005
REVISION_ID = 0000
/* QUALITY DATA ELEMENTS */
DATA_QUALITY_ID = 1
DATA_QUALITY_DESC = "Data calculated based on original SPICE kernels"
/* TIME DATA ELEMENTS */
SPACECRAFT_CLOCK_START_COUNT = "1/0124034146.09043"
SPACECRAFT_CLOCK_STOP_COUNT = "1/0124034386.59472"
START_TIME = 2007-04-07T13:55:54.796Z
STOP_TIME = 2007-04-07T13:58:53.703Z
/* ORBITAL DATA ELEMENTS */
ASCENDING_NODE_LONGITUDE = 140.78
MAXIMUM_RESOLUTION = 0.1013
FOOTPRINT_POINT_LATITUDE = (-16.5154,-16.5119,-16.5061,-16.506, -16.4898,-16.1467,-15.8031,-15.4604, -15.232,-15.0041,-14.7746,-14.5442, -14.3143,-14.0865,-13.7425,-13.5115, -13.2817,-12.8253,-12.4561,-12.2259, -11.9953,-11.6141,-11.382,-11.0398, -10.8103,-10.4614,-10.2238,-9.98454, -9.74646,-9.50653,-9.26768,-8.91333, -8.67613,-8.43749,-8.19809,-7.95956, -7.60176,-7.36258,-7.12479,-6.88314, -6.63373,-6.38729,-6.13954,-5.89513, -5.64937,-5.40229,-5.15415,-4.78313, -4.66026,-4.60422,-4.60517,-4.60525, -4.60494,-4.60492,-4.60656,-4.85387, -5.22445,-5.47243,-5.72013,-5.96357, -6.2104,-6.45824,-6.70542,-6.95211, -7.19511,-7.55465,-7.90976,-8.26562, -8.50345,-8.73932,-8.98262,-9.22198, -9.57851,-9.81649,-10.0557,-10.4135, -10.6495,-10.9952,-11.2265,-11.4562, -11.6868,-11.9166,-12.1825,-12.5531, -12.8971,-13.127,-13.4715,-13.7006, -13.9305,-14.1583,-14.3884,-14.6169, -14.847,-15.0766,-15.3069,-15.762, -15.9903,-16.3318,-16.4458,-16.5154)
FOOTPRINT_POINT_LONGITUDE = (338.582,338.013,337.513,337.502, 337.491,337.492,337.493,337.494,337.495 ,337.496,337.496,337.496,337.496, 337.497,337.497,337.496,337.496,337.497 ,337.496,337.495,337.495,337.494, 337.492,337.492,337.492,337.49,337.49, 337.488,337.487,337.486,337.484,337.484 ,337.483,337.481,337.479,337.478, 337.475,337.473,337.471,337.469,337.465 ,337.464,337.461,337.46,337.458,337.455 ,337.452,337.448,337.447,337.446, 337.693,338.071,338.577,338.587,338.594 ,338.594,338.593,338.592,338.591, 338.592,338.591,338.591,338.59,338.59, 338.588,338.587,338.588,338.588,338.588 ,338.588,338.587,338.586,338.586, 338.586,338.586,338.586,338.586,338.586 ,338.585,338.585,338.585,338.585, 338.585,338.585,338.585,338.585,338.585 ,338.585,338.585,338.585,338.585, 338.586,338.585,338.585,338.585,338.586 ,338.586,338.587,338.587,338.582)
ORBIT_NUMBER = 4178
ORBITAL_ECCENTRICITY = 0.571
ORBITAL_INCLINATION = 86.69
ORBITAL_SEMIMAJOR_AXIS = 8612.07
PERIAPSIS_ALTITUDE = 300.92
PERIAPSIS_ARGUMENT_ANGLE = 342.11
PERIAPSIS_TIME = 2007-04-07T13:55:57.000Z
SPACECRAFT_ORIENTATION = (0.0,1.0,0.0)
^MEX_ORIENTATION_DESC = "MEX_ORIENTATION_DESC.TXT"
SPACECRAFT_POINTING_MODE = ACROSSTRACK
^MEX_POINTING_DESC = "MEX_POINTING_DESC.TXT"
RIGHT_ASCENSION = -1e+32
DECLINATION = -1e+32
OFFSET_ANGLE = 0.1
SPACECRAFT_SOLAR_DISTANCE = 2.10158e+08
TARGET_NAME = MARS
/* CAMERA DATA ELEMENTS */
DETECTOR_TEMPERATURE = 19.1861
FOCAL_PLANE_TEMPERATURE = 10.4184
INST_CMPRS_NAME = "DISCRETE COSINE TRANSFORMATION (DCT)"
INST_CMPRS_RATIO = 12.8896
INST_CMPRS_QUALITY = 0
INST_CMPRS_QUANTZ_TBL_ID = 0
INSTRUMENT_TEMPERATURE = 12.0496
LENS_TEMPERATURE = 10.6223
MACROPIXEL_SIZE = 8
PIXEL_SUBSAMPLING_FLAG = N
SIGNAL_CHAIN_ID = 3
/* RADIOMETRIC DATA ELEMENTS */
BANDWIDTH = 48.0
CENTER_FILTER_WAVELENGTH = 748.0
RADIANCE_OFFSET = 0.886472
RADIANCE_SCALING_FACTOR = 0.00215383
REFLECTANCE_SCALING_FACTOR = 0.000217085
MEX:REFLECTANCE_OFFSET = 0.0893477
/* IMAGE OBJECT DEFINITIONS */
OBJECT = IMAGE
  INTERCHANGE_FORMAT = BINARY
  LINES = 7039
  LINE_SAMPLES = 699
  SAMPLE_TYPE = UNSIGNED_INTEGER
  SAMPLE_BITS = 8
  BANDS = 1
  BAND_STORAGE_TYPE = BAND_SEQUENTIAL
  MAXIMUM = 255
  MEAN = 128.43
  MINIMUM = 1
  STANDARD_DEVIATION = 27.3164
END_OBJECT = IMAGE
/* MAP OBJECT DEFINITIONS */
OBJECT = IMAGE_MAP_PROJECTION
  ^DATA_SET_MAP_PROJECTION_CATALOG= "DSMAP.CAT"
  A_AXIS_RADIUS = 3396.0
  B_AXIS_RADIUS = 3396.0
  C_AXIS_RADIUS = 3396.0
  CENTER_LATITUDE = 0.0
  CENTER_LONGITUDE = 338.0
  COORDINATE_SYSTEM_NAME = PLANETOGRAPHIC
  COORDINATE_SYSTEM_TYPE = "BODY-FIXED ROTATING"
  EASTERNMOST_LONGITUDE = 338.594
  FIRST_STANDARD_PARALLEL = "N/A"
  LINE_FIRST_PIXEL = 1
  LINE_LAST_PIXEL = 7039
  LINE_PROJECTION_OFFSET = -2738.8125
  MAP_PROJECTION_ROTATION = 0.0
  MAP_PROJECTION_TYPE = SINUSOIDAL
  MAP_RESOLUTION = 592.713803866667
  MAP_SCALE = 0.1
  MAXIMUM_LATITUDE = -4.60422
  MINIMUM_LATITUDE = -16.5154
  POSITIVE_LONGITUDE_DIRECTION = EAST
  REFERENCE_LATITUDE = "N/A"
  REFERENCE_LONGITUDE = "N/A"
  SAMPLE_FIRST_PIXEL = 1
  SAMPLE_LAST_PIXEL = 699
  SAMPLE_PROJECTION_OFFSET = 338.4375
  SECOND_STANDARD_PARALLEL = "N/A"
  WESTERNMOST_LONGITUDE = 337.446
END_OBJECT = IMAGE_MAP_PROJECTION
END
