PDS_VERSION_ID = PDS3
/* FILE DATA ELEMENTS */
RECORD_TYPE = UNDEFINED
/* POINTERS TO DATA OBJECTS */
^IMAGE = ("H4187_0000_S14.TIF")
/* IDENTIFICATION DATA ELEMENTS */
DATA_SET_ID = "MEX-M-HRSC-4-REFDR-MAPPROJECT-EXT1-V4.0"
DATA_SET_NAME = "MARS EXPRESS HRSC MAP PROJECTED REFDR EXTENSION1 V4.0"
DETECTOR_ID = MEX_HRSC_S1
EVENT_TYPE = "MARS-REGIONAL-MAPPING-Te-Fl-Mw"
INSTRUMENT_HOST_ID = MEX
INSTRUMENT_HOST_NAME = "MARS EXPRESS"
INSTRUMENT_ID = HRSC
INSTRUMENT_NAME = "HIGH RESOLUTION STEREO CAMERA"
MISSION_NAME = "MARS EXPRESS"
MISSION_PHASE_NAME = ME_Phase_7
PROCESSING_LEVEL_ID = 4
PRODUCT_CREATION_TIME = 2023-02-09T23:17:53.000Z
PRODUCT_ID = "H4187_0000_S14.TIF"
RELEASE_ID = 0005
REVISION_ID = 0000
/* QUALITY DATA ELEMENTS */
DATA_QUALITY_ID = 1
DATA_QUALITY_DESC = "Data calculated based on original SPICE kernels"
/* TIME DATA ELEMENTS */
SPACECRAFT_CLOCK_START_COUNT = "1/0124251385.07308"
SPACECRAFT_CLOCK_STOP_COUNT = "1/0124251741.41093"
START_TIME = 2007-04-10T02:17:59.184Z
STOP_TIME = 2007-04-10T02:22:23.758Z
/* ORBITAL DATA ELEMENTS */
ASCENDING_NODE_LONGITUDE = 140.58
MAXIMUM_RESOLUTION = 0.0266
FOOTPRINT_POINT_LATITUDE = (-46.2701,-46.2472,-46.2253,-46.2009, -46.2001,-46.2471,-45.6168,-45.2045, -44.5879,-44.187,-43.7873,-43.3926, -43.0046,-42.6096,-42.0204,-41.627, -41.0364,-40.6427,-40.2481,-39.6585, -39.0625,-38.6864,-38.355,-38.024, -37.5274,-37.0293,-36.697,-36.3651, -36.0333,-35.701,-35.2014,-34.868, -34.3686,-34.0337,-33.7055,-33.3828, -33.0588,-32.7355,-32.4117,-32.0883, -31.7684,-31.2994,-30.9866,-30.5178, -30.205,-29.8955,-29.5837,-28.8174, -28.6668,-28.6596,-28.6843,-28.6952, -28.6956,-28.6961,-28.9982,-29.2998, -29.6124,-30.0817,-30.5502,-30.8629, -31.1755,-31.4878,-31.8005,-32.1204, -32.6054,-32.9292,-33.2535,-33.5782, -33.9018,-34.2332,-34.5678,-34.9026, -35.2364,-35.5704,-36.0752,-36.571, -36.9037,-37.4026,-37.7347,-38.231, -38.7293,-39.106,-39.5029,-40.0971, -40.4932,-40.8877,-41.2832,-41.6756, -42.0707,-42.465,-43.0563,-43.4485, -43.8538,-44.2499,-44.6503,-45.0604, -45.4734,-46.0987,-46.3095,-46.2701)
FOOTPRINT_POINT_LONGITUDE = (174.711,173.914,173.249,172.589, 172.569,172.548,172.604,172.639,172.69, 172.721,172.751,172.78,172.807,172.835, 172.875,172.901,172.938,172.961,172.984 ,173.017,173.05,173.07,173.087,173.103, 173.126,173.149,173.164,173.178,173.192 ,173.206,173.226,173.239,173.257,173.27 ,173.281,173.292,173.303,173.314, 173.324,173.334,173.343,173.357,173.365 ,173.378,173.386,173.393,173.4,173.418, 173.421,173.421,174.269,174.663,174.675 ,174.68,174.681,174.682,174.684,174.686 ,174.688,174.69,174.691,174.692,174.693 ,174.695,174.697,174.698,174.7,174.703, 174.704,174.706,174.708,174.71,174.711, 174.713,174.717,174.717,174.718,174.719 ,174.72,174.72,174.722,174.724,174.726, 174.728,174.729,174.73,174.731,174.731, 174.732,174.734,174.735,174.736,174.743 ,174.739,174.739,174.74,174.741,174.742 ,174.742,174.711)
ORBIT_NUMBER = 4187
ORBITAL_ECCENTRICITY = 0.571
ORBITAL_INCLINATION = 86.69
ORBITAL_SEMIMAJOR_AXIS = 8610.15
PERIAPSIS_ALTITUDE = 300.41
PERIAPSIS_ARGUMENT_ANGLE = 340.55
PERIAPSIS_TIME = 2007-04-10T02:24:17.000Z
SPACECRAFT_ORIENTATION = (0.0,1.0,0.0)
^MEX_ORIENTATION_DESC = "MEX_ORIENTATION_DESC.TXT"
SPACECRAFT_POINTING_MODE = ACROSSTRACK
^MEX_POINTING_DESC = "MEX_POINTING_DESC.TXT"
RIGHT_ASCENSION = -1e+32
DECLINATION = -1e+32
OFFSET_ANGLE = -0.35
SPACECRAFT_SOLAR_DISTANCE = 2.09872e+08
TARGET_NAME = MARS
/* CAMERA DATA ELEMENTS */
DETECTOR_TEMPERATURE = 17.5549
FOCAL_PLANE_TEMPERATURE = 8.7872
INST_CMPRS_NAME = "DISCRETE COSINE TRANSFORMATION (DCT)"
INST_CMPRS_RATIO = 11.0475
INST_CMPRS_QUALITY = 0
INST_CMPRS_QUANTZ_TBL_ID = 0
INSTRUMENT_TEMPERATURE = 11.234
LENS_TEMPERATURE = 9.3989
MACROPIXEL_SIZE = 2
MISSING_FRAMES = 0
PIXEL_SUBSAMPLING_FLAG = N
SIGNAL_CHAIN_ID = 1
/* RADIOMETRIC DATA ELEMENTS */
BANDWIDTH = 180.0
CENTER_FILTER_WAVELENGTH = 677.0
RADIANCE_OFFSET = 4.23279
RADIANCE_SCALING_FACTOR = 0.012633
REFLECTANCE_SCALING_FACTOR = 0.000290308
MEX:REFLECTANCE_OFFSET = 0.09727
/* IMAGE OBJECT DEFINITIONS */
OBJECT = IMAGE
  INTERCHANGE_FORMAT = BINARY
  LINES = 41839
  LINE_SAMPLES = 3938
  SAMPLE_TYPE = UNSIGNED_INTEGER
  SAMPLE_BITS = 8
  BANDS = 1
  BAND_STORAGE_TYPE = BAND_SEQUENTIAL
  MAXIMUM = 255
  MEAN = 127.369
  MINIMUM = 1
  STANDARD_DEVIATION = 23.2418
END_OBJECT = IMAGE
/* MAP OBJECT DEFINITIONS */
OBJECT = IMAGE_MAP_PROJECTION
  ^DATA_SET_MAP_PROJECTION_CATALOG= "DSMAP.CAT"
  A_AXIS_RADIUS = 3396.0
  B_AXIS_RADIUS = 3396.0
  C_AXIS_RADIUS = 3396.0
  CENTER_LATITUDE = 0.0
  CENTER_LONGITUDE = 174.0
  COORDINATE_SYSTEM_NAME = PLANETOGRAPHIC
  COORDINATE_SYSTEM_TYPE = "BODY-FIXED ROTATING"
  EASTERNMOST_LONGITUDE = 174.743
  FIRST_STANDARD_PARALLEL = "N/A"
  LINE_FIRST_PIXEL = 1
  LINE_LAST_PIXEL = 41839
  LINE_PROJECTION_OFFSET = -67998.25
  MAP_PROJECTION_ROTATION = 0.0
  MAP_PROJECTION_TYPE = SINUSOIDAL
  MAP_RESOLUTION = 2370.85521546667
  MAP_SCALE = 0.025
  MAXIMUM_LATITUDE = -28.6596
  MINIMUM_LATITUDE = -46.3095
  POSITIVE_LONGITUDE_DIRECTION = EAST
  REFERENCE_LATITUDE = "N/A"
  REFERENCE_LONGITUDE = "N/A"
  SAMPLE_FIRST_PIXEL = 1
  SAMPLE_LAST_PIXEL = 3938
  SAMPLE_PROJECTION_OFFSET = 2504.75
  SECOND_STANDARD_PARALLEL = "N/A"
  WESTERNMOST_LONGITUDE = 172.548
END_OBJECT = IMAGE_MAP_PROJECTION
END
