PDS_VERSION_ID = PDS3
/* FILE DATA ELEMENTS */
RECORD_TYPE = UNDEFINED
/* POINTERS TO DATA OBJECTS */
^IMAGE = ("H4187_0001_P24.TIF")
/* IDENTIFICATION DATA ELEMENTS */
DATA_SET_ID = "MEX-M-HRSC-4-REFDR-MAPPROJECT-EXT1-V4.0"
DATA_SET_NAME = "MARS EXPRESS HRSC MAP PROJECTED REFDR EXTENSION1 V4.0"
DETECTOR_ID = MEX_HRSC_P2
EVENT_TYPE = "MARS-LOCAL-STEREO-Vo"
INSTRUMENT_HOST_ID = MEX
INSTRUMENT_HOST_NAME = "MARS EXPRESS"
INSTRUMENT_ID = HRSC
INSTRUMENT_NAME = "HIGH RESOLUTION STEREO CAMERA"
MISSION_NAME = "MARS EXPRESS"
MISSION_PHASE_NAME = ME_Phase_7
PROCESSING_LEVEL_ID = 4
PRODUCT_CREATION_TIME = 2023-02-09T23:17:53.000Z
PRODUCT_ID = "H4187_0001_P24.TIF"
RELEASE_ID = 0005
REVISION_ID = 0000
/* QUALITY DATA ELEMENTS */
DATA_QUALITY_ID = 1
DATA_QUALITY_DESC = "Data calculated based on original SPICE kernels"
/* TIME DATA ELEMENTS */
SPACECRAFT_CLOCK_START_COUNT = "1/0124251938.09073"
SPACECRAFT_CLOCK_STOP_COUNT = "1/0124252119.42873"
START_TIME = 2007-04-10T02:25:51.582Z
STOP_TIME = 2007-04-10T02:27:49.325Z
/* ORBITAL DATA ELEMENTS */
ASCENDING_NODE_LONGITUDE = 140.58
MAXIMUM_RESOLUTION = 0.0256
FOOTPRINT_POINT_LATITUDE = (-11.9567,-11.9622,-11.9658,-11.9692, -11.9724,-11.9753,-11.9779,-11.9781, -11.9617,-11.5847,-11.3575,-11.2055, -11.0542,-10.9024,-10.751,-10.5993, -10.4481,-10.2967,-9.91942,-9.5484, -9.32516,-9.02884,-8.8762,-8.71864, -8.56064,-8.31975,-8.08044,-7.92068, -7.7626,-7.60354,-7.44384,-7.2847, -7.12784,-6.97205,-6.81559,-6.65885, -6.502,-6.34401,-6.18168,-6.01939, -5.85693,-5.69409,-5.52983,-5.36753, -5.20627,-4.9637,-4.80195,-4.64048, -4.47829,-4.23254,-4.14906,-4.14819, -4.14187,-4.13742,-4.13362,-4.12891, -4.12463,-4.12439,-4.12473,-4.29161, -4.45357,-4.61545,-4.77693,-4.93916, -5.18224,-5.3443,-5.50624,-5.66836, -5.83037,-5.99239,-6.15448,-6.31647, -6.47478,-6.63233,-6.79025,-6.94755, -7.10605,-7.26471,-7.42365,-7.58333, -7.82146,-7.98077,-8.2194,-8.45554, -8.61224,-8.77045,-8.92785,-9.08042, -9.23181,-9.67969,-9.98043,-10.2799, -10.582,-10.8834,-11.1852,-11.3364, -11.6384,-11.8641,-11.9398,-11.9567)
FOOTPRINT_POINT_LONGITUDE = (174.631,174.393,174.221,174.049, 173.879,173.71,173.541,173.53,173.524, 173.522,173.521,173.52,173.519,173.518, 173.517,173.516,173.515,173.514,173.511 ,173.51,173.508,173.507,173.505,173.504 ,173.502,173.499,173.496,173.494, 173.492,173.49,173.488,173.486,173.484, 173.482,173.481,173.479,173.477,173.475 ,173.473,173.471,173.469,173.467, 173.464,173.462,173.46,173.457,173.454, 173.452,173.45,173.446,173.445,173.445, 173.78,173.99,174.189,174.436,174.637, 174.649,174.653,174.653,174.652,174.651 ,174.651,174.65,174.65,174.649,174.649, 174.648,174.648,174.648,174.647,174.647 ,174.646,174.646,174.645,174.644, 174.642,174.641,174.639,174.637,174.635 ,174.633,174.63,174.629,174.629,174.628 ,174.627,174.626,174.626,174.631, 174.633,174.636,174.637,174.638,174.64, 174.64,174.641,174.643,174.643,174.631)
ORBIT_NUMBER = 4187
ORBITAL_ECCENTRICITY = 0.571
ORBITAL_INCLINATION = 86.69
ORBITAL_SEMIMAJOR_AXIS = 8610.15
PERIAPSIS_ALTITUDE = 300.41
PERIAPSIS_ARGUMENT_ANGLE = 340.55
PERIAPSIS_TIME = 2007-04-10T02:24:17.000Z
SPACECRAFT_ORIENTATION = (0.0,1.0,0.0)
^MEX_ORIENTATION_DESC = "MEX_ORIENTATION_DESC.TXT"
SPACECRAFT_POINTING_MODE = ACROSSTRACK
^MEX_POINTING_DESC = "MEX_POINTING_DESC.TXT"
RIGHT_ASCENSION = -1e+32
DECLINATION = -1e+32
OFFSET_ANGLE = -0.35
SPACECRAFT_SOLAR_DISTANCE = 2.09872e+08
TARGET_NAME = MARS
/* CAMERA DATA ELEMENTS */
DETECTOR_TEMPERATURE = 20.2056
FOCAL_PLANE_TEMPERATURE = 9.3989
INST_CMPRS_NAME = "DISCRETE COSINE TRANSFORMATION (DCT)"
INST_CMPRS_RATIO = 9.09289
INST_CMPRS_QUALITY = 0
INST_CMPRS_QUANTZ_TBL_ID = 0
INSTRUMENT_TEMPERATURE = 14.7003
LENS_TEMPERATURE = 9.6028
MACROPIXEL_SIZE = 2
MISSING_FRAMES = 0
PIXEL_SUBSAMPLING_FLAG = N
SIGNAL_CHAIN_ID = 3
/* RADIOMETRIC DATA ELEMENTS */
BANDWIDTH = 177.0
CENTER_FILTER_WAVELENGTH = 676.5
RADIANCE_OFFSET = 4.60005
RADIANCE_SCALING_FACTOR = 0.0171486
REFLECTANCE_SCALING_FACTOR = 0.000400491
MEX:REFLECTANCE_OFFSET = 0.10743
/* IMAGE OBJECT DEFINITIONS */
OBJECT = IMAGE
  INTERCHANGE_FORMAT = BINARY
  LINES = 18547
  LINE_SAMPLES = 2911
  SAMPLE_TYPE = UNSIGNED_INTEGER
  SAMPLE_BITS = 8
  BANDS = 1
  BAND_STORAGE_TYPE = BAND_SEQUENTIAL
  MAXIMUM = 255
  MEAN = 146.135
  MINIMUM = 1
  STANDARD_DEVIATION = 19.3265
END_OBJECT = IMAGE
/* MAP OBJECT DEFINITIONS */
OBJECT = IMAGE_MAP_PROJECTION
  ^DATA_SET_MAP_PROJECTION_CATALOG= "DSMAP.CAT"
  A_AXIS_RADIUS = 3396.0
  B_AXIS_RADIUS = 3396.0
  C_AXIS_RADIUS = 3396.0
  CENTER_LATITUDE = 0.0
  CENTER_LONGITUDE = 174.0
  COORDINATE_SYSTEM_NAME = PLANETOGRAPHIC
  COORDINATE_SYSTEM_TYPE = "BODY-FIXED ROTATING"
  EASTERNMOST_LONGITUDE = 174.653
  FIRST_STANDARD_PARALLEL = "N/A"
  LINE_FIRST_PIXEL = 1
  LINE_LAST_PIXEL = 18547
  LINE_PROJECTION_OFFSET = -9857.75
  MAP_PROJECTION_ROTATION = 0.0
  MAP_PROJECTION_TYPE = SINUSOIDAL
  MAP_RESOLUTION = 2370.85521546667
  MAP_SCALE = 0.025
  MAXIMUM_LATITUDE = -4.12439
  MINIMUM_LATITUDE = -11.9781
  POSITIVE_LONGITUDE_DIRECTION = EAST
  REFERENCE_LATITUDE = "N/A"
  REFERENCE_LONGITUDE = "N/A"
  SAMPLE_FIRST_PIXEL = 1
  SAMPLE_LAST_PIXEL = 2911
  SAMPLE_PROJECTION_OFFSET = 1340.25
  SECOND_STANDARD_PARALLEL = "N/A"
  WESTERNMOST_LONGITUDE = 173.445
END_OBJECT = IMAGE_MAP_PROJECTION
END
