PDS_VERSION_ID = PDS3
/* FILE DATA ELEMENTS */
RECORD_TYPE = UNDEFINED
/* POINTERS TO DATA OBJECTS */
^IMAGE = ("H4190_0000_P24.TIF")
/* IDENTIFICATION DATA ELEMENTS */
DATA_SET_ID = "MEX-M-HRSC-4-REFDR-MAPPROJECT-EXT1-V4.0"
DATA_SET_NAME = "MARS EXPRESS HRSC MAP PROJECTED REFDR EXTENSION1 V4.0"
DETECTOR_ID = MEX_HRSC_P2
EVENT_TYPE = "MARS-REGIONAL-MAPPING-Vo-Te-Im"
INSTRUMENT_HOST_ID = MEX
INSTRUMENT_HOST_NAME = "MARS EXPRESS"
INSTRUMENT_ID = HRSC
INSTRUMENT_NAME = "HIGH RESOLUTION STEREO CAMERA"
MISSION_NAME = "MARS EXPRESS"
MISSION_PHASE_NAME = ME_Phase_7
PROCESSING_LEVEL_ID = 4
PRODUCT_CREATION_TIME = 2023-02-09T23:17:53.000Z
PRODUCT_ID = "H4190_0000_P24.TIF"
RELEASE_ID = 0005
REVISION_ID = 0000
/* QUALITY DATA ELEMENTS */
DATA_QUALITY_ID = 1
DATA_QUALITY_DESC = "Data calculated based on original SPICE kernels"
/* TIME DATA ELEMENTS */
SPACECRAFT_CLOCK_START_COUNT = "1/0124323942.09035"
SPACECRAFT_CLOCK_STOP_COUNT = "1/0124324276.01434"
START_TIME = 2007-04-10T22:26:04.321Z
STOP_TIME = 2007-04-10T22:30:30.232Z
/* ORBITAL DATA ELEMENTS */
ASCENDING_NODE_LONGITUDE = 140.53
MAXIMUM_RESOLUTION = 0.0542
FOOTPRINT_POINT_LATITUDE = (-46.9379,-46.9252,-46.9005,-46.8707, -46.8697,-46.8328,-46.2696,-45.8999, -45.5312,-45.1686,-44.8035,-44.4458, -43.9111,-43.5621,-43.2072,-42.8621, -42.5155,-42.0037,-41.6641,-41.3265, -40.9937,-40.6601,-40.1679,-39.8403, -39.5128,-39.1848,-38.8555,-38.5261, -38.03,-37.6986,-37.3661,-37.0331, -36.6994,-36.364,-35.8884,-35.3247, -34.7593,-34.0543,-33.77,-33.4827, -33.1949,-32.909,-32.6225,-32.3358, -32.0486,-31.7612,-31.4755,-30.9171, -30.7772,-30.7593,-30.7707,-30.7767, -30.7753,-30.7761,-31.197,-31.763, -32.0511,-32.3389,-32.6262,-32.913, -33.1996,-33.4856,-33.7714,-34.0565, -34.3413,-34.6257,-35.1928,-36.0403, -36.3722,-36.7084,-37.0431,-37.3771, -37.7107,-38.042,-38.5404,-38.8712, -39.2011,-39.5305,-39.8591,-40.1869, -40.514,-40.8492,-41.1853,-41.5174, -41.8589,-42.1996,-42.543,-42.8903, -43.2373,-43.5918,-44.1239,-44.4829, -44.8409,-45.2058,-45.5714,-45.9417, -46.3107,-46.6904,-46.8793,-46.9379)
FOOTPRINT_POINT_LONGITUDE = (239.522,238.846,237.946,237.136, 237.114,237.088,237.152,237.192,237.231 ,237.269,237.305,237.34,237.391,237.424 ,237.455,237.485,237.514,237.556, 237.584,237.61,237.635,237.66,237.696, 237.719,237.741,237.763,237.785,237.806 ,237.837,237.857,237.876,237.895, 237.914,237.932,237.958,237.986,238.014 ,238.049,238.061,238.073,238.084, 238.095,238.107,238.118,238.129,238.14, 238.151,238.171,238.175,238.176,238.835 ,239.495,239.508,239.512,239.513, 239.514,239.515,239.515,239.516,239.517 ,239.517,239.518,239.518,239.519,239.52 ,239.52,239.522,239.524,239.526,239.526 ,239.527,239.528,239.528,239.53,239.53, 239.531,239.532,239.533,239.533,239.534 ,239.535,239.535,239.535,239.537, 239.538,239.538,239.539,239.54,239.54, 239.54,239.539,239.541,239.542,239.543, 239.544,239.544,239.547,239.545,239.546 ,239.522)
ORBIT_NUMBER = 4190
ORBITAL_ECCENTRICITY = 0.572
ORBITAL_INCLINATION = 86.69
ORBITAL_SEMIMAJOR_AXIS = 8621.57
PERIAPSIS_ALTITUDE = 299.39
PERIAPSIS_ARGUMENT_ANGLE = 339.98
PERIAPSIS_TIME = 2007-04-10T22:33:34.000Z
SPACECRAFT_ORIENTATION = (0.0,1.0,0.0)
^MEX_ORIENTATION_DESC = "MEX_ORIENTATION_DESC.TXT"
SPACECRAFT_POINTING_MODE = NADIR
^MEX_POINTING_DESC = "MEX_POINTING_DESC.TXT"
RIGHT_ASCENSION = -1e+32
DECLINATION = -1e+32
OFFSET_ANGLE = -1e+32
SPACECRAFT_SOLAR_DISTANCE = 2.09779e+08
TARGET_NAME = MARS
/* CAMERA DATA ELEMENTS */
DETECTOR_TEMPERATURE = 18.9822
FOCAL_PLANE_TEMPERATURE = 8.9911
INST_CMPRS_NAME = "DISCRETE COSINE TRANSFORMATION (DCT)"
INST_CMPRS_RATIO = 8.97775
INST_CMPRS_QUALITY = 0
INST_CMPRS_QUANTZ_TBL_ID = 0
INSTRUMENT_TEMPERATURE = 11.6418
LENS_TEMPERATURE = 9.195
MACROPIXEL_SIZE = 4
MISSING_FRAMES = 0
PIXEL_SUBSAMPLING_FLAG = N
SIGNAL_CHAIN_ID = 3
/* RADIOMETRIC DATA ELEMENTS */
BANDWIDTH = 177.0
CENTER_FILTER_WAVELENGTH = 676.5
RADIANCE_OFFSET = 3.33949
RADIANCE_SCALING_FACTOR = 0.0192663
REFLECTANCE_SCALING_FACTOR = 0.000449553
MEX:REFLECTANCE_OFFSET = 0.0779225
/* IMAGE OBJECT DEFINITIONS */
OBJECT = IMAGE
  INTERCHANGE_FORMAT = BINARY
  LINES = 19153
  LINE_SAMPLES = 2016
  SAMPLE_TYPE = UNSIGNED_INTEGER
  SAMPLE_BITS = 8
  BANDS = 1
  BAND_STORAGE_TYPE = BAND_SEQUENTIAL
  MAXIMUM = 255
  MEAN = 96.6311
  MINIMUM = 1
  STANDARD_DEVIATION = 28.8261
END_OBJECT = IMAGE
/* MAP OBJECT DEFINITIONS */
OBJECT = IMAGE_MAP_PROJECTION
  ^DATA_SET_MAP_PROJECTION_CATALOG= "DSMAP.CAT"
  A_AXIS_RADIUS = 3396.0
  B_AXIS_RADIUS = 3396.0
  C_AXIS_RADIUS = 3396.0
  CENTER_LATITUDE = 0.0
  CENTER_LONGITUDE = 239.0
  COORDINATE_SYSTEM_NAME = PLANETOGRAPHIC
  COORDINATE_SYSTEM_TYPE = "BODY-FIXED ROTATING"
  EASTERNMOST_LONGITUDE = 239.547
  FIRST_STANDARD_PARALLEL = "N/A"
  LINE_FIRST_PIXEL = 1
  LINE_LAST_PIXEL = 19153
  LINE_PROJECTION_OFFSET = -36447.375
  MAP_PROJECTION_ROTATION = 0.0
  MAP_PROJECTION_TYPE = SINUSOIDAL
  MAP_RESOLUTION = 1185.42760773333
  MAP_SCALE = 0.05
  MAXIMUM_LATITUDE = -30.7593
  MINIMUM_LATITUDE = -46.9379
  POSITIVE_LONGITUDE_DIRECTION = EAST
  REFERENCE_LATITUDE = "N/A"
  REFERENCE_LONGITUDE = "N/A"
  SAMPLE_FIRST_PIXEL = 1
  SAMPLE_LAST_PIXEL = 2016
  SAMPLE_PROJECTION_OFFSET = 1505.125
  SECOND_STANDARD_PARALLEL = "N/A"
  WESTERNMOST_LONGITUDE = 237.088
END_OBJECT = IMAGE_MAP_PROJECTION
END
