PDS_VERSION_ID = PDS3
/* FILE DATA ELEMENTS */
RECORD_TYPE = UNDEFINED
/* POINTERS TO DATA OBJECTS */
^IMAGE = ("H4190_0000_S14.TIF")
/* IDENTIFICATION DATA ELEMENTS */
DATA_SET_ID = "MEX-M-HRSC-4-REFDR-MAPPROJECT-EXT1-V4.0"
DATA_SET_NAME = "MARS EXPRESS HRSC MAP PROJECTED REFDR EXTENSION1 V4.0"
DETECTOR_ID = MEX_HRSC_S1
EVENT_TYPE = "MARS-REGIONAL-MAPPING-Vo-Te-Im"
INSTRUMENT_HOST_ID = MEX
INSTRUMENT_HOST_NAME = "MARS EXPRESS"
INSTRUMENT_ID = HRSC
INSTRUMENT_NAME = "HIGH RESOLUTION STEREO CAMERA"
MISSION_NAME = "MARS EXPRESS"
MISSION_PHASE_NAME = ME_Phase_7
PROCESSING_LEVEL_ID = 4
PRODUCT_CREATION_TIME = 2023-02-09T23:17:53.000Z
PRODUCT_ID = "H4190_0000_S14.TIF"
RELEASE_ID = 0005
REVISION_ID = 0000
/* QUALITY DATA ELEMENTS */
DATA_QUALITY_ID = 1
DATA_QUALITY_DESC = "Data calculated based on original SPICE kernels"
/* TIME DATA ELEMENTS */
SPACECRAFT_CLOCK_START_COUNT = "1/0124323942.09035"
SPACECRAFT_CLOCK_STOP_COUNT = "1/0124324276.01434"
START_TIME = 2007-04-10T22:27:16.089Z
STOP_TIME = 2007-04-10T22:31:18.152Z
/* ORBITAL DATA ELEMENTS */
ASCENDING_NODE_LONGITUDE = 140.53
MAXIMUM_RESOLUTION = 0.0267
FOOTPRINT_POINT_LATITUDE = (-46.8274,-46.812,-46.7927,-46.7752, -46.7745,-46.8228,-46.2563,-45.8843, -45.5116,-45.1455,-44.7831,-44.4193, -44.0641,-43.7064,-43.1751,-42.8193, -42.4638,-42.1029,-41.746,-41.389, -41.0319,-40.4946,-40.1364,-39.7754, -39.4373,-39.1367,-38.8366,-38.5356, -38.0841,-37.7832,-37.3315,-37.0302, -36.729,-36.279,-35.8228,-35.5213, -35.2192,-34.7666,-34.4739,-34.1762, -33.8827,-33.5918,-33.3051,-33.0128, -32.439,-32.0149,-31.3083,-30.8843, -30.743,-30.7256,-30.7323,-30.7365, -30.7366,-30.7391,-31.0257,-31.4457, -32.0122,-32.4366,-33.0111,-33.3036, -33.5966,-33.8891,-34.182,-34.4744, -34.7673,-35.0695,-35.5223,-35.8243, -36.1323,-36.4343,-36.7341,-37.0358, -37.3378,-37.639,-37.943,-38.2421, -38.5445,-38.8459,-39.1473,-39.4483, -39.7839,-40.1473,-40.5061,-41.0403, -41.4022,-41.7606,-42.1183,-42.48, -42.8375,-43.1944,-43.5501,-44.0824, -44.4395,-44.8056,-45.1718,-45.7252, -46.2881,-46.6639,-46.8537,-46.8274)
FOOTPRINT_POINT_LONGITUDE = (239.402,238.649,237.875,237.269, 237.248,237.215,237.273,237.31,237.345, 237.38,237.412,237.444,237.475,237.506, 237.549,237.577,237.604,237.631,237.658 ,237.683,237.708,237.745,237.768, 237.791,237.812,237.83,237.848,237.865, 237.891,237.908,237.932,237.947,237.963 ,237.984,238.007,238.021,238.035, 238.055,238.067,238.082,238.094,238.105 ,238.114,238.125,238.146,238.161, 238.185,238.198,238.203,238.203,238.836 ,239.469,239.481,239.486,239.487, 239.485,239.485,239.484,239.483,239.483 ,239.482,239.482,239.481,239.481,239.48 ,239.48,239.479,239.478,239.479,239.479 ,239.477,239.476,239.475,239.474, 239.474,239.473,239.472,239.471,239.47, 239.469,239.468,239.466,239.465,239.461 ,239.461,239.459,239.457,239.455, 239.453,239.451,239.448,239.444,239.442 ,239.439,239.437,239.433,239.429, 239.425,239.423,239.402)
ORBIT_NUMBER = 4190
ORBITAL_ECCENTRICITY = 0.572
ORBITAL_INCLINATION = 86.69
ORBITAL_SEMIMAJOR_AXIS = 8621.57
PERIAPSIS_ALTITUDE = 299.39
PERIAPSIS_ARGUMENT_ANGLE = 339.98
PERIAPSIS_TIME = 2007-04-10T22:33:34.000Z
SPACECRAFT_ORIENTATION = (0.0,1.0,0.0)
^MEX_ORIENTATION_DESC = "MEX_ORIENTATION_DESC.TXT"
SPACECRAFT_POINTING_MODE = NADIR
^MEX_POINTING_DESC = "MEX_POINTING_DESC.TXT"
RIGHT_ASCENSION = -1e+32
DECLINATION = -1e+32
OFFSET_ANGLE = -1e+32
SPACECRAFT_SOLAR_DISTANCE = 2.09779e+08
TARGET_NAME = MARS
/* CAMERA DATA ELEMENTS */
DETECTOR_TEMPERATURE = 17.9627
FOCAL_PLANE_TEMPERATURE = 8.9911
INST_CMPRS_NAME = "DISCRETE COSINE TRANSFORMATION (DCT)"
INST_CMPRS_RATIO = 8.29392
INST_CMPRS_QUALITY = 0
INST_CMPRS_QUANTZ_TBL_ID = 0
INSTRUMENT_TEMPERATURE = 11.6418
LENS_TEMPERATURE = 9.195
MACROPIXEL_SIZE = 2
PIXEL_SUBSAMPLING_FLAG = N
SIGNAL_CHAIN_ID = 1
/* RADIOMETRIC DATA ELEMENTS */
BANDWIDTH = 180.0
CENTER_FILTER_WAVELENGTH = 677.0
RADIANCE_OFFSET = 3.70837
RADIANCE_SCALING_FACTOR = 0.0198309
REFLECTANCE_SCALING_FACTOR = 0.000455312
MEX:REFLECTANCE_OFFSET = 0.0851433
/* IMAGE OBJECT DEFINITIONS */
OBJECT = IMAGE
  INTERCHANGE_FORMAT = BINARY
  LINES = 38306
  LINE_SAMPLES = 4032
  SAMPLE_TYPE = UNSIGNED_INTEGER
  SAMPLE_BITS = 8
  BANDS = 1
  BAND_STORAGE_TYPE = BAND_SEQUENTIAL
  MAXIMUM = 255
  MEAN = 100.787
  MINIMUM = 1
  STANDARD_DEVIATION = 29.1538
END_OBJECT = IMAGE
/* MAP OBJECT DEFINITIONS */
OBJECT = IMAGE_MAP_PROJECTION
  ^DATA_SET_MAP_PROJECTION_CATALOG= "DSMAP.CAT"
  A_AXIS_RADIUS = 3396.0
  B_AXIS_RADIUS = 3396.0
  C_AXIS_RADIUS = 3396.0
  CENTER_LATITUDE = 0.0
  CENTER_LONGITUDE = 239.0
  COORDINATE_SYSTEM_NAME = PLANETOGRAPHIC
  COORDINATE_SYSTEM_TYPE = "BODY-FIXED ROTATING"
  EASTERNMOST_LONGITUDE = 239.487
  FIRST_STANDARD_PARALLEL = "N/A"
  LINE_FIRST_PIXEL = 1
  LINE_LAST_PIXEL = 38306
  LINE_PROJECTION_OFFSET = -72894.25
  MAP_PROJECTION_ROTATION = 0.0
  MAP_PROJECTION_TYPE = SINUSOIDAL
  MAP_RESOLUTION = 2370.85521546667
  MAP_SCALE = 0.025
  MAXIMUM_LATITUDE = -30.7256
  MINIMUM_LATITUDE = -46.8537
  POSITIVE_LONGITUDE_DIRECTION = EAST
  REFERENCE_LATITUDE = "N/A"
  REFERENCE_LONGITUDE = "N/A"
  SAMPLE_FIRST_PIXEL = 1
  SAMPLE_LAST_PIXEL = 4032
  SAMPLE_PROJECTION_OFFSET = 3010.75
  SECOND_STANDARD_PARALLEL = "N/A"
  WESTERNMOST_LONGITUDE = 237.215
END_OBJECT = IMAGE_MAP_PROJECTION
END
