PDS_VERSION_ID = PDS3
/* FILE DATA ELEMENTS */
RECORD_TYPE = UNDEFINED
/* POINTERS TO DATA OBJECTS */
^IMAGE = ("H4198_0000_GR4.TIF")
/* IDENTIFICATION DATA ELEMENTS */
DATA_SET_ID = "MEX-M-HRSC-4-REFDR-MAPPROJECT-EXT1-V4.0"
DATA_SET_NAME = "MARS EXPRESS HRSC MAP PROJECTED REFDR EXTENSION1 V4.0"
DETECTOR_ID = MEX_HRSC_GREEN
EVENT_TYPE = "MARS-REGIONAL-MAPPING-Te-Fl-Mw"
INSTRUMENT_HOST_ID = MEX
INSTRUMENT_HOST_NAME = "MARS EXPRESS"
INSTRUMENT_ID = HRSC
INSTRUMENT_NAME = "HIGH RESOLUTION STEREO CAMERA"
MISSION_NAME = "MARS EXPRESS"
MISSION_PHASE_NAME = ME_Phase_7
PROCESSING_LEVEL_ID = 4
PRODUCT_CREATION_TIME = 2023-02-09T23:17:53.000Z
PRODUCT_ID = "H4198_0000_GR4.TIF"
RELEASE_ID = 0005
REVISION_ID = 0000
/* QUALITY DATA ELEMENTS */
DATA_QUALITY_ID = 1
DATA_QUALITY_DESC = "Data calculated based on original SPICE kernels"
/* TIME DATA ELEMENTS */
SPACECRAFT_CLOCK_START_COUNT = "1/0124517494.56677"
SPACECRAFT_CLOCK_STOP_COUNT = "1/0124517826.43569"
START_TIME = 2007-04-13T04:12:30.285Z
STOP_TIME = 2007-04-13T04:15:45.251Z
/* ORBITAL DATA ELEMENTS */
ASCENDING_NODE_LONGITUDE = 140.35
MAXIMUM_RESOLUTION = 0.1065
FOOTPRINT_POINT_LATITUDE = (-46.1596,-46.1513,-46.1422,-46.1257, -46.108,-46.1073,-46.1117,-45.8313, -45.5503,-45.276,-45.0013,-44.7263, -44.3203,-44.0518,-43.7838,-43.5168, -43.2542,-42.9912,-42.7279,-42.4636, -42.0673,-41.8029,-41.5381,-41.2732, -41.0079,-40.7424,-40.4765,-40.2104, -39.944,-39.6774,-39.4104,-39.1432, -38.88,-38.4313,-37.9817,-37.4187, -36.8553,-36.6296,-36.4036,-36.1773, -35.9512,-35.7248,-35.4983,-35.2716, -35.0448,-34.8178,-34.5905,-34.1391, -33.8086,-33.6984,-33.6616,-33.6669, -33.6736,-33.678,-33.6817,-33.6818, -33.6836,-34.2356,-34.4623,-34.6901, -34.9177,-35.1451,-35.3725,-35.5996, -35.8266,-36.0533,-36.2799,-36.6197, -36.846,-37.0721,-37.5238,-37.9751, -38.4256,-38.875,-39.1319,-39.3998, -39.6676,-39.935,-40.2023,-40.4691, -40.7356,-41.1347,-41.5339,-41.7994, -42.1967,-42.4615,-42.726,-42.9901, -43.2538,-43.5174,-43.785,-44.0547, -44.3244,-44.5938,-45.0069,-45.2825, -45.5578,-45.9795,-46.1203,-46.1596)
FOOTPRINT_POINT_LONGITUDE = (173.535,173.078,172.663,172.032, 171.463,171.444,171.419,171.445,171.471 ,171.496,171.521,171.545,171.579, 171.601,171.62,171.64,171.66,171.68, 171.7,171.721,171.75,171.768,171.786, 171.804,171.822,171.838,171.855,171.872 ,171.888,171.904,171.919,171.935, 171.949,171.974,171.997,172.026,172.053 ,172.063,172.074,172.084,172.094, 172.104,172.113,172.122,172.132,172.141 ,172.15,172.168,172.181,172.185,172.186 ,172.468,172.882,173.207,173.547,173.56 ,173.569,173.57,173.571,173.572,173.572 ,173.572,173.573,173.573,173.573, 173.573,173.573,173.573,173.573,173.572 ,173.572,173.573,173.572,173.571, 173.571,173.571,173.571,173.571,173.572 ,173.571,173.571,173.57,173.571,173.57, 173.569,173.569,173.568,173.568,173.567 ,173.566,173.566,173.564,173.564, 173.563,173.563,173.562,173.562,173.561 ,173.561,173.535)
ORBIT_NUMBER = 4198
ORBITAL_ECCENTRICITY = 0.571
ORBITAL_INCLINATION = 86.69
ORBITAL_SEMIMAJOR_AXIS = 8608.19
PERIAPSIS_ALTITUDE = 299.64
PERIAPSIS_ARGUMENT_ANGLE = 338.61
PERIAPSIS_TIME = 2007-04-13T04:18:48.000Z
SPACECRAFT_ORIENTATION = (0.0,1.0,0.0)
^MEX_ORIENTATION_DESC = "MEX_ORIENTATION_DESC.TXT"
SPACECRAFT_POINTING_MODE = ACROSSTRACK
^MEX_POINTING_DESC = "MEX_POINTING_DESC.TXT"
RIGHT_ASCENSION = -1e+32
DECLINATION = -1e+32
OFFSET_ANGLE = -0.2
SPACECRAFT_SOLAR_DISTANCE = 2.09536e+08
TARGET_NAME = MARS
/* CAMERA DATA ELEMENTS */
DETECTOR_TEMPERATURE = 0.0
FOCAL_PLANE_TEMPERATURE = 0.0
INST_CMPRS_NAME = "DISCRETE COSINE TRANSFORMATION (DCT)"
INST_CMPRS_RATIO = 13.5933
INST_CMPRS_QUALITY = 0
INST_CMPRS_QUANTZ_TBL_ID = 0
INSTRUMENT_TEMPERATURE = 0.0
LENS_TEMPERATURE = 0.0
MACROPIXEL_SIZE = 8
MISSING_FRAMES = 0
PIXEL_SUBSAMPLING_FLAG = N
SIGNAL_CHAIN_ID = 2
/* RADIOMETRIC DATA ELEMENTS */
BANDWIDTH = 88.0
CENTER_FILTER_WAVELENGTH = 538.0
RADIANCE_OFFSET = 1.53733
RADIANCE_SCALING_FACTOR = 0.00452155
REFLECTANCE_SCALING_FACTOR = 0.000170921
MEX:REFLECTANCE_OFFSET = 0.0581132
/* IMAGE OBJECT DEFINITIONS */
OBJECT = IMAGE
  INTERCHANGE_FORMAT = BINARY
  LINES = 7644
  LINE_SAMPLES = 948
  SAMPLE_TYPE = UNSIGNED_INTEGER
  SAMPLE_BITS = 8
  BANDS = 1
  BAND_STORAGE_TYPE = BAND_SEQUENTIAL
  MAXIMUM = 255
  MEAN = 121.705
  MINIMUM = 1
  STANDARD_DEVIATION = 20.3636
END_OBJECT = IMAGE
/* MAP OBJECT DEFINITIONS */
OBJECT = IMAGE_MAP_PROJECTION
  ^DATA_SET_MAP_PROJECTION_CATALOG= "DSMAP.CAT"
  A_AXIS_RADIUS = 3396.0
  B_AXIS_RADIUS = 3396.0
  C_AXIS_RADIUS = 3396.0
  CENTER_LATITUDE = 0.0
  CENTER_LONGITUDE = 173.0
  COORDINATE_SYSTEM_NAME = PLANETOGRAPHIC
  COORDINATE_SYSTEM_TYPE = "BODY-FIXED ROTATING"
  EASTERNMOST_LONGITUDE = 173.573
  FIRST_STANDARD_PARALLEL = "N/A"
  LINE_FIRST_PIXEL = 1
  LINE_LAST_PIXEL = 7644
  LINE_PROJECTION_OFFSET = -19688.5625
  MAP_PROJECTION_ROTATION = 0.0
  MAP_PROJECTION_TYPE = SINUSOIDAL
  MAP_RESOLUTION = 592.713803866667
  MAP_SCALE = 0.1
  MAXIMUM_LATITUDE = -33.6616
  MINIMUM_LATITUDE = -46.1596
  POSITIVE_LONGITUDE_DIRECTION = EAST
  REFERENCE_LATITUDE = "N/A"
  REFERENCE_LONGITUDE = "N/A"
  SAMPLE_FIRST_PIXEL = 1
  SAMPLE_LAST_PIXEL = 948
  SAMPLE_PROJECTION_OFFSET = 663.1875
  SECOND_STANDARD_PARALLEL = "N/A"
  WESTERNMOST_LONGITUDE = 171.419
END_OBJECT = IMAGE_MAP_PROJECTION
END
