PDS_VERSION_ID = PDS3
/* FILE DATA ELEMENTS */
RECORD_TYPE = UNDEFINED
/* POINTERS TO DATA OBJECTS */
^IMAGE = ("H4209_0000_S14.TIF")
/* IDENTIFICATION DATA ELEMENTS */
DATA_SET_ID = "MEX-M-HRSC-4-REFDR-MAPPROJECT-EXT1-V4.0"
DATA_SET_NAME = "MARS EXPRESS HRSC MAP PROJECTED REFDR EXTENSION1 V4.0"
DETECTOR_ID = MEX_HRSC_S1
EVENT_TYPE = "MARS-REGIONAL-MAPPING-Im-Fl-Mw"
INSTRUMENT_HOST_ID = MEX
INSTRUMENT_HOST_NAME = "MARS EXPRESS"
INSTRUMENT_ID = HRSC
INSTRUMENT_NAME = "HIGH RESOLUTION STEREO CAMERA"
MISSION_NAME = "MARS EXPRESS"
MISSION_PHASE_NAME = ME_Phase_7
PROCESSING_LEVEL_ID = 4
PRODUCT_CREATION_TIME = 2023-02-10T03:49:22.000Z
PRODUCT_ID = "H4209_0000_S14.TIF"
RELEASE_ID = 0006
REVISION_ID = 0000
/* QUALITY DATA ELEMENTS */
DATA_QUALITY_ID = 1
DATA_QUALITY_DESC = "Data calculated based on original SPICE kernels"
/* TIME DATA ELEMENTS */
SPACECRAFT_CLOCK_START_COUNT = "1/0124783677.07298"
SPACECRAFT_CLOCK_STOP_COUNT = "1/0124783968.15007"
START_TIME = 2007-04-16T06:09:10.646Z
STOP_TIME = 2007-04-16T06:12:50.396Z
/* ORBITAL DATA ELEMENTS */
ASCENDING_NODE_LONGITUDE = 140.12
MAXIMUM_RESOLUTION = 0.0254
FOOTPRINT_POINT_LATITUDE = (-41.6866,-41.6697,-41.6532,-41.6528, -41.6929,-41.2241,-40.7489,-40.2796, -39.9654,-39.6536,-39.3377,-39.0236, -38.7087,-38.3936,-38.0798,-37.7747, -37.3206,-37.0155,-36.6993,-36.3958, -36.1006,-35.8087,-35.515,-35.2204, -34.9245,-34.481,-34.1876,-33.8924, -33.601,-33.3163,-33.0316,-32.7456, -32.4599,-32.0319,-31.7463,-31.4678, -31.1835,-30.8939,-30.6101,-30.3288, -29.7794,-29.5059,-29.2323,-28.8227, -28.412,-28.0039,-27.7275,-27.4548, -27.1812,-27.0441,-27.0112,-27.0148, -27.0156,-27.0207,-27.0213,-27.0217, -27.4323,-27.9773,-28.262,-28.7995, -29.0745,-29.3485,-29.6227,-29.8966, -30.1708,-30.5908,-30.8752,-31.3022, -31.5876,-31.8728,-32.3008,-32.587, -32.8724,-33.1577,-33.4427,-33.7299, -34.0261,-34.4695,-34.9133,-35.2089, -35.5039,-35.7983,-36.0927,-36.3949, -36.7008,-37.0057,-37.4618,-37.7667, -38.0719,-38.5422,-38.8573,-39.1719, -39.4896,-39.9597,-40.2748,-40.7464, -41.0612,-41.533,-41.6904,-41.6866)
FOOTPRINT_POINT_LONGITUDE = (172.275,171.365,170.647,170.631, 170.607,170.638,170.671,170.7,170.719, 170.737,170.756,170.773,170.791,170.808 ,170.825,170.841,170.863,170.878, 170.898,170.911,170.921,170.933,170.946 ,170.958,170.971,170.989,171.0,171.011, 171.022,171.032,171.042,171.053,171.063 ,171.077,171.086,171.093,171.101, 171.111,171.119,171.126,171.141,171.148 ,171.155,171.164,171.174,171.182, 171.189,171.194,171.2,171.203,171.203, 171.545,172.034,172.365,172.377,172.381 ,172.38,172.377,172.38,172.375,172.374, 172.373,172.372,172.371,172.369,172.368 ,172.366,172.364,172.363,172.362,172.36 ,172.359,172.358,172.357,172.355, 172.354,172.353,172.35,172.348,172.346, 172.344,172.342,172.34,172.338,172.336, 172.333,172.329,172.327,172.324,172.321 ,172.318,172.315,172.313,172.308, 172.305,172.301,172.297,172.293,172.291 ,172.275)
ORBIT_NUMBER = 4209
ORBITAL_ECCENTRICITY = 0.571
ORBITAL_INCLINATION = 86.69
ORBITAL_SEMIMAJOR_AXIS = 8606.12
PERIAPSIS_ALTITUDE = 298.92
PERIAPSIS_ARGUMENT_ANGLE = 336.67
PERIAPSIS_TIME = 2007-04-16T06:13:21.000Z
SPACECRAFT_ORIENTATION = (0.0,1.0,0.0)
^MEX_ORIENTATION_DESC = "MEX_ORIENTATION_DESC.TXT"
SPACECRAFT_POINTING_MODE = NADIR
^MEX_POINTING_DESC = "MEX_POINTING_DESC.TXT"
RIGHT_ASCENSION = -1e+32
DECLINATION = -1e+32
OFFSET_ANGLE = -1e+32
SPACECRAFT_SOLAR_DISTANCE = 2.09218e+08
TARGET_NAME = MARS
/* CAMERA DATA ELEMENTS */
DETECTOR_TEMPERATURE = 17.7588
FOCAL_PLANE_TEMPERATURE = 8.7872
INST_CMPRS_NAME = "DISCRETE COSINE TRANSFORMATION (DCT)"
INST_CMPRS_RATIO = 8.39773
INST_CMPRS_QUALITY = 0
INST_CMPRS_QUANTZ_TBL_ID = 0
INSTRUMENT_TEMPERATURE = 11.4379
LENS_TEMPERATURE = 9.195
MACROPIXEL_SIZE = 2
MISSING_FRAMES = 0
PIXEL_SUBSAMPLING_FLAG = N
SIGNAL_CHAIN_ID = 1
/* RADIOMETRIC DATA ELEMENTS */
BANDWIDTH = 180.0
CENTER_FILTER_WAVELENGTH = 677.0
RADIANCE_OFFSET = 4.44237
RADIANCE_SCALING_FACTOR = 0.0176811
REFLECTANCE_SCALING_FACTOR = 0.000403785
MEX:REFLECTANCE_OFFSET = 0.101451
/* IMAGE OBJECT DEFINITIONS */
OBJECT = IMAGE
  INTERCHANGE_FORMAT = BINARY
  LINES = 34883
  LINE_SAMPLES = 3340
  SAMPLE_TYPE = UNSIGNED_INTEGER
  SAMPLE_BITS = 8
  BANDS = 1
  BAND_STORAGE_TYPE = BAND_SEQUENTIAL
  MAXIMUM = 255
  MEAN = 105.231
  MINIMUM = 1
  STANDARD_DEVIATION = 18.8871
END_OBJECT = IMAGE
/* MAP OBJECT DEFINITIONS */
OBJECT = IMAGE_MAP_PROJECTION
  ^DATA_SET_MAP_PROJECTION_CATALOG= "DSMAP.CAT"
  A_AXIS_RADIUS = 3396.0
  B_AXIS_RADIUS = 3396.0
  C_AXIS_RADIUS = 3396.0
  CENTER_LATITUDE = 0.0
  CENTER_LONGITUDE = 172.0
  COORDINATE_SYSTEM_NAME = PLANETOGRAPHIC
  COORDINATE_SYSTEM_TYPE = "BODY-FIXED ROTATING"
  EASTERNMOST_LONGITUDE = 172.381
  FIRST_STANDARD_PARALLEL = "N/A"
  LINE_FIRST_PIXEL = 1
  LINE_LAST_PIXEL = 34883
  LINE_PROJECTION_OFFSET = -64062.75
  MAP_PROJECTION_ROTATION = 0.0
  MAP_PROJECTION_TYPE = SINUSOIDAL
  MAP_RESOLUTION = 2370.85521546667
  MAP_SCALE = 0.025
  MAXIMUM_LATITUDE = -27.0112
  MINIMUM_LATITUDE = -41.6929
  POSITIVE_LONGITUDE_DIRECTION = EAST
  REFERENCE_LATITUDE = "N/A"
  REFERENCE_LONGITUDE = "N/A"
  SAMPLE_FIRST_PIXEL = 1
  SAMPLE_LAST_PIXEL = 3340
  SAMPLE_PROJECTION_OFFSET = 2526.25
  SECOND_STANDARD_PARALLEL = "N/A"
  WESTERNMOST_LONGITUDE = 170.607
END_OBJECT = IMAGE_MAP_PROJECTION
END
