PDS_VERSION_ID = PDS3
/* FILE DATA ELEMENTS */
RECORD_TYPE = UNDEFINED
/* POINTERS TO DATA OBJECTS */
^IMAGE = ("H4210_0000_BL4.TIF")
/* IDENTIFICATION DATA ELEMENTS */
DATA_SET_ID = "MEX-M-HRSC-4-REFDR-MAPPROJECT-EXT1-V4.0"
DATA_SET_NAME = "MARS EXPRESS HRSC MAP PROJECTED REFDR EXTENSION1 V4.0"
DETECTOR_ID = MEX_HRSC_BLUE
EVENT_TYPE = "MARS-REGIONAL-VARIABLE-Gl"
INSTRUMENT_HOST_ID = MEX
INSTRUMENT_HOST_NAME = "MARS EXPRESS"
INSTRUMENT_ID = HRSC
INSTRUMENT_NAME = "HIGH RESOLUTION STEREO CAMERA"
MISSION_NAME = "MARS EXPRESS"
MISSION_PHASE_NAME = ME_Phase_7
PROCESSING_LEVEL_ID = 4
PRODUCT_CREATION_TIME = 2023-02-10T03:49:22.000Z
PRODUCT_ID = "H4210_0000_BL4.TIF"
RELEASE_ID = 0006
REVISION_ID = 0000
/* QUALITY DATA ELEMENTS */
DATA_QUALITY_ID = 1
DATA_QUALITY_DESC = "Data calculated based on original SPICE kernels"
/* TIME DATA ELEMENTS */
SPACECRAFT_CLOCK_START_COUNT = "1/0124806781.07272"
SPACECRAFT_CLOCK_STOP_COUNT = "1/0124807356.29971"
START_TIME = 2007-04-16T12:36:54.601Z
STOP_TIME = 2007-04-16T12:40:31.367Z
/* ORBITAL DATA ELEMENTS */
ASCENDING_NODE_LONGITUDE = 140.11
MAXIMUM_RESOLUTION = 0.1627
FOOTPRINT_POINT_LATITUDE = (-87.4092,-87.2153,-87.0265,-86.8959, -86.5807,-86.332,-85.9354,-85.6589, -85.3747,-85.0837,-84.7871,-84.4851, -84.2942,-84.0247,-83.986,-83.9325, -83.81,-83.6705,-83.5158,-83.3454, -83.1604,-82.9621,-82.7508,-82.528, -82.2937,-82.0501,-81.8601,-81.6009, -81.331,-81.0532,-80.7678,-80.4755, -80.1768,-79.7961,-79.5615,-79.4041, -79.2449,-79.0843,-78.9221,-78.7589, -78.5941,-78.428,-78.2608,-78.0929, -77.9238,-77.7536,-77.4954,-77.409, -77.3961,-77.4716,-77.6277,-77.7262, -77.8499,-77.9063,-77.9781,-78.052, -78.1331,-78.1792,-78.232,-78.2681, -78.3079,-78.3119,-78.315,-78.6051, -78.7977,-78.9899,-79.1815,-79.3727, -79.5634,-79.7534,-79.943,-80.132, -80.3205,-80.5087,-80.6948,-80.8822, -81.0694,-81.2556,-81.441,-81.6258, -81.8102,-81.994,-82.1774,-82.3602, -82.7243,-83.0859,-83.4454,-83.8027, -84.1576,-84.5101,-84.9476,-85.2947, -85.6391,-85.9806,-86.319,-86.6539, -86.9846,-87.3107,-87.3913,-87.4092)
FOOTPRINT_POINT_LONGITUDE = (56.278,48.2949,42.7542,39.6532,33.7177 ,30.0726,25.4747,22.8905,20.6216, 18.6174,16.8384,15.2482,14.3405,13.1686 ,13.0098,13.0485,15.9647,18.7746, 21.4698,24.0456,26.499,28.8296,31.038, 33.1279,35.1014,36.9663,38.2932,39.9787 ,41.563,43.0565,44.4644,45.7925,47.0459 ,48.5191,49.349,49.8852,50.4055,50.9111 ,51.4018,51.8802,52.3446,52.7959, 53.2357,53.6652,54.0831,54.4901,55.0784 ,55.2701,55.2982,56.1309,57.9933, 59.3032,61.0844,61.9874,63.205,64.5931, 66.312,67.4178,68.8523,69.9757,71.4342, 71.5965,71.6498,71.5517,71.4849,71.4148 ,71.3427,71.2673,71.1891,71.1087, 71.0251,70.9393,70.8487,70.7523,70.6747 ,70.5673,70.451,70.3374,70.2221,70.1023 ,69.9768,69.8466,69.707,69.5626,69.2504 ,68.9126,68.5366,68.1181,67.6527, 67.1332,66.3713,65.6666,64.8529,63.9043 ,62.7867,61.4441,59.823,57.8034,57.2229 ,56.278)
ORBIT_NUMBER = 4210
ORBITAL_ECCENTRICITY = 0.571
ORBITAL_INCLINATION = 86.7
ORBITAL_SEMIMAJOR_AXIS = 8612.94
PERIAPSIS_ALTITUDE = 297.81
PERIAPSIS_ARGUMENT_ANGLE = 336.47
PERIAPSIS_TIME = 2007-04-16T12:56:26.000Z
SPACECRAFT_ORIENTATION = (0.0,1.0,0.0)
^MEX_ORIENTATION_DESC = "MEX_ORIENTATION_DESC.TXT"
SPACECRAFT_POINTING_MODE = NADIR
^MEX_POINTING_DESC = "MEX_POINTING_DESC.TXT"
RIGHT_ASCENSION = -1e+32
DECLINATION = -1e+32
OFFSET_ANGLE = -1e+32
SPACECRAFT_SOLAR_DISTANCE = 2.0919e+08
TARGET_NAME = MARS
/* CAMERA DATA ELEMENTS */
DETECTOR_TEMPERATURE = 18.5744
FOCAL_PLANE_TEMPERATURE = 9.195
INST_CMPRS_NAME = "DISCRETE COSINE TRANSFORMATION (DCT)"
INST_CMPRS_RATIO = 13.2334
INST_CMPRS_QUALITY = 0
INST_CMPRS_QUANTZ_TBL_ID = 0
INSTRUMENT_TEMPERATURE = 11.4379
LENS_TEMPERATURE = 9.6028
MACROPIXEL_SIZE = 4
MISSING_FRAMES = 0
PIXEL_SUBSAMPLING_FLAG = N
SIGNAL_CHAIN_ID = 2
/* RADIOMETRIC DATA ELEMENTS */
BANDWIDTH = 76.0
CENTER_FILTER_WAVELENGTH = 444.0
RADIANCE_OFFSET = 0.64817
RADIANCE_SCALING_FACTOR = 0.0136243
REFLECTANCE_SCALING_FACTOR = 0.000612574
MEX:REFLECTANCE_OFFSET = 0.029143
/* IMAGE OBJECT DEFINITIONS */
OBJECT = IMAGE
  INTERCHANGE_FORMAT = BINARY
  LINES = 2953
  LINE_SAMPLES = 2319
  SAMPLE_TYPE = UNSIGNED_INTEGER
  SAMPLE_BITS = 8
  BANDS = 1
  BAND_STORAGE_TYPE = BAND_SEQUENTIAL
  MAXIMUM = 254
  MEAN = 57.8915
  MINIMUM = 1
  STANDARD_DEVIATION = 39.5116
END_OBJECT = IMAGE
/* MAP OBJECT DEFINITIONS */
OBJECT = IMAGE_MAP_PROJECTION
  ^DATA_SET_MAP_PROJECTION_CATALOG= "DSMAP.CAT"
  A_AXIS_RADIUS = 3396.0
  B_AXIS_RADIUS = 3396.0
  C_AXIS_RADIUS = 3396.0
  CENTER_LATITUDE = 0.0
  CENTER_LONGITUDE = 54.0
  COORDINATE_SYSTEM_NAME = PLANETOGRAPHIC
  COORDINATE_SYSTEM_TYPE = "BODY-FIXED ROTATING"
  EASTERNMOST_LONGITUDE = 71.6498
  FIRST_STANDARD_PARALLEL = "N/A"
  LINE_FIRST_PIXEL = 1
  LINE_LAST_PIXEL = 2953
  LINE_PROJECTION_OFFSET = -22939.375
  MAP_PROJECTION_ROTATION = 0.0
  MAP_PROJECTION_TYPE = SINUSOIDAL
  MAP_RESOLUTION = 296.356901933333
  MAP_SCALE = 0.2
  MAXIMUM_LATITUDE = -77.3961
  MINIMUM_LATITUDE = -87.4092
  POSITIVE_LONGITUDE_DIRECTION = EAST
  REFERENCE_LATITUDE = "N/A"
  REFERENCE_LONGITUDE = "N/A"
  SAMPLE_FIRST_PIXEL = 1
  SAMPLE_LAST_PIXEL = 2319
  SAMPLE_PROJECTION_OFFSET = 1271.375
  SECOND_STANDARD_PARALLEL = "N/A"
  WESTERNMOST_LONGITUDE = 13.0098
END_OBJECT = IMAGE_MAP_PROJECTION
END
