PDS_VERSION_ID = PDS3
/* FILE DATA ELEMENTS */
RECORD_TYPE = UNDEFINED
/* POINTERS TO DATA OBJECTS */
^IMAGE = ("H4210_0000_IR4.TIF")
/* IDENTIFICATION DATA ELEMENTS */
DATA_SET_ID = "MEX-M-HRSC-4-REFDR-MAPPROJECT-EXT1-V4.0"
DATA_SET_NAME = "MARS EXPRESS HRSC MAP PROJECTED REFDR EXTENSION1 V4.0"
DETECTOR_ID = MEX_HRSC_IR
EVENT_TYPE = "MARS-REGIONAL-VARIABLE-Gl"
INSTRUMENT_HOST_ID = MEX
INSTRUMENT_HOST_NAME = "MARS EXPRESS"
INSTRUMENT_ID = HRSC
INSTRUMENT_NAME = "HIGH RESOLUTION STEREO CAMERA"
MISSION_NAME = "MARS EXPRESS"
MISSION_PHASE_NAME = ME_Phase_7
PROCESSING_LEVEL_ID = 4
PRODUCT_CREATION_TIME = 2023-02-10T03:49:22.000Z
PRODUCT_ID = "H4210_0000_IR4.TIF"
RELEASE_ID = 0006
REVISION_ID = 0000
/* QUALITY DATA ELEMENTS */
DATA_QUALITY_ID = 1
DATA_QUALITY_DESC = "Data calculated based on original SPICE kernels"
/* TIME DATA ELEMENTS */
SPACECRAFT_CLOCK_START_COUNT = "1/0124806781.07272"
SPACECRAFT_CLOCK_STOP_COUNT = "1/0124807356.29971"
START_TIME = 2007-04-16T12:39:31.413Z
STOP_TIME = 2007-04-16T12:42:22.856Z
/* ORBITAL DATA ELEMENTS */
ASCENDING_NODE_LONGITUDE = 140.11
MAXIMUM_RESOLUTION = 0.1476
FOOTPRINT_POINT_LATITUDE = (-87.103,-86.9807,-86.8234,-86.6501, -86.4629,-86.2126,-86.0015,-85.7823, -85.5564,-85.3245,-85.0873,-84.8454, -84.5993,-84.3182,-84.2867,-84.2889, -84.1469,-83.9433,-83.7619,-83.5131, -83.2441,-82.9555,-82.7113,-82.3941, -82.0609,-81.7842,-81.6429,-81.3569, -81.1383,-80.9899,-80.84,-80.6885, -80.5356,-80.3814,-80.226,-80.0692, -79.8316,-79.672,-79.5114,-79.3487, -79.1818,-78.8553,-78.6061,-78.4375, -78.2671,-78.0996,-77.9309,-77.7626, -77.5949,-77.5107,-77.4603,-77.5477, -77.6643,-77.7548,-77.8109,-77.8939, -77.9507,-78.0301,-78.1164,-78.1753, -78.217,-78.2209,-78.2242,-78.5013, -78.6858,-78.8715,-79.1519,-79.339, -79.6193,-79.8056,-80.0841,-80.2699, -80.5486,-80.7363,-81.0082,-81.1919, -81.3751,-81.5584,-81.7404,-81.9225, -82.1041,-82.2857,-82.4661,-82.6468, -83.0054,-83.1854,-83.5434,-83.7232, -84.077,-84.4307,-84.7825,-85.1298, -85.3899,-85.7345,-85.9895,-86.411, -86.7418,-87.0676,-87.1477,-87.103)
FOOTPRINT_POINT_LONGITUDE = (51.9136,47.7117,43.3342,39.3895, 35.8435,31.915,29.1299,26.6247,24.3654, 22.3215,20.467,18.7764,17.2311,15.6465, 15.4795,14.4792,17.5708,21.3178,24.1363 ,27.4537,30.4932,33.3086,35.41,37.8184, 40.0557,41.7249,42.5188,44.0117,45.0665 ,45.7473,46.4064,47.0455,47.6641, 48.2629,48.8431,49.4058,50.2184,50.7381 ,51.2412,51.7359,52.2322,53.1274, 53.7743,54.1966,54.611,54.998,55.3784, 55.7453,56.0986,56.272,56.3745,57.4968, 59.0111,60.4447,61.3602,62.6696,63.7387 ,65.3594,67.4135,69.0766,70.4758, 70.6163,70.6622,70.5338,70.4434,70.3492 ,70.2014,70.0977,69.9351,69.8215, 69.6427,69.5183,69.3233,69.1897,68.967, 68.8145,68.6554,68.4899,68.3158,68.1344 ,67.9444,67.7461,67.537,67.3187,66.846, 66.5928,66.0433,65.7471,65.0954,64.3639 ,63.5343,62.5842,61.7799,60.5568, 59.5029,57.4184,55.3698,52.8656,52.1519 ,51.9136)
ORBIT_NUMBER = 4210
ORBITAL_ECCENTRICITY = 0.571
ORBITAL_INCLINATION = 86.7
ORBITAL_SEMIMAJOR_AXIS = 8612.94
PERIAPSIS_ALTITUDE = 297.81
PERIAPSIS_ARGUMENT_ANGLE = 336.47
PERIAPSIS_TIME = 2007-04-16T12:56:26.000Z
SPACECRAFT_ORIENTATION = (0.0,1.0,0.0)
^MEX_ORIENTATION_DESC = "MEX_ORIENTATION_DESC.TXT"
SPACECRAFT_POINTING_MODE = NADIR
^MEX_POINTING_DESC = "MEX_POINTING_DESC.TXT"
RIGHT_ASCENSION = -1e+32
DECLINATION = -1e+32
OFFSET_ANGLE = -1e+32
SPACECRAFT_SOLAR_DISTANCE = 2.0919e+08
TARGET_NAME = MARS
/* CAMERA DATA ELEMENTS */
DETECTOR_TEMPERATURE = 17.7588
FOCAL_PLANE_TEMPERATURE = 9.195
INST_CMPRS_NAME = "DISCRETE COSINE TRANSFORMATION (DCT)"
INST_CMPRS_RATIO = 8.37642
INST_CMPRS_QUALITY = 0
INST_CMPRS_QUANTZ_TBL_ID = 0
INSTRUMENT_TEMPERATURE = 11.4379
LENS_TEMPERATURE = 9.6028
MACROPIXEL_SIZE = 4
MISSING_FRAMES = 0
PIXEL_SUBSAMPLING_FLAG = N
SIGNAL_CHAIN_ID = 2
/* RADIOMETRIC DATA ELEMENTS */
BANDWIDTH = 81.0
CENTER_FILTER_WAVELENGTH = 955.5
RADIANCE_OFFSET = 0.959032
RADIANCE_SCALING_FACTOR = 0.00803895
REFLECTANCE_SCALING_FACTOR = 0.000758952
MEX:REFLECTANCE_OFFSET = 0.0905416
/* IMAGE OBJECT DEFINITIONS */
OBJECT = IMAGE
  INTERCHANGE_FORMAT = BINARY
  LINES = 2953
  LINE_SAMPLES = 2319
  SAMPLE_TYPE = UNSIGNED_INTEGER
  SAMPLE_BITS = 8
  BANDS = 1
  BAND_STORAGE_TYPE = BAND_SEQUENTIAL
  MAXIMUM = 255
  MEAN = 109.781
  MINIMUM = 1
  STANDARD_DEVIATION = 69.8185
END_OBJECT = IMAGE
/* MAP OBJECT DEFINITIONS */
OBJECT = IMAGE_MAP_PROJECTION
  ^DATA_SET_MAP_PROJECTION_CATALOG= "DSMAP.CAT"
  A_AXIS_RADIUS = 3396.0
  B_AXIS_RADIUS = 3396.0
  C_AXIS_RADIUS = 3396.0
  CENTER_LATITUDE = 0.0
  CENTER_LONGITUDE = 54.0
  COORDINATE_SYSTEM_NAME = PLANETOGRAPHIC
  COORDINATE_SYSTEM_TYPE = "BODY-FIXED ROTATING"
  EASTERNMOST_LONGITUDE = 70.6622
  FIRST_STANDARD_PARALLEL = "N/A"
  LINE_FIRST_PIXEL = 1
  LINE_LAST_PIXEL = 2953
  LINE_PROJECTION_OFFSET = -22939.375
  MAP_PROJECTION_ROTATION = 0.0
  MAP_PROJECTION_TYPE = SINUSOIDAL
  MAP_RESOLUTION = 296.356901933333
  MAP_SCALE = 0.2
  MAXIMUM_LATITUDE = -77.4603
  MINIMUM_LATITUDE = -87.1477
  POSITIVE_LONGITUDE_DIRECTION = EAST
  REFERENCE_LATITUDE = "N/A"
  REFERENCE_LONGITUDE = "N/A"
  SAMPLE_FIRST_PIXEL = 1
  SAMPLE_LAST_PIXEL = 2319
  SAMPLE_PROJECTION_OFFSET = 1271.375
  SECOND_STANDARD_PARALLEL = "N/A"
  WESTERNMOST_LONGITUDE = 14.4792
END_OBJECT = IMAGE_MAP_PROJECTION
END
