PDS_VERSION_ID = PDS3
/* FILE DATA ELEMENTS */
RECORD_TYPE = UNDEFINED
/* POINTERS TO DATA OBJECTS */
^IMAGE = ("H4210_0001_P24.TIF")
/* IDENTIFICATION DATA ELEMENTS */
DATA_SET_ID = "MEX-M-HRSC-4-REFDR-MAPPROJECT-EXT1-V4.0"
DATA_SET_NAME = "MARS EXPRESS HRSC MAP PROJECTED REFDR EXTENSION1 V4.0"
DETECTOR_ID = MEX_HRSC_P2
EVENT_TYPE = "MARS-REGIONAL-MAPPING-Im-La-Ot"
INSTRUMENT_HOST_ID = MEX
INSTRUMENT_HOST_NAME = "MARS EXPRESS"
INSTRUMENT_ID = HRSC
INSTRUMENT_NAME = "HIGH RESOLUTION STEREO CAMERA"
MISSION_NAME = "MARS EXPRESS"
MISSION_PHASE_NAME = ME_Phase_7
PROCESSING_LEVEL_ID = 4
PRODUCT_CREATION_TIME = 2023-02-10T03:49:22.000Z
PRODUCT_ID = "H4210_0001_P24.TIF"
RELEASE_ID = 0006
REVISION_ID = 0000
/* QUALITY DATA ELEMENTS */
DATA_QUALITY_ID = 1
DATA_QUALITY_DESC = "Data calculated based on original SPICE kernels"
/* TIME DATA ELEMENTS */
SPACECRAFT_CLOCK_START_COUNT = "1/0124808045.07296"
SPACECRAFT_CLOCK_STOP_COUNT = "1/0124808273.07924"
START_TIME = 2007-04-16T12:54:19.124Z
STOP_TIME = 2007-04-16T12:57:11.416Z
/* ORBITAL DATA ELEMENTS */
ASCENDING_NODE_LONGITUDE = 140.11
MAXIMUM_RESOLUTION = 0.0244
FOOTPRINT_POINT_LATITUDE = (-30.6718,-30.669,-30.6623,-30.6561, -30.6559,-30.608,-30.2681,-29.9269, -29.6991,-29.3582,-29.1307,-28.901, -28.6703,-28.3229,-28.0924,-27.8655, -27.6432,-27.3105,-26.8738,-26.5393, -26.316,-26.0928,-25.7581,-25.534, -25.3107,-25.0866,-24.7511,-24.3083, -23.9771,-23.7466,-23.5203,-23.1816, -22.9583,-22.7346,-22.5073,-22.1621, -21.9373,-21.6006,-21.3763,-21.1571, -20.9342,-20.7136,-20.4862,-20.1469, -19.9211,-19.6962,-19.4704,-19.3569, -19.3363,-19.3378,-19.3384,-19.3391, -19.3391,-19.3395,-19.6792,-19.9049, -20.1325,-20.3575,-20.5836,-20.8099, -21.0289,-21.2526,-21.4784,-21.8176, -22.0432,-22.2703,-22.4969,-22.7227, -22.9439,-23.1694,-23.5088,-23.7382, -23.9597,-24.1832,-24.4063,-24.6292, -24.8532,-25.0781,-25.4157,-25.6423, -25.977,-26.3141,-26.5382,-26.866, -27.0855,-27.3063,-27.7457,-28.084, -28.3156,-28.5459,-28.7765,-29.0077, -29.2322,-29.4629,-29.6976,-29.9246, -30.2654,-30.4926,-30.6062,-30.6718)
FOOTPRINT_POINT_LONGITUDE = (74.1232,73.7571,73.2328,72.8789, 72.8667,72.8396,72.8513,72.8623,72.8694 ,72.8803,72.8874,72.8934,72.8988, 72.9062,72.9117,72.9171,72.9223,72.9302 ,72.9439,72.9506,72.955,72.9593,72.9657 ,72.9695,72.9735,72.9771,72.9828, 72.9924,72.9998,73.0,73.0022,73.0058, 73.0093,73.0125,73.014,73.0141,73.0166, 73.0205,73.0231,73.028,73.0311,73.0352, 73.0361,73.0382,73.0397,73.0415,73.0428 ,73.0432,73.0433,73.4914,73.7481, 74.1328,74.1435,74.1474,74.1468,74.1467 ,74.1457,74.1459,74.1455,74.1451, 74.1481,74.1488,74.1485,74.1477,74.1474 ,74.1464,74.1455,74.145,74.1467,74.1462 ,74.1449,74.1425,74.1438,74.1441, 74.1446,74.1451,74.1451,74.1445,74.1434 ,74.1418,74.1419,74.1407,74.1401, 74.1433,74.1449,74.1457,74.1484,74.1478 ,74.147,74.1467,74.1463,74.1454,74.1479 ,74.1471,74.1441,74.1451,74.1461, 74.1468,74.147,74.1232)
ORBIT_NUMBER = 4210
ORBITAL_ECCENTRICITY = 0.571
ORBITAL_INCLINATION = 86.7
ORBITAL_SEMIMAJOR_AXIS = 8612.94
PERIAPSIS_ALTITUDE = 297.81
PERIAPSIS_ARGUMENT_ANGLE = 336.47
PERIAPSIS_TIME = 2007-04-16T12:56:26.000Z
SPACECRAFT_ORIENTATION = (0.0,1.0,0.0)
^MEX_ORIENTATION_DESC = "MEX_ORIENTATION_DESC.TXT"
SPACECRAFT_POINTING_MODE = NADIR
^MEX_POINTING_DESC = "MEX_POINTING_DESC.TXT"
RIGHT_ASCENSION = -1e+32
DECLINATION = -1e+32
OFFSET_ANGLE = -1e+32
SPACECRAFT_SOLAR_DISTANCE = 2.0919e+08
TARGET_NAME = MARS
/* CAMERA DATA ELEMENTS */
DETECTOR_TEMPERATURE = 22.6524
FOCAL_PLANE_TEMPERATURE = 9.6028
INST_CMPRS_NAME = "DISCRETE COSINE TRANSFORMATION (DCT)"
INST_CMPRS_RATIO = 10.4963
INST_CMPRS_QUALITY = 0
INST_CMPRS_QUANTZ_TBL_ID = 0
INSTRUMENT_TEMPERATURE = 15.1081
LENS_TEMPERATURE = 10.2145
MACROPIXEL_SIZE = 2
MISSING_FRAMES = 0
PIXEL_SUBSAMPLING_FLAG = N
SIGNAL_CHAIN_ID = 3
/* RADIOMETRIC DATA ELEMENTS */
BANDWIDTH = 177.0
CENTER_FILTER_WAVELENGTH = 676.5
RADIANCE_OFFSET = 6.66552
RADIANCE_SCALING_FACTOR = 0.00732878
REFLECTANCE_SCALING_FACTOR = 0.000170048
MEX:REFLECTANCE_OFFSET = 0.154658
/* IMAGE OBJECT DEFINITIONS */
OBJECT = IMAGE
  INTERCHANGE_FORMAT = BINARY
  LINES = 26800
  LINE_SAMPLES = 2681
  SAMPLE_TYPE = UNSIGNED_INTEGER
  SAMPLE_BITS = 8
  BANDS = 1
  BAND_STORAGE_TYPE = BAND_SEQUENTIAL
  MAXIMUM = 255
  MEAN = 154.482
  MINIMUM = 1
  STANDARD_DEVIATION = 50.5704
END_OBJECT = IMAGE
/* MAP OBJECT DEFINITIONS */
OBJECT = IMAGE_MAP_PROJECTION
  ^DATA_SET_MAP_PROJECTION_CATALOG= "DSMAP.CAT"
  A_AXIS_RADIUS = 3396.0
  B_AXIS_RADIUS = 3396.0
  C_AXIS_RADIUS = 3396.0
  CENTER_LATITUDE = 0.0
  CENTER_LONGITUDE = 74.0
  COORDINATE_SYSTEM_NAME = PLANETOGRAPHIC
  COORDINATE_SYSTEM_TYPE = "BODY-FIXED ROTATING"
  EASTERNMOST_LONGITUDE = 74.14879999999999
  FIRST_STANDARD_PARALLEL = "N/A"
  LINE_FIRST_PIXEL = 1
  LINE_LAST_PIXEL = 26800
  LINE_PROJECTION_OFFSET = -45843.75
  MAP_PROJECTION_ROTATION = 0.0
  MAP_PROJECTION_TYPE = SINUSOIDAL
  MAP_RESOLUTION = 2370.85521546667
  MAP_SCALE = 0.025
  MAXIMUM_LATITUDE = -19.3363
  MINIMUM_LATITUDE = -30.6718
  POSITIVE_LONGITUDE_DIRECTION = EAST
  REFERENCE_LATITUDE = "N/A"
  REFERENCE_LONGITUDE = "N/A"
  SAMPLE_FIRST_PIXEL = 1
  SAMPLE_LAST_PIXEL = 2681
  SAMPLE_PROJECTION_OFFSET = 2347.25
  SECOND_STANDARD_PARALLEL = "N/A"
  WESTERNMOST_LONGITUDE = 72.8396
END_OBJECT = IMAGE_MAP_PROJECTION
END
