PDS_VERSION_ID = PDS3
/* FILE DATA ELEMENTS */
RECORD_TYPE = UNDEFINED
/* POINTERS TO DATA OBJECTS */
^IMAGE = ("H4210_0007_SR4.TIF")
/* IDENTIFICATION DATA ELEMENTS */
DATA_SET_ID = "MEX-M-HRSC-4-REFDR-MAPPROJECT-EXT1-V4.0"
DATA_SET_NAME = "MARS EXPRESS HRSC MAP PROJECTED REFDR EXTENSION1 V4.0"
DETECTOR_ID = MEX_HRSC_SRC
EVENT_TYPE = "MARS-REGIONAL-MAPPING-Im-La-Ot"
INSTRUMENT_HOST_ID = MEX
INSTRUMENT_HOST_NAME = "MARS EXPRESS"
INSTRUMENT_ID = HRSC
INSTRUMENT_NAME = "HIGH RESOLUTION STEREO CAMERA"
MISSION_NAME = "MARS EXPRESS"
MISSION_PHASE_NAME = ME_Phase_7
PROCESSING_LEVEL_ID = 4
PRODUCT_CREATION_TIME = 2023-02-10T03:49:22.000Z
PRODUCT_ID = "H4210_0007_SR4.TIF"
RELEASE_ID = 0006
REVISION_ID = 0000
/* QUALITY DATA ELEMENTS */
DATA_QUALITY_ID = 1
DATA_QUALITY_DESC = "Data calculated based on original SPICE kernels"
/* TIME DATA ELEMENTS */
SPACECRAFT_CLOCK_START_COUNT = "1/0124808045.07296"
SPACECRAFT_CLOCK_STOP_COUNT = "1/0124808273.07924"
IMAGE_TIME = 2007-04-16T12:55:28.035Z
START_TIME = 2007-04-16T12:55:28.032Z
STOP_TIME = 2007-04-16T12:55:28.037Z
/* ORBITAL DATA ELEMENTS */
ASCENDING_NODE_LONGITUDE = 140.11
MAXIMUM_RESOLUTION = 0.002782
FOOTPRINT_POINT_LATITUDE = (-27.3597,-27.3566,-27.355,-27.3534, -27.3519,-27.3505,-27.3483,-27.3466, -27.3452,-27.3422,-27.3396,-27.338, -27.3355,-27.3338,-27.3317,-27.3294, -27.3269,-27.3251,-27.3224,-27.3195, -27.3174,-27.3156,-27.3139,-27.3124, -27.3123,-27.3123,-27.3123,-27.3124, -27.3124,-27.3124,-27.3124,-27.3124, -27.3125,-27.3125,-27.3125,-27.3125, -27.3125,-27.3125,-27.3126,-27.3126, -27.3126,-27.3126,-27.3126,-27.3127, -27.3127,-27.3127,-27.3127,-27.3127, -27.3127,-27.3128,-27.3128,-27.3128, -27.3152,-27.3179,-27.3211,-27.3231, -27.3245,-27.3267,-27.3295,-27.3321, -27.3349,-27.3368,-27.3393,-27.3418, -27.3434,-27.3456,-27.3489,-27.3512, -27.3541,-27.3572,-27.3601,-27.3602, -27.3601,-27.3601,-27.3601,-27.3601, -27.3601,-27.36,-27.36,-27.36,-27.36, -27.36,-27.3599,-27.3599,-27.3599, -27.3599,-27.3599,-27.3599,-27.3598, -27.3598,-27.3598,-27.3598,-27.3598, -27.3597,-27.3597,-27.3597,-27.3597, -27.3597,-27.3597,-27.3597)
FOOTPRINT_POINT_LONGITUDE = (73.5154,73.5154,73.5155,73.5155, 73.5155,73.5155,73.5155,73.5155,73.5156 ,73.5156,73.5156,73.5156,73.5157, 73.5157,73.5157,73.5157,73.5158,73.5158 ,73.5158,73.5158,73.5159,73.5159, 73.5159,73.5159,73.5159,73.516,73.5192, 73.5223,73.5244,73.526,73.5282,73.5308, 73.5334,73.535,73.5371,73.5393,73.5414, 73.543,73.5451,73.5472,73.5493,73.5509, 73.553,73.5557,73.5578,73.5604,73.5626, 73.5647,73.5673,73.5689,73.5695,73.5698 ,73.5697,73.5697,73.5697,73.5697, 73.5696,73.5696,73.5696,73.5696,73.5695 ,73.5695,73.5695,73.5695,73.5695, 73.5694,73.5694,73.5694,73.5693,73.5693 ,73.5693,73.5693,73.5692,73.5671, 73.5655,73.5629,73.5607,73.5586,73.5565 ,73.5544,73.5528,73.5507,73.548,73.5459 ,73.5443,73.5417,73.5401,73.5385, 73.5358,73.5337,73.5305,73.5284,73.5268 ,73.5253,73.5237,73.5215,73.5194, 73.5163,73.5157,73.5154)
ORBIT_NUMBER = 4210
ORBITAL_ECCENTRICITY = 0.571
ORBITAL_INCLINATION = 86.7
ORBITAL_SEMIMAJOR_AXIS = 8612.94
PERIAPSIS_ALTITUDE = 297.81
PERIAPSIS_ARGUMENT_ANGLE = 336.47
PERIAPSIS_TIME = 2007-04-16T12:56:26.000Z
SPACECRAFT_ORIENTATION = (0.0,1.0,0.0)
^MEX_ORIENTATION_DESC = "MEX_ORIENTATION_DESC.TXT"
SPACECRAFT_POINTING_MODE = NADIR
^MEX_POINTING_DESC = "MEX_POINTING_DESC.TXT"
RIGHT_ASCENSION = -1e+32
DECLINATION = -1e+32
OFFSET_ANGLE = -1e+32
SPACECRAFT_SOLAR_DISTANCE = 2.0919e+08
TARGET_NAME = MARS
/* CAMERA DATA ELEMENTS */
BUFFER_MODE_ID = BUFFER_8
EXPOSURE_DURATION = 5.04
INST_CMPRS_NAME = NONE
INST_CMPRS_RATIO = 1.0
INST_CMPRS_QUALITY = -2147483648
INST_CMPRS_QUANTZ_TBL_ID = -2147483648
INSTRUMENT_TEMPERATURE = 7.98913
MISSING_FRAMES = 0
START_BIT = 0
/* RADIOMETRIC DATA ELEMENTS */
BANDWIDTH = 250.0
CENTER_FILTER_WAVELENGTH = 600.0
RADIANCE_OFFSET = -9.99e+31
RADIANCE_SCALING_FACTOR = -9.99e+31
REFLECTANCE_SCALING_FACTOR = -9.99e+31
MEX:REFLECTANCE_OFFSET = -9.99e+31
/* IMAGE OBJECT DEFINITIONS */
OBJECT = IMAGE
  INTERCHANGE_FORMAT = BINARY
  LINES = 1190
  LINE_SAMPLES = 1198
  SAMPLE_TYPE = UNSIGNED_INTEGER
  SAMPLE_BITS = 8
  BANDS = 1
  BAND_STORAGE_TYPE = BAND_SEQUENTIAL
  MAXIMUM = 247
  MEAN = 159.402
  MINIMUM = 22
  STANDARD_DEVIATION = 18.7957
END_OBJECT = IMAGE
/* MAP OBJECT DEFINITIONS */
OBJECT = IMAGE_MAP_PROJECTION
  ^DATA_SET_MAP_PROJECTION_CATALOG= "DSMAP.CAT"
  A_AXIS_RADIUS = 3396.19
  B_AXIS_RADIUS = 3396.19
  C_AXIS_RADIUS = 3396.19
  CENTER_LATITUDE = 0.0
  CENTER_LONGITUDE = 74.0
  COORDINATE_SYSTEM_NAME = PLANETOGRAPHIC
  COORDINATE_SYSTEM_TYPE = "BODY-FIXED ROTATING"
  EASTERNMOST_LONGITUDE = 73.5698
  FIRST_STANDARD_PARALLEL = "N/A"
  LINE_FIRST_PIXEL = 1
  LINE_LAST_PIXEL = 1190
  LINE_PROJECTION_OFFSET = -647261.0
  MAP_PROJECTION_ROTATION = 0.0
  MAP_PROJECTION_TYPE = SINUSOIDAL
  MAP_RESOLUTION = 23709.8786048756
  MAP_SCALE = 0.0025
  MAXIMUM_LATITUDE = -27.3123
  MINIMUM_LATITUDE = -27.3602
  POSITIVE_LONGITUDE_DIRECTION = EAST
  REFERENCE_LATITUDE = "N/A"
  REFERENCE_LONGITUDE = "N/A"
  SAMPLE_FIRST_PIXEL = 1
  SAMPLE_LAST_PIXEL = 1198
  SAMPLE_PROJECTION_OFFSET = 10219.0
  SECOND_STANDARD_PARALLEL = "N/A"
  WESTERNMOST_LONGITUDE = 73.5154
END_OBJECT = IMAGE_MAP_PROJECTION
END
