PDS_VERSION_ID = PDS3
/* FILE DATA ELEMENTS */
RECORD_TYPE = UNDEFINED
/* POINTERS TO DATA OBJECTS */
^IMAGE = ("H4210_0009_SR4.TIF")
/* IDENTIFICATION DATA ELEMENTS */
DATA_SET_ID = "MEX-M-HRSC-4-REFDR-MAPPROJECT-EXT1-V4.0"
DATA_SET_NAME = "MARS EXPRESS HRSC MAP PROJECTED REFDR EXTENSION1 V4.0"
DETECTOR_ID = MEX_HRSC_SRC
EVENT_TYPE = "MARS-REGIONAL-MAPPING-Im-La-Ot"
INSTRUMENT_HOST_ID = MEX
INSTRUMENT_HOST_NAME = "MARS EXPRESS"
INSTRUMENT_ID = HRSC
INSTRUMENT_NAME = "HIGH RESOLUTION STEREO CAMERA"
MISSION_NAME = "MARS EXPRESS"
MISSION_PHASE_NAME = ME_Phase_7
PROCESSING_LEVEL_ID = 4
PRODUCT_CREATION_TIME = 2023-02-10T03:49:22.000Z
PRODUCT_ID = "H4210_0009_SR4.TIF"
RELEASE_ID = 0006
REVISION_ID = 0000
/* QUALITY DATA ELEMENTS */
DATA_QUALITY_ID = 1
DATA_QUALITY_DESC = "Data calculated based on original SPICE kernels"
/* TIME DATA ELEMENTS */
SPACECRAFT_CLOCK_START_COUNT = "1/0124808045.07296"
SPACECRAFT_CLOCK_STOP_COUNT = "1/0124808273.07924"
IMAGE_TIME = 2007-04-16T12:55:29.125Z
START_TIME = 2007-04-16T12:55:29.122Z
STOP_TIME = 2007-04-16T12:55:29.127Z
/* ORBITAL DATA ELEMENTS */
ASCENDING_NODE_LONGITUDE = 140.11
MAXIMUM_RESOLUTION = 0.002781
FOOTPRINT_POINT_LATITUDE = (-27.2877,-27.2858,-27.2836,-27.2806, -27.2792,-27.2771,-27.2753,-27.273, -27.2716,-27.27,-27.2674,-27.2646, -27.263,-27.2611,-27.2588,-27.2573, -27.2554,-27.2523,-27.2498,-27.2483, -27.2452,-27.2423,-27.2404,-27.2403, -27.2403,-27.2404,-27.2404,-27.2404, -27.2404,-27.2404,-27.2404,-27.2405, -27.2405,-27.2405,-27.2405,-27.2405, -27.2405,-27.2406,-27.2406,-27.2406, -27.2406,-27.2406,-27.2407,-27.2407, -27.2407,-27.2407,-27.2407,-27.2407, -27.2408,-27.2408,-27.2408,-27.2408, -27.2425,-27.2447,-27.2479,-27.2494, -27.2519,-27.2548,-27.2568,-27.2596, -27.2621,-27.2642,-27.2659,-27.2684, -27.2705,-27.2719,-27.2741,-27.2766, -27.2793,-27.2813,-27.284,-27.286, -27.2881,-27.2882,-27.2882,-27.2881, -27.2881,-27.2881,-27.2881,-27.288, -27.288,-27.288,-27.288,-27.288, -27.2879,-27.2879,-27.2879,-27.2879, -27.2879,-27.2878,-27.2878,-27.2878, -27.2878,-27.2878,-27.2877,-27.2877, -27.2877,-27.2877,-27.2877,-27.2877)
FOOTPRINT_POINT_LONGITUDE = (73.5163,73.5163,73.5163,73.5163, 73.5163,73.5164,73.5164,73.5164,73.5164 ,73.5164,73.5165,73.5165,73.5165, 73.5165,73.5166,73.5166,73.5166,73.5166 ,73.5167,73.5167,73.5167,73.5168, 73.5168,73.5168,73.5168,73.5184,73.5205 ,73.5226,73.5248,73.5269,73.529,73.5311 ,73.5332,73.5353,73.5374,73.539,73.5406 ,73.5422,73.5443,73.547,73.5491,73.5517 ,73.5544,73.5565,73.5586,73.5602, 73.5623,73.5644,73.5671,73.5697,73.5702 ,73.5706,73.5705,73.5705,73.5705, 73.5705,73.5704,73.5704,73.5704,73.5704 ,73.5703,73.5703,73.5703,73.5703, 73.5703,73.5702,73.5702,73.5702,73.5702 ,73.5701,73.5701,73.5701,73.5701, 73.5701,73.57,73.5674,73.5653,73.5626, 73.5605,73.5578,73.5557,73.5536,73.552, 73.5494,73.5472,73.5446,73.542,73.5393, 73.5372,73.5351,73.5335,73.5314,73.5287 ,73.5261,73.524,73.5208,73.5187,73.5171 ,73.5166,73.5163)
ORBIT_NUMBER = 4210
ORBITAL_ECCENTRICITY = 0.571
ORBITAL_INCLINATION = 86.7
ORBITAL_SEMIMAJOR_AXIS = 8612.94
PERIAPSIS_ALTITUDE = 297.81
PERIAPSIS_ARGUMENT_ANGLE = 336.47
PERIAPSIS_TIME = 2007-04-16T12:56:26.000Z
SPACECRAFT_ORIENTATION = (0.0,1.0,0.0)
^MEX_ORIENTATION_DESC = "MEX_ORIENTATION_DESC.TXT"
SPACECRAFT_POINTING_MODE = NADIR
^MEX_POINTING_DESC = "MEX_POINTING_DESC.TXT"
RIGHT_ASCENSION = -1e+32
DECLINATION = -1e+32
OFFSET_ANGLE = -1e+32
SPACECRAFT_SOLAR_DISTANCE = 2.0919e+08
TARGET_NAME = MARS
/* CAMERA DATA ELEMENTS */
BUFFER_MODE_ID = BUFFER_8
EXPOSURE_DURATION = 5.04
INST_CMPRS_NAME = NONE
INST_CMPRS_RATIO = 1.0
INST_CMPRS_QUALITY = -2147483648
INST_CMPRS_QUANTZ_TBL_ID = -2147483648
INSTRUMENT_TEMPERATURE = 8.01494
MISSING_FRAMES = 0
START_BIT = 0
/* RADIOMETRIC DATA ELEMENTS */
BANDWIDTH = 250.0
CENTER_FILTER_WAVELENGTH = 600.0
RADIANCE_OFFSET = -9.99e+31
RADIANCE_SCALING_FACTOR = -9.99e+31
REFLECTANCE_SCALING_FACTOR = -9.99e+31
MEX:REFLECTANCE_OFFSET = -9.99e+31
/* IMAGE OBJECT DEFINITIONS */
OBJECT = IMAGE
  INTERCHANGE_FORMAT = BINARY
  LINES = 1190
  LINE_SAMPLES = 1196
  SAMPLE_TYPE = UNSIGNED_INTEGER
  SAMPLE_BITS = 8
  BANDS = 1
  BAND_STORAGE_TYPE = BAND_SEQUENTIAL
  MAXIMUM = 246
  MEAN = 156.054
  MINIMUM = 31
  STANDARD_DEVIATION = 16.6968
END_OBJECT = IMAGE
/* MAP OBJECT DEFINITIONS */
OBJECT = IMAGE_MAP_PROJECTION
  ^DATA_SET_MAP_PROJECTION_CATALOG= "DSMAP.CAT"
  A_AXIS_RADIUS = 3396.19
  B_AXIS_RADIUS = 3396.19
  C_AXIS_RADIUS = 3396.19
  CENTER_LATITUDE = 0.0
  CENTER_LONGITUDE = 74.0
  COORDINATE_SYSTEM_NAME = PLANETOGRAPHIC
  COORDINATE_SYSTEM_TYPE = "BODY-FIXED ROTATING"
  EASTERNMOST_LONGITUDE = 73.5706
  FIRST_STANDARD_PARALLEL = "N/A"
  LINE_FIRST_PIXEL = 1
  LINE_LAST_PIXEL = 1190
  LINE_PROJECTION_OFFSET = -645556.0
  MAP_PROJECTION_ROTATION = 0.0
  MAP_PROJECTION_TYPE = SINUSOIDAL
  MAP_RESOLUTION = 23709.8786048756
  MAP_SCALE = 0.0025
  MAXIMUM_LATITUDE = -27.2403
  MINIMUM_LATITUDE = -27.2882
  POSITIVE_LONGITUDE_DIRECTION = EAST
  REFERENCE_LATITUDE = "N/A"
  REFERENCE_LONGITUDE = "N/A"
  SAMPLE_FIRST_PIXEL = 1
  SAMPLE_LAST_PIXEL = 1196
  SAMPLE_PROJECTION_OFFSET = 10207.0
  SECOND_STANDARD_PARALLEL = "N/A"
  WESTERNMOST_LONGITUDE = 73.5163
END_OBJECT = IMAGE_MAP_PROJECTION
END
