PDS_VERSION_ID = PDS3
/* FILE DATA ELEMENTS */
RECORD_TYPE = UNDEFINED
/* POINTERS TO DATA OBJECTS */
^IMAGE = ("H4215_0000_P14.TIF")
/* IDENTIFICATION DATA ELEMENTS */
DATA_SET_ID = "MEX-M-HRSC-4-REFDR-MAPPROJECT-EXT1-V4.0"
DATA_SET_NAME = "MARS EXPRESS HRSC MAP PROJECTED REFDR EXTENSION1 V4.0"
DETECTOR_ID = MEX_HRSC_P1
EVENT_TYPE = "MARS-REGIONAL-STEREO-Te-Fl"
INSTRUMENT_HOST_ID = MEX
INSTRUMENT_HOST_NAME = "MARS EXPRESS"
INSTRUMENT_ID = HRSC
INSTRUMENT_NAME = "HIGH RESOLUTION STEREO CAMERA"
MISSION_NAME = "MARS EXPRESS"
MISSION_PHASE_NAME = ME_Phase_7
PROCESSING_LEVEL_ID = 4
PRODUCT_CREATION_TIME = 2023-02-10T03:49:22.000Z
PRODUCT_ID = "H4215_0000_P14.TIF"
RELEASE_ID = 0006
REVISION_ID = 0000
/* QUALITY DATA ELEMENTS */
DATA_QUALITY_ID = 1
DATA_QUALITY_DESC = "Data calculated based on original SPICE kernels"
/* TIME DATA ELEMENTS */
SPACECRAFT_CLOCK_START_COUNT = "1/0124929018.09072"
SPACECRAFT_CLOCK_STOP_COUNT = "1/0124929281.10194"
START_TIME = 2007-04-17T22:31:07.814Z
STOP_TIME = 2007-04-17T22:34:33.309Z
/* ORBITAL DATA ELEMENTS */
ASCENDING_NODE_LONGITUDE = 140.0
MAXIMUM_RESOLUTION = 0.0242
FOOTPRINT_POINT_LATITUDE = (-29.6699,-29.6585,-29.6482,-29.6375, -29.6371,-29.6507,-29.2448,-28.9745, -28.7037,-28.4331,-28.0273,-27.7572, -27.3507,-27.0796,-26.8092,-26.5354, -26.2647,-25.993,-25.457,-25.1822, -24.7794,-24.5106,-24.2421,-23.9737, -23.5716,-23.3032,-23.0338,-22.7656, -22.498,-22.2296,-21.9621,-21.6948, -21.2938,-21.0275,-20.6285,-20.3625, -19.8306,-19.5617,-19.2957,-18.8866, -18.611,-18.336,-18.0623,-17.7886, -17.3783,-17.105,-16.8319,-16.5595, -16.2859,-16.1497,-16.1242,-16.1338, -16.15,-16.1502,-16.1507,-16.4238, -16.6979,-16.9717,-17.2454,-17.5192, -17.7937,-18.0683,-18.3428,-18.6179, -18.893,-19.1684,-19.7003,-19.9699, -20.3679,-20.634,-21.1664,-21.4334, -21.7014,-22.1021,-22.5105,-22.7806, -23.3145,-23.5834,-23.8519,-24.1212, -24.3899,-24.6585,-24.9276,-25.1966, -25.4661,-25.7358,-26.0053,-26.2751, -26.6801,-27.089,-27.4948,-27.7657, -28.0363,-28.4423,-28.7131,-28.9838, -29.2541,-29.5248,-29.6601,-29.6699)
FOOTPRINT_POINT_LONGITUDE = (303.352,302.898,302.522,302.152,302.14 ,302.136,302.144,302.148,302.153, 302.157,302.164,302.168,302.173,302.177 ,302.18,302.184,302.187,302.19,302.195, 302.198,302.202,302.204,302.206,302.208 ,302.21,302.212,302.213,302.215,302.216 ,302.217,302.218,302.219,302.22,302.22, 302.221,302.221,302.221,302.221,302.221 ,302.22,302.22,302.219,302.218,302.217, 302.216,302.214,302.213,302.212,302.21, 302.209,302.209,302.592,303.343,303.354 ,303.358,303.358,303.359,303.359, 303.358,303.358,303.358,303.358,303.357 ,303.357,303.357,303.357,303.356, 303.356,303.354,303.353,303.352,303.352 ,303.352,303.352,303.358,303.36,303.358 ,303.359,303.359,303.359,303.359, 303.359,303.359,303.359,303.359,303.36, 303.36,303.36,303.361,303.362,303.363, 303.365,303.365,303.366,303.367,303.367 ,303.368,303.368,303.368,303.352)
ORBIT_NUMBER = 4215
ORBITAL_ECCENTRICITY = 0.571
ORBITAL_INCLINATION = 86.68
ORBITAL_SEMIMAJOR_AXIS = 8608.41
PERIAPSIS_ALTITUDE = 298.31
PERIAPSIS_ARGUMENT_ANGLE = 335.62
PERIAPSIS_TIME = 2007-04-17T22:32:11.000Z
SPACECRAFT_ORIENTATION = (0.0,1.0,0.0)
^MEX_ORIENTATION_DESC = "MEX_ORIENTATION_DESC.TXT"
SPACECRAFT_POINTING_MODE = ACROSSTRACK
^MEX_POINTING_DESC = "MEX_POINTING_DESC.TXT"
RIGHT_ASCENSION = -1e+32
DECLINATION = -1e+32
OFFSET_ANGLE = -0.5
SPACECRAFT_SOLAR_DISTANCE = 2.09052e+08
TARGET_NAME = MARS
/* CAMERA DATA ELEMENTS */
DETECTOR_TEMPERATURE = 17.7588
FOCAL_PLANE_TEMPERATURE = 8.7872
INST_CMPRS_NAME = "DISCRETE COSINE TRANSFORMATION (DCT)"
INST_CMPRS_RATIO = 9.29799
INST_CMPRS_QUALITY = 0
INST_CMPRS_QUANTZ_TBL_ID = 0
INSTRUMENT_TEMPERATURE = 11.234
LENS_TEMPERATURE = 8.9911
MACROPIXEL_SIZE = 2
PIXEL_SUBSAMPLING_FLAG = N
SIGNAL_CHAIN_ID = 3
/* RADIOMETRIC DATA ELEMENTS */
BANDWIDTH = 174.0
CENTER_FILTER_WAVELENGTH = 675.0
RADIANCE_OFFSET = 3.65111
RADIANCE_SCALING_FACTOR = 0.0122015
REFLECTANCE_SCALING_FACTOR = 0.000286818
MEX:REFLECTANCE_OFFSET = 0.0858259
/* IMAGE OBJECT DEFINITIONS */
OBJECT = IMAGE
  INTERCHANGE_FORMAT = BINARY
  LINES = 32118
  LINE_SAMPLES = 2591
  SAMPLE_TYPE = UNSIGNED_INTEGER
  SAMPLE_BITS = 8
  BANDS = 1
  BAND_STORAGE_TYPE = BAND_SEQUENTIAL
  MAXIMUM = 255
  MEAN = 127.894
  MINIMUM = 1
  STANDARD_DEVIATION = 19.8813
END_OBJECT = IMAGE
/* MAP OBJECT DEFINITIONS */
OBJECT = IMAGE_MAP_PROJECTION
  ^DATA_SET_MAP_PROJECTION_CATALOG= "DSMAP.CAT"
  A_AXIS_RADIUS = 3396.0
  B_AXIS_RADIUS = 3396.0
  C_AXIS_RADIUS = 3396.0
  CENTER_LATITUDE = 0.0
  CENTER_LONGITUDE = 303.0
  COORDINATE_SYSTEM_NAME = PLANETOGRAPHIC
  COORDINATE_SYSTEM_TYPE = "BODY-FIXED ROTATING"
  EASTERNMOST_LONGITUDE = 303.368
  FIRST_STANDARD_PARALLEL = "N/A"
  LINE_FIRST_PIXEL = 1
  LINE_LAST_PIXEL = 32118
  LINE_PROJECTION_OFFSET = -38252.25
  MAP_PROJECTION_ROTATION = 0.0
  MAP_PROJECTION_TYPE = SINUSOIDAL
  MAP_RESOLUTION = 2370.85521546667
  MAP_SCALE = 0.025
  MAXIMUM_LATITUDE = -16.1242
  MINIMUM_LATITUDE = -29.6699
  POSITIVE_LONGITUDE_DIRECTION = EAST
  REFERENCE_LATITUDE = "N/A"
  REFERENCE_LONGITUDE = "N/A"
  SAMPLE_FIRST_PIXEL = 1
  SAMPLE_LAST_PIXEL = 2591
  SAMPLE_PROJECTION_OFFSET = 1796.75
  SECOND_STANDARD_PARALLEL = "N/A"
  WESTERNMOST_LONGITUDE = 302.136
END_OBJECT = IMAGE_MAP_PROJECTION
END
