PDS_VERSION_ID = PDS3
/* FILE DATA ELEMENTS */
RECORD_TYPE = UNDEFINED
/* POINTERS TO DATA OBJECTS */
^IMAGE = ("H4231_0000_IR4.TIF")
/* IDENTIFICATION DATA ELEMENTS */
DATA_SET_ID = "MEX-M-HRSC-4-REFDR-MAPPROJECT-EXT1-V4.0"
DATA_SET_NAME = "MARS EXPRESS HRSC MAP PROJECTED REFDR EXTENSION1 V4.0"
DETECTOR_ID = MEX_HRSC_IR
EVENT_TYPE = "MARS-REGIONAL-MAPPING-Im-Fl"
INSTRUMENT_HOST_ID = MEX
INSTRUMENT_HOST_NAME = "MARS EXPRESS"
INSTRUMENT_ID = HRSC
INSTRUMENT_NAME = "HIGH RESOLUTION STEREO CAMERA"
MISSION_NAME = "MARS EXPRESS"
MISSION_PHASE_NAME = ME_Phase_7
PROCESSING_LEVEL_ID = 4
PRODUCT_CREATION_TIME = 2023-02-10T03:49:22.000Z
PRODUCT_ID = "H4231_0000_IR4.TIF"
RELEASE_ID = 0006
REVISION_ID = 0000
/* QUALITY DATA ELEMENTS */
DATA_QUALITY_ID = 1
DATA_QUALITY_DESC = "Data calculated based on original SPICE kernels"
/* TIME DATA ELEMENTS */
SPACECRAFT_CLOCK_START_COUNT = "1/0125315943.08401"
SPACECRAFT_CLOCK_STOP_COUNT = "1/0125316179.31542"
START_TIME = 2007-04-22T10:00:02.306Z
STOP_TIME = 2007-04-22T10:02:57.004Z
/* ORBITAL DATA ELEMENTS */
ASCENDING_NODE_LONGITUDE = 139.67
MAXIMUM_RESOLUTION = 0.0992
FOOTPRINT_POINT_LATITUDE = (-38.6779,-38.6545,-38.6354,-38.6157, -38.615,-38.6451,-38.4007,-38.0338, -37.7894,-37.5445,-37.2991,-37.0538, -36.8102,-36.5699,-36.3338,-36.0979, -35.744,-35.5079,-35.2697,-35.029, -34.7932,-34.5566,-34.3241,-34.0885, -33.8531,-33.6174,-33.2643,-32.9123, -32.6848,-32.4573,-32.1159,-31.7739, -31.4329,-30.982,-30.7522,-30.5259, -30.3004,-30.0737,-29.7338,-29.3937, -29.1677,-28.8284,-28.4894,-28.1502, -27.924,-27.6983,-27.3592,-27.1333, -27.0204,-27.0113,-27.027,-27.0419, -27.061,-27.0614,-27.0633,-27.2899, -27.5159,-27.7426,-27.9704,-28.3076, -28.6475,-28.9872,-29.2136,-29.44, -29.6667,-30.0085,-30.2358,-30.4602, -30.6873,-30.9141,-31.1451,-31.3731, -31.8235,-32.0515,-32.3936,-32.6217, -32.9636,-33.3189,-33.5606,-33.907, -34.1438,-34.4981,-34.7346,-34.9706, -35.2069,-35.5606,-35.7974,-36.0321, -36.2708,-36.5059,-36.8644,-37.1097, -37.3547,-37.5996,-37.8394,-38.094, -38.339,-38.5764,-38.6996,-38.6779)
FOOTPRINT_POINT_LONGITUDE = (171.353,170.792,170.365,169.946, 169.933,169.932,169.941,169.954,169.962 ,169.971,169.979,169.986,169.994, 170.002,170.009,170.016,170.026,170.033 ,170.039,170.044,170.05,170.056,170.062 ,170.068,170.074,170.079,170.087, 170.094,170.099,170.103,170.109,170.115 ,170.121,170.129,170.132,170.135, 170.139,170.142,170.146,170.151,170.153 ,170.157,170.161,170.164,170.166, 170.168,170.171,170.173,170.174,170.174 ,170.509,170.863,171.34,171.351,171.359 ,171.361,171.361,171.363,171.365, 171.364,171.365,171.366,171.367,171.367 ,171.368,171.37,171.371,171.369,171.37, 171.37,171.375,171.376,171.373,171.374, 171.376,171.377,171.378,171.383,171.389 ,171.382,171.383,171.384,171.384, 171.384,171.385,171.385,171.386,171.384 ,171.387,171.386,171.386,171.387, 171.387,171.388,171.383,171.394,171.395 ,171.387,171.388,171.353)
ORBIT_NUMBER = 4231
ORBITAL_ECCENTRICITY = 0.571
ORBITAL_INCLINATION = 86.69
ORBITAL_SEMIMAJOR_AXIS = 8601.59
PERIAPSIS_ALTITUDE = 297.55
PERIAPSIS_ARGUMENT_ANGLE = 332.8
PERIAPSIS_TIME = 2007-04-22T10:02:34.000Z
SPACECRAFT_ORIENTATION = (0.0,1.0,0.0)
^MEX_ORIENTATION_DESC = "MEX_ORIENTATION_DESC.TXT"
SPACECRAFT_POINTING_MODE = ACROSSTRACK
^MEX_POINTING_DESC = "MEX_POINTING_DESC.TXT"
RIGHT_ASCENSION = -1e+32
DECLINATION = -1e+32
OFFSET_ANGLE = -0.75
SPACECRAFT_SOLAR_DISTANCE = 2.08633e+08
TARGET_NAME = MARS
/* CAMERA DATA ELEMENTS */
DETECTOR_TEMPERATURE = 17.5549
FOCAL_PLANE_TEMPERATURE = 8.9911
INST_CMPRS_NAME = "DISCRETE COSINE TRANSFORMATION (DCT)"
INST_CMPRS_RATIO = 15.2596
INST_CMPRS_QUALITY = 0
INST_CMPRS_QUANTZ_TBL_ID = 0
INSTRUMENT_TEMPERATURE = 11.4379
LENS_TEMPERATURE = 9.6028
MACROPIXEL_SIZE = 8
MISSING_FRAMES = 0
PIXEL_SUBSAMPLING_FLAG = N
SIGNAL_CHAIN_ID = 2
/* RADIOMETRIC DATA ELEMENTS */
BANDWIDTH = 81.0
CENTER_FILTER_WAVELENGTH = 955.5
RADIANCE_OFFSET = 1.03789
RADIANCE_SCALING_FACTOR = 0.00407016
REFLECTANCE_SCALING_FACTOR = 0.000382214
MEX:REFLECTANCE_OFFSET = 0.0974646
/* IMAGE OBJECT DEFINITIONS */
OBJECT = IMAGE
  INTERCHANGE_FORMAT = BINARY
  LINES = 6916
  LINE_SAMPLES = 704
  SAMPLE_TYPE = UNSIGNED_INTEGER
  SAMPLE_BITS = 8
  BANDS = 1
  BAND_STORAGE_TYPE = BAND_SEQUENTIAL
  MAXIMUM = 255
  MEAN = 100.25
  MINIMUM = 1
  STANDARD_DEVIATION = 28.1025
END_OBJECT = IMAGE
/* MAP OBJECT DEFINITIONS */
OBJECT = IMAGE_MAP_PROJECTION
  ^DATA_SET_MAP_PROJECTION_CATALOG= "DSMAP.CAT"
  A_AXIS_RADIUS = 3396.0
  B_AXIS_RADIUS = 3396.0
  C_AXIS_RADIUS = 3396.0
  CENTER_LATITUDE = 0.0
  CENTER_LONGITUDE = 171.0
  COORDINATE_SYSTEM_NAME = PLANETOGRAPHIC
  COORDINATE_SYSTEM_TYPE = "BODY-FIXED ROTATING"
  EASTERNMOST_LONGITUDE = 171.395
  FIRST_STANDARD_PARALLEL = "N/A"
  LINE_FIRST_PIXEL = 1
  LINE_LAST_PIXEL = 6916
  LINE_PROJECTION_OFFSET = -16026.9375
  MAP_PROJECTION_ROTATION = 0.0
  MAP_PROJECTION_TYPE = SINUSOIDAL
  MAP_RESOLUTION = 592.713803866667
  MAP_SCALE = 0.1
  MAXIMUM_LATITUDE = -27.0113
  MINIMUM_LATITUDE = -38.6996
  POSITIVE_LONGITUDE_DIRECTION = EAST
  REFERENCE_LATITUDE = "N/A"
  REFERENCE_LONGITUDE = "N/A"
  SAMPLE_FIRST_PIXEL = 1
  SAMPLE_LAST_PIXEL = 704
  SAMPLE_PROJECTION_OFFSET = 509.1875
  SECOND_STANDARD_PARALLEL = "N/A"
  WESTERNMOST_LONGITUDE = 169.932
END_OBJECT = IMAGE_MAP_PROJECTION
END
