PDS_VERSION_ID = PDS3
/* FILE DATA ELEMENTS */
RECORD_TYPE = UNDEFINED
/* POINTERS TO DATA OBJECTS */
^IMAGE = ("H4242_0000_RE4.TIF")
/* IDENTIFICATION DATA ELEMENTS */
DATA_SET_ID = "MEX-M-HRSC-4-REFDR-MAPPROJECT-EXT1-V4.0"
DATA_SET_NAME = "MARS EXPRESS HRSC MAP PROJECTED REFDR EXTENSION1 V4.0"
DETECTOR_ID = MEX_HRSC_RED
EVENT_TYPE = "MARS-REGIONAL-MAPPING-Im-Fl"
INSTRUMENT_HOST_ID = MEX
INSTRUMENT_HOST_NAME = "MARS EXPRESS"
INSTRUMENT_ID = HRSC
INSTRUMENT_NAME = "HIGH RESOLUTION STEREO CAMERA"
MISSION_NAME = "MARS EXPRESS"
MISSION_PHASE_NAME = ME_Phase_7
PROCESSING_LEVEL_ID = 4
PRODUCT_CREATION_TIME = 2023-02-10T03:49:22.000Z
PRODUCT_ID = "H4242_0000_RE4.TIF"
RELEASE_ID = 0006
REVISION_ID = 0000
/* QUALITY DATA ELEMENTS */
DATA_QUALITY_ID = 1
DATA_QUALITY_DESC = "Data calculated based on original SPICE kernels"
/* TIME DATA ELEMENTS */
SPACECRAFT_CLOCK_START_COUNT = "1/0125582345.07302"
SPACECRAFT_CLOCK_STOP_COUNT = "1/0125582595.64312"
START_TIME = 2007-04-25T11:59:14.047Z
STOP_TIME = 2007-04-25T12:02:11.401Z
/* ORBITAL DATA ELEMENTS */
ASCENDING_NODE_LONGITUDE = 139.44
MAXIMUM_RESOLUTION = 0.1036
FOOTPRINT_POINT_LATITUDE = (-19.5326,-19.5608,-19.5806,-19.5987, -19.5993,-19.5831,-19.0406,-18.7145, -18.3889,-18.1656,-17.941,-17.719, -17.4869,-17.1481,-16.9231,-16.6984, -16.4739,-16.1379,-15.6972,-15.3472, -15.1067,-14.8747,-14.6405,-14.2929, -14.0604,-13.8285,-13.5966,-13.3586, -13.1202,-12.8774,-12.6415,-12.4001, -12.1604,-11.9186,-11.678,-11.4423, -11.2006,-10.9618,-10.7208,-10.4807, -10.1223,-9.88335,-9.64537,-9.40498, -9.16868,-8.92986,-8.69141,-8.41245, -7.98599,-7.84419,-7.76495,-7.74987, -7.73018,-7.71719,-7.68928,-7.68847, -7.69002,-7.97331,-8.2579,-8.67021, -8.90934,-9.14812,-9.3865,-9.62499, -9.86534,-10.1042,-10.3426,-10.7014, -10.941,-11.2991,-11.5411,-11.7807, -12.1403,-12.5001,-12.8582,-13.0993, -13.46,-13.6939,-13.9248,-14.2729, -14.6217,-14.854,-15.0853,-15.3214, -15.5536,-15.897,-16.2352,-16.4599, -16.6848,-16.9112,-17.1345,-17.3563, -17.5853,-17.9219,-18.1469,-18.5869, -18.912,-19.3496,-19.4577,-19.5326)
FOOTPRINT_POINT_LONGITUDE = (170.604,170.141,169.79,169.448,169.438 ,169.437,169.433,169.431,169.429, 169.427,169.425,169.423,169.423,169.42, 169.418,169.416,169.414,169.41,169.403, 169.399,169.399,169.396,169.394,169.389 ,169.386,169.383,169.38,169.377,169.373 ,169.37,169.366,169.363,169.36,169.356, 169.353,169.348,169.345,169.341,169.338 ,169.334,169.328,169.323,169.319, 169.315,169.31,169.306,169.302,169.296, 169.288,169.285,169.284,169.578,169.93, 170.16,170.616,170.629,170.638,170.637, 170.636,170.633,170.632,170.631,170.63, 170.63,170.628,170.628,170.628,170.627, 170.626,170.626,170.623,170.623,170.622 ,170.622,170.623,170.621,170.62,170.62, 170.621,170.621,170.621,170.622,170.623 ,170.619,170.62,170.616,170.616,170.616 ,170.617,170.615,170.617,170.621, 170.617,170.618,170.619,170.619,170.62, 170.618,170.619,170.604)
ORBIT_NUMBER = 4242
ORBITAL_ECCENTRICITY = 0.571
ORBITAL_INCLINATION = 86.69
ORBITAL_SEMIMAJOR_AXIS = 8599.15
PERIAPSIS_ALTITUDE = 296.91
PERIAPSIS_ARGUMENT_ANGLE = 330.86
PERIAPSIS_TIME = 2007-04-25T11:57:13.000Z
SPACECRAFT_ORIENTATION = (0.0,1.0,0.0)
^MEX_ORIENTATION_DESC = "MEX_ORIENTATION_DESC.TXT"
SPACECRAFT_POINTING_MODE = ACROSSTRACK
^MEX_POINTING_DESC = "MEX_POINTING_DESC.TXT"
RIGHT_ASCENSION = -1e+32
DECLINATION = -1e+32
OFFSET_ANGLE = -0.95
SPACECRAFT_SOLAR_DISTANCE = 2.08367e+08
TARGET_NAME = MARS
/* CAMERA DATA ELEMENTS */
DETECTOR_TEMPERATURE = 18.9822
FOCAL_PLANE_TEMPERATURE = 8.9911
INST_CMPRS_NAME = "DISCRETE COSINE TRANSFORMATION (DCT)"
INST_CMPRS_RATIO = 14.2749
INST_CMPRS_QUALITY = 0
INST_CMPRS_QUANTZ_TBL_ID = 0
INSTRUMENT_TEMPERATURE = 11.6418
LENS_TEMPERATURE = 9.195
MACROPIXEL_SIZE = 8
MISSING_FRAMES = 0
PIXEL_SUBSAMPLING_FLAG = N
SIGNAL_CHAIN_ID = 2
/* RADIOMETRIC DATA ELEMENTS */
BANDWIDTH = 48.0
CENTER_FILTER_WAVELENGTH = 748.0
RADIANCE_OFFSET = 1.92447
RADIANCE_SCALING_FACTOR = 0.00510753
REFLECTANCE_SCALING_FACTOR = 0.000506052
MEX:REFLECTANCE_OFFSET = 0.190676
/* IMAGE OBJECT DEFINITIONS */
OBJECT = IMAGE
  INTERCHANGE_FORMAT = BINARY
  LINES = 7004
  LINE_SAMPLES = 831
  SAMPLE_TYPE = UNSIGNED_INTEGER
  SAMPLE_BITS = 8
  BANDS = 1
  BAND_STORAGE_TYPE = BAND_SEQUENTIAL
  MAXIMUM = 255
  MEAN = 141.841
  MINIMUM = 1
  STANDARD_DEVIATION = 28.6829
END_OBJECT = IMAGE
/* MAP OBJECT DEFINITIONS */
OBJECT = IMAGE_MAP_PROJECTION
  ^DATA_SET_MAP_PROJECTION_CATALOG= "DSMAP.CAT"
  A_AXIS_RADIUS = 3396.0
  B_AXIS_RADIUS = 3396.0
  C_AXIS_RADIUS = 3396.0
  CENTER_LATITUDE = 0.0
  CENTER_LONGITUDE = 170.0
  COORDINATE_SYSTEM_NAME = PLANETOGRAPHIC
  COORDINATE_SYSTEM_TYPE = "BODY-FIXED ROTATING"
  EASTERNMOST_LONGITUDE = 170.638
  FIRST_STANDARD_PARALLEL = "N/A"
  LINE_FIRST_PIXEL = 1
  LINE_LAST_PIXEL = 7004
  LINE_PROJECTION_OFFSET = -4596.9375
  MAP_PROJECTION_ROTATION = 0.0
  MAP_PROJECTION_TYPE = SINUSOIDAL
  MAP_RESOLUTION = 592.713803866667
  MAP_SCALE = 0.1
  MAXIMUM_LATITUDE = -7.68847
  MINIMUM_LATITUDE = -19.5993
  POSITIVE_LONGITUDE_DIRECTION = EAST
  REFERENCE_LATITUDE = "N/A"
  REFERENCE_LONGITUDE = "N/A"
  SAMPLE_FIRST_PIXEL = 1
  SAMPLE_LAST_PIXEL = 831
  SAMPLE_PROJECTION_OFFSET = 443.3125
  SECOND_STANDARD_PARALLEL = "N/A"
  WESTERNMOST_LONGITUDE = 169.284
END_OBJECT = IMAGE_MAP_PROJECTION
END
