PDS_VERSION_ID = PDS3
/* FILE DATA ELEMENTS */
RECORD_TYPE = UNDEFINED
/* POINTERS TO DATA OBJECTS */
^IMAGE = ("H4249_0000_P14.TIF")
/* IDENTIFICATION DATA ELEMENTS */
DATA_SET_ID = "MEX-M-HRSC-4-REFDR-MAPPROJECT-EXT1-V4.0"
DATA_SET_NAME = "MARS EXPRESS HRSC MAP PROJECTED REFDR EXTENSION1 V4.0"
DETECTOR_ID = MEX_HRSC_P1
EVENT_TYPE = "MARS-REGIONAL-MAPPING-Te-Im"
INSTRUMENT_HOST_ID = MEX
INSTRUMENT_HOST_NAME = "MARS EXPRESS"
INSTRUMENT_ID = HRSC
INSTRUMENT_NAME = "HIGH RESOLUTION STEREO CAMERA"
MISSION_NAME = "MARS EXPRESS"
MISSION_PHASE_NAME = ME_Phase_7
PROCESSING_LEVEL_ID = 4
PRODUCT_CREATION_TIME = 2023-02-10T03:49:22.000Z
PRODUCT_ID = "H4249_0000_P14.TIF"
RELEASE_ID = 0006
REVISION_ID = 0000
/* QUALITY DATA ELEMENTS */
DATA_QUALITY_ID = 1
DATA_QUALITY_DESC = "Data calculated based on original SPICE kernels"
/* TIME DATA ELEMENTS */
SPACECRAFT_CLOCK_START_COUNT = "1/0125751490.09076"
SPACECRAFT_CLOCK_STOP_COUNT = "1/0125751779.64054"
START_TIME = 2007-04-27T10:58:58.034Z
STOP_TIME = 2007-04-27T11:02:49.502Z
/* ORBITAL DATA ELEMENTS */
ASCENDING_NODE_LONGITUDE = 139.3
MAXIMUM_RESOLUTION = 0.0483
FOOTPRINT_POINT_LATITUDE = (-32.4601,-32.4517,-32.4408,-32.4405, -32.4532,-32.1541,-31.8544,-31.4055, -31.1059,-30.8061,-30.5088,-30.208, -29.9092,-29.6101,-29.3134,-29.0147, -28.5681,-28.2704,-27.9753,-27.6767, -27.3799,-26.9347,-26.4903,-26.1938, -25.8982,-25.6035,-25.3088,-24.8674, -24.573,-24.2788,-23.9847,-23.6908, -23.391,-23.0869,-22.6309,-22.3276, -21.8748,-21.5723,-21.2687,-20.9637, -20.6628,-20.3511,-20.0452,-19.7283, -19.4183,-19.1075,-18.7999,-18.4907, -18.172,-17.6949,-17.536,-17.3782, -17.382,-17.3822,-17.3822,-17.3828, -17.8597,-18.1778,-18.4972,-18.8085, -19.1245,-19.589,-20.0558,-20.3667, -20.6737,-21.1253,-21.4271,-21.8871, -22.3391,-22.6422,-22.9464,-23.2493, -23.5539,-23.8492,-24.1429,-24.4371, -24.7311,-25.027,-25.3229,-25.7652, -26.0615,-26.5051,-26.8013,-27.0982, -27.5432,-27.8408,-28.2871,-28.5846, -28.8843,-29.1819,-29.4803,-29.7798, -30.229,-30.6769,-30.9766,-31.4267, -31.7264,-32.1786,-32.3279,-32.4601)
FOOTPRINT_POINT_LONGITUDE = (201.706,201.132,200.516,200.505, 200.496,200.504,200.511,200.522,200.529 ,200.536,200.542,200.549,200.555, 200.561,200.565,200.571,200.578,200.583 ,200.586,200.591,200.595,200.6,200.605, 200.609,200.611,200.614,200.616,200.619 ,200.621,200.623,200.624,200.626, 200.627,200.628,200.63,200.631,200.631, 200.631,200.632,200.633,200.632,200.632 ,200.629,200.631,200.63,200.629,200.626 ,200.625,200.623,200.62,200.619,200.618 ,201.254,201.824,201.836,201.839, 201.835,201.832,201.83,201.829,201.83, 201.825,201.822,201.819,201.814,201.81, 201.807,201.807,201.802,201.8,201.797, 201.794,201.792,201.79,201.787,201.785, 201.782,201.78,201.778,201.774,201.771, 201.767,201.765,201.762,201.758,201.756 ,201.752,201.749,201.747,201.744, 201.742,201.74,201.736,201.731,201.729, 201.725,201.722,201.72,201.718,201.706)
ORBIT_NUMBER = 4249
ORBITAL_ECCENTRICITY = 0.571
ORBITAL_INCLINATION = 86.69
ORBITAL_SEMIMAJOR_AXIS = 8597.85
PERIAPSIS_ALTITUDE = 296.1
PERIAPSIS_ARGUMENT_ANGLE = 329.61
PERIAPSIS_TIME = 2007-04-27T10:59:14.000Z
SPACECRAFT_ORIENTATION = (0.0,1.0,0.0)
^MEX_ORIENTATION_DESC = "MEX_ORIENTATION_DESC.TXT"
SPACECRAFT_POINTING_MODE = ACROSSTRACK
^MEX_POINTING_DESC = "MEX_POINTING_DESC.TXT"
RIGHT_ASCENSION = -1e+32
DECLINATION = -1e+32
OFFSET_ANGLE = -0.1
SPACECRAFT_SOLAR_DISTANCE = 2.08207e+08
TARGET_NAME = MARS
/* CAMERA DATA ELEMENTS */
DETECTOR_TEMPERATURE = 17.7588
FOCAL_PLANE_TEMPERATURE = 8.9911
INST_CMPRS_NAME = "DISCRETE COSINE TRANSFORMATION (DCT)"
INST_CMPRS_RATIO = 9.11779
INST_CMPRS_QUALITY = 0
INST_CMPRS_QUANTZ_TBL_ID = 0
INSTRUMENT_TEMPERATURE = 11.4379
LENS_TEMPERATURE = 8.7872
MACROPIXEL_SIZE = 4
MISSING_FRAMES = 0
PIXEL_SUBSAMPLING_FLAG = N
SIGNAL_CHAIN_ID = 3
/* RADIOMETRIC DATA ELEMENTS */
BANDWIDTH = 174.0
CENTER_FILTER_WAVELENGTH = 675.0
RADIANCE_OFFSET = 4.85053
RADIANCE_SCALING_FACTOR = 0.0253622
REFLECTANCE_SCALING_FACTOR = 0.000591379
MEX:REFLECTANCE_OFFSET = 0.113101
/* IMAGE OBJECT DEFINITIONS */
OBJECT = IMAGE
  INTERCHANGE_FORMAT = BINARY
  LINES = 18052
  LINE_SAMPLES = 1446
  SAMPLE_TYPE = UNSIGNED_INTEGER
  SAMPLE_BITS = 8
  BANDS = 1
  BAND_STORAGE_TYPE = BAND_SEQUENTIAL
  MAXIMUM = 255
  MEAN = 125.607
  MINIMUM = 1
  STANDARD_DEVIATION = 58.0788
END_OBJECT = IMAGE
/* MAP OBJECT DEFINITIONS */
OBJECT = IMAGE_MAP_PROJECTION
  ^DATA_SET_MAP_PROJECTION_CATALOG= "DSMAP.CAT"
  A_AXIS_RADIUS = 3396.0
  B_AXIS_RADIUS = 3396.0
  C_AXIS_RADIUS = 3396.0
  CENTER_LATITUDE = 0.0
  CENTER_LONGITUDE = 201.0
  COORDINATE_SYSTEM_NAME = PLANETOGRAPHIC
  COORDINATE_SYSTEM_TYPE = "BODY-FIXED ROTATING"
  EASTERNMOST_LONGITUDE = 201.839
  FIRST_STANDARD_PARALLEL = "N/A"
  LINE_FIRST_PIXEL = 1
  LINE_LAST_PIXEL = 18052
  LINE_PROJECTION_OFFSET = -20459.375
  MAP_PROJECTION_ROTATION = 0.0
  MAP_PROJECTION_TYPE = SINUSOIDAL
  MAP_RESOLUTION = 1185.42760773333
  MAP_SCALE = 0.05
  MAXIMUM_LATITUDE = -17.3782
  MINIMUM_LATITUDE = -32.4601
  POSITIVE_LONGITUDE_DIRECTION = EAST
  REFERENCE_LATITUDE = "N/A"
  REFERENCE_LONGITUDE = "N/A"
  SAMPLE_FIRST_PIXEL = 1
  SAMPLE_LAST_PIXEL = 1446
  SAMPLE_PROJECTION_OFFSET = 510.625
  SECOND_STANDARD_PARALLEL = "N/A"
  WESTERNMOST_LONGITUDE = 200.496
END_OBJECT = IMAGE_MAP_PROJECTION
END
