PDS_VERSION_ID = PDS3
/* FILE DATA ELEMENTS */
RECORD_TYPE = UNDEFINED
/* POINTERS TO DATA OBJECTS */
^IMAGE = ("H4257_0000_IR4.TIF")
/* IDENTIFICATION DATA ELEMENTS */
DATA_SET_ID = "MEX-M-HRSC-4-REFDR-MAPPROJECT-EXT1-V4.0"
DATA_SET_NAME = "MARS EXPRESS HRSC MAP PROJECTED REFDR EXTENSION1 V4.0"
DETECTOR_ID = MEX_HRSC_IR
EVENT_TYPE = "MARS-REGIONAL-MAPPING-Im-Eo"
INSTRUMENT_HOST_ID = MEX
INSTRUMENT_HOST_NAME = "MARS EXPRESS"
INSTRUMENT_ID = HRSC
INSTRUMENT_NAME = "HIGH RESOLUTION STEREO CAMERA"
MISSION_NAME = "MARS EXPRESS"
MISSION_PHASE_NAME = ME_Phase_7
PROCESSING_LEVEL_ID = 4
PRODUCT_CREATION_TIME = 2023-02-10T03:49:22.000Z
PRODUCT_ID = "H4257_0000_IR4.TIF"
RELEASE_ID = 0006
REVISION_ID = 0000
/* QUALITY DATA ELEMENTS */
DATA_QUALITY_ID = 1
DATA_QUALITY_DESC = "Data calculated based on original SPICE kernels"
/* TIME DATA ELEMENTS */
SPACECRAFT_CLOCK_START_COUNT = "1/0125944930.09079"
SPACECRAFT_CLOCK_STOP_COUNT = "1/0125945150.49623"
START_TIME = 2007-04-29T16:43:05.880Z
STOP_TIME = 2007-04-29T16:45:48.379Z
/* ORBITAL DATA ELEMENTS */
ASCENDING_NODE_LONGITUDE = 139.13
MAXIMUM_RESOLUTION = 0.0987
FOOTPRINT_POINT_LATITUDE = (-38.7461,-38.7164,-38.6929,-38.6691, -38.6683,-38.6938,-38.3593,-38.0253, -37.691,-37.3564,-37.0215,-36.798, -36.5736,-36.3521,-36.1389,-35.9198, -35.7044,-35.491,-35.2746,-35.0595, -34.844,-34.6283,-34.3062,-34.0914, -33.877,-33.6631,-33.4481,-33.2338, -33.0195,-32.8055,-32.5918,-32.3779, -32.1639,-31.8436,-31.6299,-31.31, -31.0969,-30.8836,-30.6705,-30.4576, -30.0341,-29.8185,-29.606,-29.3937, -29.1817,-28.9692,-28.7565,-28.4387, -28.1212,-28.0153,-27.9127,-27.93, -27.9542,-27.9798,-27.9802,-27.9822, -28.1935,-28.4085,-28.6208,-28.942, -29.3611,-29.5738,-29.8923,-30.2121, -30.425,-30.6378,-30.8513,-31.1715, -31.3842,-31.5981,-31.8119,-32.1327, -32.3468,-32.5611,-32.7743,-32.9907, -33.2091,-33.4242,-33.8481,-34.064, -34.2789,-34.6026,-34.8187,-35.1413, -35.3572,-35.5719,-35.7878,-36.1107, -36.325,-36.5432,-36.767,-37.102, -37.3259,-37.6605,-37.8885,-38.1078, -38.3321,-38.5571,-38.668,-38.7461)
FOOTPRINT_POINT_LONGITUDE = (136.684,136.135,135.721,135.319, 135.306,135.312,135.322,135.332,135.341 ,135.349,135.357,135.362,135.367, 135.372,135.377,135.38,135.384,135.389, 135.392,135.396,135.399,135.403,135.408 ,135.411,135.415,135.418,135.421, 135.424,135.427,135.429,135.432,135.435 ,135.437,135.441,135.443,135.446, 135.448,135.45,135.452,135.454,135.458, 135.458,135.459,135.46,135.462,135.462, 135.463,135.464,135.465,135.466,135.466 ,135.764,136.199,136.673,136.685, 136.693,136.693,136.697,136.698,136.703 ,136.696,136.697,136.697,136.698, 136.699,136.699,136.7,136.7,136.7, 136.701,136.701,136.702,136.703,136.704 ,136.703,136.706,136.712,136.714, 136.708,136.71,136.711,136.714,136.716, 136.717,136.718,136.718,136.72,136.721, 136.72,136.721,136.722,136.722,136.723, 136.723,136.729,136.724,136.725,136.727 ,136.726,136.684)
ORBIT_NUMBER = 4257
ORBITAL_ECCENTRICITY = 0.571
ORBITAL_INCLINATION = 86.68
ORBITAL_SEMIMAJOR_AXIS = 8600.17
PERIAPSIS_ALTITUDE = 296.0
PERIAPSIS_ARGUMENT_ANGLE = 328.22
PERIAPSIS_TIME = 2007-04-29T16:44:30.000Z
SPACECRAFT_ORIENTATION = (0.0,1.0,0.0)
^MEX_ORIENTATION_DESC = "MEX_ORIENTATION_DESC.TXT"
SPACECRAFT_POINTING_MODE = ACROSSTRACK
^MEX_POINTING_DESC = "MEX_POINTING_DESC.TXT"
RIGHT_ASCENSION = -1e+32
DECLINATION = -1e+32
OFFSET_ANGLE = -1.03
SPACECRAFT_SOLAR_DISTANCE = 2.08034e+08
TARGET_NAME = MARS
/* CAMERA DATA ELEMENTS */
DETECTOR_TEMPERATURE = 17.5549
FOCAL_PLANE_TEMPERATURE = 8.7872
INST_CMPRS_NAME = "DISCRETE COSINE TRANSFORMATION (DCT)"
INST_CMPRS_RATIO = 17.2983
INST_CMPRS_QUALITY = 0
INST_CMPRS_QUANTZ_TBL_ID = 0
INSTRUMENT_TEMPERATURE = 11.4379
LENS_TEMPERATURE = 9.195
MACROPIXEL_SIZE = 8
MISSING_FRAMES = 0
PIXEL_SUBSAMPLING_FLAG = N
SIGNAL_CHAIN_ID = 2
/* RADIOMETRIC DATA ELEMENTS */
BANDWIDTH = 81.0
CENTER_FILTER_WAVELENGTH = 955.5
RADIANCE_OFFSET = 1.17449
RADIANCE_SCALING_FACTOR = 0.0051523
REFLECTANCE_SCALING_FACTOR = 0.00048106
MEX:REFLECTANCE_OFFSET = 0.10966
/* IMAGE OBJECT DEFINITIONS */
OBJECT = IMAGE
  INTERCHANGE_FORMAT = BINARY
  LINES = 6402
  LINE_SAMPLES = 692
  SAMPLE_TYPE = UNSIGNED_INTEGER
  SAMPLE_BITS = 8
  BANDS = 1
  BAND_STORAGE_TYPE = BAND_SEQUENTIAL
  MAXIMUM = 255
  MEAN = 88.2524
  MINIMUM = 1
  STANDARD_DEVIATION = 35.8344
END_OBJECT = IMAGE
/* MAP OBJECT DEFINITIONS */
OBJECT = IMAGE_MAP_PROJECTION
  ^DATA_SET_MAP_PROJECTION_CATALOG= "DSMAP.CAT"
  A_AXIS_RADIUS = 3396.0
  B_AXIS_RADIUS = 3396.0
  C_AXIS_RADIUS = 3396.0
  CENTER_LATITUDE = 0.0
  CENTER_LONGITUDE = 136.0
  COORDINATE_SYSTEM_NAME = PLANETOGRAPHIC
  COORDINATE_SYSTEM_TYPE = "BODY-FIXED ROTATING"
  EASTERNMOST_LONGITUDE = 136.729
  FIRST_STANDARD_PARALLEL = "N/A"
  LINE_FIRST_PIXEL = 1
  LINE_LAST_PIXEL = 6402
  LINE_PROJECTION_OFFSET = -16573.6875
  MAP_PROJECTION_ROTATION = 0.0
  MAP_PROJECTION_TYPE = SINUSOIDAL
  MAP_RESOLUTION = 592.713803866667
  MAP_SCALE = 0.1
  MAXIMUM_LATITUDE = -27.9127
  MINIMUM_LATITUDE = -38.7461
  POSITIVE_LONGITUDE_DIRECTION = EAST
  REFERENCE_LATITUDE = "N/A"
  REFERENCE_LONGITUDE = "N/A"
  SAMPLE_FIRST_PIXEL = 1
  SAMPLE_LAST_PIXEL = 692
  SAMPLE_PROJECTION_OFFSET = 329.8125
  SECOND_STANDARD_PARALLEL = "N/A"
  WESTERNMOST_LONGITUDE = 135.306
END_OBJECT = IMAGE_MAP_PROJECTION
END
