PDS_VERSION_ID = PDS3
/* FILE DATA ELEMENTS */
RECORD_TYPE = UNDEFINED
/* POINTERS TO DATA OBJECTS */
^IMAGE = ("H4257_0000_S24.TIF")
/* IDENTIFICATION DATA ELEMENTS */
DATA_SET_ID = "MEX-M-HRSC-4-REFDR-MAPPROJECT-EXT1-V4.0"
DATA_SET_NAME = "MARS EXPRESS HRSC MAP PROJECTED REFDR EXTENSION1 V4.0"
DETECTOR_ID = MEX_HRSC_S2
EVENT_TYPE = "MARS-REGIONAL-MAPPING-Im-Eo"
INSTRUMENT_HOST_ID = MEX
INSTRUMENT_HOST_NAME = "MARS EXPRESS"
INSTRUMENT_ID = HRSC
INSTRUMENT_NAME = "HIGH RESOLUTION STEREO CAMERA"
MISSION_NAME = "MARS EXPRESS"
MISSION_PHASE_NAME = ME_Phase_7
PROCESSING_LEVEL_ID = 4
PRODUCT_CREATION_TIME = 2023-02-10T03:49:22.000Z
PRODUCT_ID = "H4257_0000_S24.TIF"
RELEASE_ID = 0006
REVISION_ID = 0000
/* QUALITY DATA ELEMENTS */
DATA_QUALITY_ID = 1
DATA_QUALITY_DESC = "Data calculated based on original SPICE kernels"
/* TIME DATA ELEMENTS */
SPACECRAFT_CLOCK_START_COUNT = "1/0125944930.09079"
SPACECRAFT_CLOCK_STOP_COUNT = "1/0125945150.49623"
START_TIME = 2007-04-29T16:42:14.286Z
STOP_TIME = 2007-04-29T16:44:59.418Z
/* ORBITAL DATA ELEMENTS */
ASCENDING_NODE_LONGITUDE = 139.13
MAXIMUM_RESOLUTION = 0.0251
FOOTPRINT_POINT_LATITUDE = (-38.7727,-38.8024,-38.8238,-38.8421, -38.8426,-38.8081,-38.5863,-38.3637, -38.0292,-37.806,-37.5831,-37.36, -37.1397,-36.9246,-36.7092,-36.4951, -36.2772,-35.956,-35.741,-35.5238, -35.3072,-34.9825,-34.6582,-34.4404, -34.2232,-34.0054,-33.7875,-33.4601, -33.2421,-33.0308,-32.7139,-32.5026, -32.2916,-32.0801,-31.8684,-31.5512, -31.3389,-31.1266,-30.8086,-30.5961, -30.2777,-30.0646,-29.7466,-29.5339, -29.3207,-29.0009,-28.6827,-28.4689, -28.1483,-28.0417,-28.0074,-27.9786, -27.9533,-27.9268,-27.9259,-27.9259, -28.2465,-28.5634,-28.9901,-29.2068, -29.5255,-29.7383,-30.0576,-30.377, -30.5896,-30.8022,-31.0141,-31.2266, -31.4393,-31.6511,-31.8626,-32.0749, -32.2858,-32.4968,-32.709,-33.1245, -33.3401,-33.5631,-33.7842,-34.001, -34.2184,-34.5442,-34.8684,-35.0858, -35.3019,-35.5192,-35.7359,-35.9518, -36.1688,-36.494,-36.8178,-37.1409, -37.3641,-37.5881,-37.8051,-38.0305, -38.3658,-38.5883,-38.6979,-38.7727)
FOOTPRINT_POINT_LONGITUDE = (136.713,136.162,135.714,135.278, 135.264,135.273,135.28,135.288,135.298, 135.305,135.312,135.318,135.324,135.33, 135.336,135.341,135.347,135.353,135.358 ,135.363,135.368,135.374,135.381, 135.385,135.389,135.393,135.397,135.403 ,135.406,135.41,135.415,135.418,135.421 ,135.424,135.427,135.431,135.434, 135.437,135.44,135.442,135.446,135.448, 135.45,135.452,135.454,135.456,135.458, 135.46,135.462,135.462,135.462,135.923, 136.293,136.672,136.685,136.689,136.691 ,136.696,136.698,136.695,136.698, 136.699,136.7,136.702,136.702,136.703, 136.705,136.706,136.706,136.707,136.709 ,136.709,136.711,136.712,136.713, 136.722,136.725,136.722,136.72,136.723, 136.725,136.727,136.732,136.733,136.735 ,136.736,136.737,136.74,136.74,136.741, 136.743,136.746,136.747,136.747,136.754 ,136.753,136.753,136.753,136.755, 136.713)
ORBIT_NUMBER = 4257
ORBITAL_ECCENTRICITY = 0.571
ORBITAL_INCLINATION = 86.68
ORBITAL_SEMIMAJOR_AXIS = 8600.17
PERIAPSIS_ALTITUDE = 296.0
PERIAPSIS_ARGUMENT_ANGLE = 328.22
PERIAPSIS_TIME = 2007-04-29T16:44:30.000Z
SPACECRAFT_ORIENTATION = (0.0,1.0,0.0)
^MEX_ORIENTATION_DESC = "MEX_ORIENTATION_DESC.TXT"
SPACECRAFT_POINTING_MODE = ACROSSTRACK
^MEX_POINTING_DESC = "MEX_POINTING_DESC.TXT"
RIGHT_ASCENSION = -1e+32
DECLINATION = -1e+32
OFFSET_ANGLE = -1.03
SPACECRAFT_SOLAR_DISTANCE = 2.08034e+08
TARGET_NAME = MARS
/* CAMERA DATA ELEMENTS */
DETECTOR_TEMPERATURE = 18.9822
FOCAL_PLANE_TEMPERATURE = 8.7872
INST_CMPRS_NAME = "DISCRETE COSINE TRANSFORMATION (DCT)"
INST_CMPRS_RATIO = 11.092
INST_CMPRS_QUALITY = 0
INST_CMPRS_QUANTZ_TBL_ID = 0
INSTRUMENT_TEMPERATURE = 11.4379
LENS_TEMPERATURE = 9.195
MACROPIXEL_SIZE = 2
MISSING_FRAMES = 0
PIXEL_SUBSAMPLING_FLAG = N
SIGNAL_CHAIN_ID = 1
/* RADIOMETRIC DATA ELEMENTS */
BANDWIDTH = 178.0
CENTER_FILTER_WAVELENGTH = 679.0
RADIANCE_OFFSET = 5.51078
RADIANCE_SCALING_FACTOR = 0.0175769
REFLECTANCE_SCALING_FACTOR = 0.000402846
MEX:REFLECTANCE_OFFSET = 0.126302
/* IMAGE OBJECT DEFINITIONS */
OBJECT = IMAGE
  INTERCHANGE_FORMAT = BINARY
  LINES = 25605
  LINE_SAMPLES = 2768
  SAMPLE_TYPE = UNSIGNED_INTEGER
  SAMPLE_BITS = 8
  BANDS = 1
  BAND_STORAGE_TYPE = BAND_SEQUENTIAL
  MAXIMUM = 255
  MEAN = 100.522
  MINIMUM = 1
  STANDARD_DEVIATION = 32.56
END_OBJECT = IMAGE
/* MAP OBJECT DEFINITIONS */
OBJECT = IMAGE_MAP_PROJECTION
  ^DATA_SET_MAP_PROJECTION_CATALOG= "DSMAP.CAT"
  A_AXIS_RADIUS = 3396.0
  B_AXIS_RADIUS = 3396.0
  C_AXIS_RADIUS = 3396.0
  CENTER_LATITUDE = 0.0
  CENTER_LONGITUDE = 136.0
  COORDINATE_SYSTEM_NAME = PLANETOGRAPHIC
  COORDINATE_SYSTEM_TYPE = "BODY-FIXED ROTATING"
  EASTERNMOST_LONGITUDE = 136.755
  FIRST_STANDARD_PARALLEL = "N/A"
  LINE_FIRST_PIXEL = 1
  LINE_LAST_PIXEL = 25605
  LINE_PROJECTION_OFFSET = -66293.25
  MAP_PROJECTION_ROTATION = 0.0
  MAP_PROJECTION_TYPE = SINUSOIDAL
  MAP_RESOLUTION = 2370.85521546667
  MAP_SCALE = 0.025
  MAXIMUM_LATITUDE = -27.9259
  MINIMUM_LATITUDE = -38.8426
  POSITIVE_LONGITUDE_DIRECTION = EAST
  REFERENCE_LATITUDE = "N/A"
  REFERENCE_LONGITUDE = "N/A"
  SAMPLE_FIRST_PIXEL = 1
  SAMPLE_LAST_PIXEL = 2768
  SAMPLE_PROJECTION_OFFSET = 1320.75
  SECOND_STANDARD_PARALLEL = "N/A"
  WESTERNMOST_LONGITUDE = 135.264
END_OBJECT = IMAGE_MAP_PROJECTION
END
