PDS_VERSION_ID = PDS3
/* FILE DATA ELEMENTS */
RECORD_TYPE = UNDEFINED
/* POINTERS TO DATA OBJECTS */
^IMAGE = ("H4258_0000_P24.TIF")
/* IDENTIFICATION DATA ELEMENTS */
DATA_SET_ID = "MEX-M-HRSC-4-REFDR-MAPPROJECT-EXT1-V4.0"
DATA_SET_NAME = "MARS EXPRESS HRSC MAP PROJECTED REFDR EXTENSION1 V4.0"
DETECTOR_ID = MEX_HRSC_P2
EVENT_TYPE = "MARS-REGIONAL-MAPPING-Im-Eo"
INSTRUMENT_HOST_ID = MEX
INSTRUMENT_HOST_NAME = "MARS EXPRESS"
INSTRUMENT_ID = HRSC
INSTRUMENT_NAME = "HIGH RESOLUTION STEREO CAMERA"
MISSION_NAME = "MARS EXPRESS"
MISSION_PHASE_NAME = ME_Phase_7
PROCESSING_LEVEL_ID = 4
PRODUCT_CREATION_TIME = 2023-02-10T03:49:22.000Z
PRODUCT_ID = "H4258_0000_P24.TIF"
RELEASE_ID = 0006
REVISION_ID = 0000
/* QUALITY DATA ELEMENTS */
DATA_QUALITY_ID = 1
DATA_QUALITY_DESC = "Data calculated based on original SPICE kernels"
/* TIME DATA ELEMENTS */
SPACECRAFT_CLOCK_START_COUNT = "1/0125969010.09046"
SPACECRAFT_CLOCK_STOP_COUNT = "1/0125969260.26412"
START_TIME = 2007-04-29T23:23:45.513Z
STOP_TIME = 2007-04-29T23:26:59.266Z
/* ORBITAL DATA ELEMENTS */
ASCENDING_NODE_LONGITUDE = 139.12
MAXIMUM_RESOLUTION = 0.0488
FOOTPRINT_POINT_LATITUDE = (-45.9058,-45.8976,-45.8857,-45.8745, -45.8578,-45.8572,-45.8182,-45.5572, -45.2949,-44.9019,-44.6396,-44.3713, -43.9734,-43.709,-43.4522,-43.196, -42.9452,-42.5595,-42.3018,-42.0426, -41.7877,-41.538,-41.288,-40.9129, -40.5369,-40.2843,-40.0323,-39.6547, -39.4111,-39.1674,-38.801,-38.5568, -38.3124,-38.0676,-37.8231,-37.4566, -37.2108,-36.9652,-36.6011,-36.1258, -35.6509,-35.4129,-35.1744,-34.9363, -34.698,-34.4577,-34.0988,-33.5048, -33.3849,-33.3501,-33.358,-33.3645, -33.368,-33.3682,-33.369,-33.6086, -33.848,-34.0874,-34.3267,-34.6802, -35.1572,-35.4036,-35.878,-36.354, -36.7098,-37.0783,-37.3252,-37.5704, -37.816,-38.0605,-38.3057,-38.551, -38.7947,-39.0393,-39.4068,-39.6516, -39.9023,-40.1555,-40.4074,-40.7849, -41.036,-41.4121,-41.6628,-41.9134, -42.1724,-42.4311,-42.6898,-42.9477, -43.2061,-43.4635,-43.7207,-43.985, -44.2496,-44.6449,-44.9092,-45.173, -45.4352,-45.6941,-45.8258,-45.9058)
FOOTPRINT_POINT_LONGITUDE = (36.9094,36.5285,36.0688,35.7047, 35.2292,35.2134,35.1887,35.2124,35.2351 ,35.2692,35.2915,35.3102,35.3406,35.361 ,35.3805,35.3997,35.4217,35.4492, 35.4671,35.484,35.5012,35.5177,35.5338, 35.5577,35.5807,35.5949,35.6093,35.6304 ,35.6438,35.6569,35.676,35.6886,35.701, 35.7131,35.7251,35.7431,35.7542,35.7653 ,35.7803,35.8001,35.8197,35.829,35.838, 35.847,35.8559,35.8636,35.8758,35.8976, 35.9013,35.9024,36.3397,36.8015,37.1251 ,37.1366,37.1404,37.1377,37.1351, 37.1323,37.1294,37.128,37.1225,37.1151, 37.1103,37.1041,37.0998,37.0934,37.0894 ,37.0863,37.0828,37.0798,37.0763, 37.0724,37.0694,37.0656,37.0593,37.055, 37.0509,37.0463,37.0422,37.0359,37.0317 ,37.0254,37.021,37.0165,37.0116,37.0067 ,37.0015,36.9966,36.991,36.9858,36.9805 ,36.9754,36.97,36.9625,36.9566,36.9507, 36.9456,36.9424,36.9391,36.9094)
ORBIT_NUMBER = 4258
ORBITAL_ECCENTRICITY = 0.571
ORBITAL_INCLINATION = 86.68
ORBITAL_SEMIMAJOR_AXIS = 8600.82
PERIAPSIS_ALTITUDE = 295.77
PERIAPSIS_ARGUMENT_ANGLE = 328.04
PERIAPSIS_TIME = 2007-04-29T23:27:39.000Z
SPACECRAFT_ORIENTATION = (0.0,1.0,0.0)
^MEX_ORIENTATION_DESC = "MEX_ORIENTATION_DESC.TXT"
SPACECRAFT_POINTING_MODE = NADIR
^MEX_POINTING_DESC = "MEX_POINTING_DESC.TXT"
RIGHT_ASCENSION = -1e+32
DECLINATION = -1e+32
OFFSET_ANGLE = -1e+32
SPACECRAFT_SOLAR_DISTANCE = 2.08013e+08
TARGET_NAME = MARS
/* CAMERA DATA ELEMENTS */
DETECTOR_TEMPERATURE = 18.7783
FOCAL_PLANE_TEMPERATURE = 9.195
INST_CMPRS_NAME = "DISCRETE COSINE TRANSFORMATION (DCT)"
INST_CMPRS_RATIO = 10.7344
INST_CMPRS_QUALITY = 0
INST_CMPRS_QUANTZ_TBL_ID = 0
INSTRUMENT_TEMPERATURE = 11.4379
LENS_TEMPERATURE = 9.3989
MACROPIXEL_SIZE = 4
MISSING_FRAMES = 0
PIXEL_SUBSAMPLING_FLAG = N
SIGNAL_CHAIN_ID = 3
/* RADIOMETRIC DATA ELEMENTS */
BANDWIDTH = 177.0
CENTER_FILTER_WAVELENGTH = 676.5
RADIANCE_OFFSET = 5.89783
RADIANCE_SCALING_FACTOR = 0.0123565
REFLECTANCE_SCALING_FACTOR = 0.000283487
MEX:REFLECTANCE_OFFSET = 0.135311
/* IMAGE OBJECT DEFINITIONS */
OBJECT = IMAGE
  INTERCHANGE_FORMAT = BINARY
  LINES = 14823
  LINE_SAMPLES = 1781
  SAMPLE_TYPE = UNSIGNED_INTEGER
  SAMPLE_BITS = 8
  BANDS = 1
  BAND_STORAGE_TYPE = BAND_SEQUENTIAL
  MAXIMUM = 255
  MEAN = 120.749
  MINIMUM = 1
  STANDARD_DEVIATION = 35.8775
END_OBJECT = IMAGE
/* MAP OBJECT DEFINITIONS */
OBJECT = IMAGE_MAP_PROJECTION
  ^DATA_SET_MAP_PROJECTION_CATALOG= "DSMAP.CAT"
  A_AXIS_RADIUS = 3396.0
  B_AXIS_RADIUS = 3396.0
  C_AXIS_RADIUS = 3396.0
  CENTER_LATITUDE = 0.0
  CENTER_LONGITUDE = 36.0
  COORDINATE_SYSTEM_NAME = PLANETOGRAPHIC
  COORDINATE_SYSTEM_TYPE = "BODY-FIXED ROTATING"
  EASTERNMOST_LONGITUDE = 37.1404
  FIRST_STANDARD_PARALLEL = "N/A"
  LINE_FIRST_PIXEL = 1
  LINE_LAST_PIXEL = 14823
  LINE_PROJECTION_OFFSET = -39525.875
  MAP_PROJECTION_ROTATION = 0.0
  MAP_PROJECTION_TYPE = SINUSOIDAL
  MAP_RESOLUTION = 1185.42760773333
  MAP_SCALE = 0.05
  MAXIMUM_LATITUDE = -33.3501
  MINIMUM_LATITUDE = -45.9058
  POSITIVE_LONGITUDE_DIRECTION = EAST
  REFERENCE_LATITUDE = "N/A"
  REFERENCE_LONGITUDE = "N/A"
  SAMPLE_FIRST_PIXEL = 1
  SAMPLE_LAST_PIXEL = 1781
  SAMPLE_PROJECTION_OFFSET = 654.625
  SECOND_STANDARD_PARALLEL = "N/A"
  WESTERNMOST_LONGITUDE = 35.1887
END_OBJECT = IMAGE_MAP_PROJECTION
END
