PDS_VERSION_ID = PDS3
/* FILE DATA ELEMENTS */
RECORD_TYPE = UNDEFINED
/* POINTERS TO DATA OBJECTS */
^IMAGE = ("H4260_0000_ND4.TIF")
/* IDENTIFICATION DATA ELEMENTS */
DATA_SET_ID = "MEX-M-HRSC-4-REFDR-MAPPROJECT-EXT1-V4.0"
DATA_SET_NAME = "MARS EXPRESS HRSC MAP PROJECTED REFDR EXTENSION1 V4.0"
DETECTOR_ID = MEX_HRSC_NADIR
EVENT_TYPE = "MARS-REGIONAL-MAPPING-Te-Im"
INSTRUMENT_HOST_ID = MEX
INSTRUMENT_HOST_NAME = "MARS EXPRESS"
INSTRUMENT_ID = HRSC
INSTRUMENT_NAME = "HIGH RESOLUTION STEREO CAMERA"
MISSION_NAME = "MARS EXPRESS"
MISSION_PHASE_NAME = ME_Phase_7
PROCESSING_LEVEL_ID = 4
PRODUCT_CREATION_TIME = 2023-02-10T03:49:22.000Z
PRODUCT_ID = "H4260_0000_ND4.TIF"
RELEASE_ID = 0006
REVISION_ID = 0000
/* QUALITY DATA ELEMENTS */
DATA_QUALITY_ID = 1
DATA_QUALITY_DESC = "Data calculated based on original SPICE kernels"
/* TIME DATA ELEMENTS */
SPACECRAFT_CLOCK_START_COUNT = "1/0126017684.08247"
SPACECRAFT_CLOCK_STOP_COUNT = "1/0126017896.46951"
START_TIME = 2007-04-30T12:55:14.399Z
STOP_TIME = 2007-04-30T12:57:47.369Z
/* ORBITAL DATA ELEMENTS */
ASCENDING_NODE_LONGITUDE = 139.07
MAXIMUM_RESOLUTION = 0.0119
FOOTPRINT_POINT_LATITUDE = (-27.2079,-27.2044,-27.2016,-27.1983, -27.1982,-27.1976,-27.0043,-26.8111, -26.328,-25.9415,-25.5555,-25.2661, -24.8804,-24.4949,-24.1097,-23.9135, -23.714,-23.4147,-23.2153,-23.0159, -22.8167,-22.6175,-22.4184,-22.2194, -22.0205,-21.8217,-21.623,-21.4243, -21.2257,-21.0235,-20.8181,-20.6127, -20.4074,-20.2023,-19.9973,-19.7924, -19.5875,-19.3828,-19.1782,-18.9737, -18.7645,-18.5533,-18.3421,-18.1311, -17.9203,-17.7096,-17.499,-17.2885, -17.1834,-17.1788,-17.1796,-17.1796, -17.1788,-17.1787,-17.1789,-17.3895, -17.6002,-17.8111,-18.022,-18.2332, -18.4445,-18.6559,-18.9712,-19.1759, -19.3806,-19.6879,-19.8929,-20.098, -20.3034,-20.5089,-20.7144,-20.9201, -21.2253,-21.4241,-21.6229,-21.8219, -22.0209,-22.22,-22.4192,-22.6185, -22.8179,-23.0173,-23.2169,-23.4165, -23.6161,-23.8159,-24.1123,-24.4979, -24.8838,-25.2699,-25.6563,-25.8495, -26.0428,-26.2361,-26.4295,-26.6229, -26.8164,-27.1067,-27.2035,-27.2079)
FOOTPRINT_POINT_LONGITUDE = (200.738,200.188,199.88,199.595,199.583 ,199.574,199.577,199.579,199.585, 199.586,199.59,199.592,199.596,199.598, 199.6,199.601,199.603,199.603,199.603, 199.604,199.604,199.605,199.605,199.605 ,199.606,199.607,199.607,199.607, 199.607,199.607,199.606,199.606,199.605 ,199.605,199.605,199.604,199.604, 199.602,199.601,199.6,199.599,199.598, 199.597,199.595,199.594,199.592,199.591 ,199.589,199.588,199.588,199.991, 200.381,200.809,200.821,200.827,200.826 ,200.824,200.822,200.821,200.819, 200.817,200.815,200.812,200.81,200.81, 200.808,200.808,200.808,200.805,200.8, 200.798,200.796,200.796,200.795,200.793 ,200.792,200.79,200.788,200.786,200.785 ,200.783,200.781,200.78,200.778,200.776 ,200.775,200.772,200.769,200.765, 200.761,200.757,200.755,200.753,200.752 ,200.75,200.749,200.747,200.744,200.743 ,200.738)
ORBIT_NUMBER = 4260
ORBITAL_ECCENTRICITY = 0.571
ORBITAL_INCLINATION = 86.69
ORBITAL_SEMIMAJOR_AXIS = 8594.98
PERIAPSIS_ALTITUDE = 295.57
PERIAPSIS_ARGUMENT_ANGLE = 327.68
PERIAPSIS_TIME = 2007-04-30T12:53:58.000Z
SPACECRAFT_ORIENTATION = (0.0,1.0,0.0)
^MEX_ORIENTATION_DESC = "MEX_ORIENTATION_DESC.TXT"
SPACECRAFT_POINTING_MODE = ACROSSTRACK
^MEX_POINTING_DESC = "MEX_POINTING_DESC.TXT"
RIGHT_ASCENSION = -1e+32
DECLINATION = -1e+32
OFFSET_ANGLE = -0.07
SPACECRAFT_SOLAR_DISTANCE = 2.07972e+08
TARGET_NAME = MARS
/* CAMERA DATA ELEMENTS */
DETECTOR_TEMPERATURE = 18.3705
FOCAL_PLANE_TEMPERATURE = 9.195
INST_CMPRS_NAME = "DISCRETE COSINE TRANSFORMATION (DCT)"
INST_CMPRS_RATIO = 6.32526
INST_CMPRS_QUALITY = 0
INST_CMPRS_QUANTZ_TBL_ID = 0
INSTRUMENT_TEMPERATURE = 11.6418
LENS_TEMPERATURE = 8.3794
MACROPIXEL_SIZE = 1
MISSING_FRAMES = 0
PIXEL_SUBSAMPLING_FLAG = N
SIGNAL_CHAIN_ID = 0
/* RADIOMETRIC DATA ELEMENTS */
BANDWIDTH = 177.0
CENTER_FILTER_WAVELENGTH = 677.5
RADIANCE_OFFSET = 5.39598
RADIANCE_SCALING_FACTOR = 0.0225322
REFLECTANCE_SCALING_FACTOR = 0.000517721
MEX:REFLECTANCE_OFFSET = 0.123983
/* IMAGE OBJECT DEFINITIONS */
OBJECT = IMAGE
  INTERCHANGE_FORMAT = BINARY
  LINES = 47555
  LINE_SAMPLES = 5615
  SAMPLE_TYPE = UNSIGNED_INTEGER
  SAMPLE_BITS = 8
  BANDS = 1
  BAND_STORAGE_TYPE = BAND_SEQUENTIAL
  MAXIMUM = 255
  MEAN = 153.191
  MINIMUM = 1
  STANDARD_DEVIATION = 43.1811
END_OBJECT = IMAGE
/* MAP OBJECT DEFINITIONS */
OBJECT = IMAGE_MAP_PROJECTION
  ^DATA_SET_MAP_PROJECTION_CATALOG= "DSMAP.CAT"
  A_AXIS_RADIUS = 3396.0
  B_AXIS_RADIUS = 3396.0
  C_AXIS_RADIUS = 3396.0
  CENTER_LATITUDE = 0.0
  CENTER_LONGITUDE = 200.0
  COORDINATE_SYSTEM_NAME = PLANETOGRAPHIC
  COORDINATE_SYSTEM_TYPE = "BODY-FIXED ROTATING"
  EASTERNMOST_LONGITUDE = 200.827
  FIRST_STANDARD_PARALLEL = "N/A"
  LINE_FIRST_PIXEL = 1
  LINE_LAST_PIXEL = 47555
  LINE_PROJECTION_OFFSET = -81449.0
  MAP_PROJECTION_ROTATION = 0.0
  MAP_PROJECTION_TYPE = SINUSOIDAL
  MAP_RESOLUTION = 4741.71043093333
  MAP_SCALE = 0.0125
  MAXIMUM_LATITUDE = -17.1787
  MINIMUM_LATITUDE = -27.2079
  POSITIVE_LONGITUDE_DIRECTION = EAST
  REFERENCE_LATITUDE = "N/A"
  REFERENCE_LONGITUDE = "N/A"
  SAMPLE_FIRST_PIXEL = 1
  SAMPLE_LAST_PIXEL = 5615
  SAMPLE_PROJECTION_OFFSET = 1868.0
  SECOND_STANDARD_PARALLEL = "N/A"
  WESTERNMOST_LONGITUDE = 199.574
END_OBJECT = IMAGE_MAP_PROJECTION
END
