PDS_VERSION_ID = PDS3
/* FILE DATA ELEMENTS */
RECORD_TYPE = UNDEFINED
/* POINTERS TO DATA OBJECTS */
^IMAGE = ("H4261_0000_P14.TIF")
/* IDENTIFICATION DATA ELEMENTS */
DATA_SET_ID = "MEX-M-HRSC-4-REFDR-MAPPROJECT-EXT1-V4.0"
DATA_SET_NAME = "MARS EXPRESS HRSC MAP PROJECTED REFDR EXTENSION1 V4.0"
DETECTOR_ID = MEX_HRSC_P1
EVENT_TYPE = "MARS-REGIONAL-MAPPING-Vo-Pf"
INSTRUMENT_HOST_ID = MEX
INSTRUMENT_HOST_NAME = "MARS EXPRESS"
INSTRUMENT_ID = HRSC
INSTRUMENT_NAME = "HIGH RESOLUTION STEREO CAMERA"
MISSION_NAME = "MARS EXPRESS"
MISSION_PHASE_NAME = ME_Phase_7
PROCESSING_LEVEL_ID = 4
PRODUCT_CREATION_TIME = 2023-02-10T03:49:22.000Z
PRODUCT_ID = "H4261_0000_P14.TIF"
RELEASE_ID = 0006
REVISION_ID = 0000
/* QUALITY DATA ELEMENTS */
DATA_QUALITY_ID = 1
DATA_QUALITY_DESC = "Data calculated based on original SPICE kernels"
/* TIME DATA ELEMENTS */
SPACECRAFT_CLOCK_START_COUNT = "1/0126041792.08270"
SPACECRAFT_CLOCK_STOP_COUNT = "1/0126042097.23832"
START_TIME = 2007-04-30T19:37:19.407Z
STOP_TIME = 2007-04-30T19:41:28.031Z
/* ORBITAL DATA ELEMENTS */
ASCENDING_NODE_LONGITUDE = 139.05
MAXIMUM_RESOLUTION = 0.048
FOOTPRINT_POINT_LATITUDE = (-32.9445,-32.9332,-32.9139,-32.9136, -32.9352,-32.4766,-32.015,-31.5493, -31.2368,-30.7644,-30.4488,-30.1354, -29.8222,-29.5094,-29.1966,-28.8844, -28.5719,-28.26,-27.7923,-27.3254, -26.8598,-26.3938,-25.774,-25.297, -24.9769,-24.6564,-24.334,-23.8586, -23.5404,-23.2226,-22.9054,-22.5813, -22.2533,-21.7619,-21.2714,-20.9455, -20.6196,-20.284,-19.9488,-19.4456, -19.1111,-18.7774,-18.4329,-18.0893, -17.7462,-17.404,-17.0619,-16.8909, -16.8263,-16.8349,-16.8417,-16.8418, -16.8427,-17.1846,-17.5273,-17.8703, -18.2141,-18.5585,-18.8994,-19.4013, -19.7359,-20.0717,-20.4081,-20.7407, -21.0667,-21.3933,-21.8838,-22.2114, -22.5397,-22.866,-23.184,-23.5022, -23.8202,-24.1392,-24.4588,-24.7787, -25.0994,-25.4203,-26.0493,-26.5144, -26.8245,-27.1358,-27.6033,-27.9152, -28.2268,-28.5393,-28.8517,-29.1645, -29.4775,-29.9467,-30.2603,-30.5729, -30.8835,-31.1984,-31.5141,-31.8287, -32.1451,-32.7553,-32.9061,-32.9445)
FOOTPRINT_POINT_LONGITUDE = (102.758,102.279,101.563,101.552, 101.545,101.556,101.565,101.573,101.579 ,101.587,101.592,101.597,101.602, 101.606,101.61,101.614,101.618,101.621, 101.626,101.63,101.634,101.637,101.641, 101.643,101.644,101.645,101.647,101.647 ,101.647,101.647,101.647,101.647, 101.646,101.645,101.644,101.642,101.641 ,101.639,101.637,101.634,101.631, 101.628,101.626,101.622,101.619,101.615 ,101.612,101.61,101.609,102.292,102.867 ,102.879,102.883,102.88,102.878,102.875 ,102.873,102.87,102.868,102.864,102.862 ,102.859,102.857,102.855,102.852,102.85 ,102.847,102.844,102.843,102.84,102.839 ,102.837,102.834,102.832,102.83,102.828 ,102.827,102.825,102.822,102.819, 102.817,102.815,102.813,102.811,102.809 ,102.807,102.805,102.804,102.802, 102.798,102.796,102.793,102.788,102.787 ,102.786,102.784,102.783,102.778, 102.776,102.758)
ORBIT_NUMBER = 4261
ORBITAL_ECCENTRICITY = 0.572
ORBITAL_INCLINATION = 86.69
ORBITAL_SEMIMAJOR_AXIS = 8601.11
PERIAPSIS_ALTITUDE = 294.88
PERIAPSIS_ARGUMENT_ANGLE = 327.49
PERIAPSIS_TIME = 2007-04-30T19:37:10.000Z
SPACECRAFT_ORIENTATION = (0.0,1.0,0.0)
^MEX_ORIENTATION_DESC = "MEX_ORIENTATION_DESC.TXT"
SPACECRAFT_POINTING_MODE = ACROSSTRACK
^MEX_POINTING_DESC = "MEX_POINTING_DESC.TXT"
RIGHT_ASCENSION = -1e+32
DECLINATION = -1e+32
OFFSET_ANGLE = -0.37
SPACECRAFT_SOLAR_DISTANCE = 2.07951e+08
TARGET_NAME = MARS
/* CAMERA DATA ELEMENTS */
DETECTOR_TEMPERATURE = 18.1666
FOCAL_PLANE_TEMPERATURE = 9.195
INST_CMPRS_NAME = "DISCRETE COSINE TRANSFORMATION (DCT)"
INST_CMPRS_RATIO = 13.1487
INST_CMPRS_QUALITY = 0
INST_CMPRS_QUANTZ_TBL_ID = 0
INSTRUMENT_TEMPERATURE = 11.6418
LENS_TEMPERATURE = 9.6028
MACROPIXEL_SIZE = 4
MISSING_FRAMES = 0
PIXEL_SUBSAMPLING_FLAG = N
SIGNAL_CHAIN_ID = 3
/* RADIOMETRIC DATA ELEMENTS */
BANDWIDTH = 174.0
CENTER_FILTER_WAVELENGTH = 675.0
RADIANCE_OFFSET = 4.61172
RADIANCE_SCALING_FACTOR = 0.0213147
REFLECTANCE_SCALING_FACTOR = 0.000495779
MEX:REFLECTANCE_OFFSET = 0.107268
/* IMAGE OBJECT DEFINITIONS */
OBJECT = IMAGE
  INTERCHANGE_FORMAT = BINARY
  LINES = 19113
  LINE_SAMPLES = 1439
  SAMPLE_TYPE = UNSIGNED_INTEGER
  SAMPLE_BITS = 8
  BANDS = 1
  BAND_STORAGE_TYPE = BAND_SEQUENTIAL
  MAXIMUM = 255
  MEAN = 120.909
  MINIMUM = 1
  STANDARD_DEVIATION = 57.7139
END_OBJECT = IMAGE
/* MAP OBJECT DEFINITIONS */
OBJECT = IMAGE_MAP_PROJECTION
  ^DATA_SET_MAP_PROJECTION_CATALOG= "DSMAP.CAT"
  A_AXIS_RADIUS = 3396.0
  B_AXIS_RADIUS = 3396.0
  C_AXIS_RADIUS = 3396.0
  CENTER_LATITUDE = 0.0
  CENTER_LONGITUDE = 102.0
  COORDINATE_SYSTEM_NAME = PLANETOGRAPHIC
  COORDINATE_SYSTEM_TYPE = "BODY-FIXED ROTATING"
  EASTERNMOST_LONGITUDE = 102.883
  FIRST_STANDARD_PARALLEL = "N/A"
  LINE_FIRST_PIXEL = 1
  LINE_LAST_PIXEL = 19113
  LINE_PROJECTION_OFFSET = -19951.125
  MAP_PROJECTION_ROTATION = 0.0
  MAP_PROJECTION_TYPE = SINUSOIDAL
  MAP_RESOLUTION = 1185.42760773333
  MAP_SCALE = 0.05
  MAXIMUM_LATITUDE = -16.8263
  MINIMUM_LATITUDE = -32.9445
  POSITIVE_LONGITUDE_DIRECTION = EAST
  REFERENCE_LATITUDE = "N/A"
  REFERENCE_LONGITUDE = "N/A"
  SAMPLE_FIRST_PIXEL = 1
  SAMPLE_LAST_PIXEL = 1439
  SAMPLE_PROJECTION_OFFSET = 458.125
  SECOND_STANDARD_PARALLEL = "N/A"
  WESTERNMOST_LONGITUDE = 101.545
END_OBJECT = IMAGE_MAP_PROJECTION
END
