PDS_VERSION_ID = PDS3
/* FILE DATA ELEMENTS */
RECORD_TYPE = UNDEFINED
/* POINTERS TO DATA OBJECTS */
^IMAGE = ("H4264_0000_IR4.TIF")
/* IDENTIFICATION DATA ELEMENTS */
DATA_SET_ID = "MEX-M-HRSC-4-REFDR-MAPPROJECT-EXT1-V4.0"
DATA_SET_NAME = "MARS EXPRESS HRSC MAP PROJECTED REFDR EXTENSION1 V4.0"
DETECTOR_ID = MEX_HRSC_IR
EVENT_TYPE = "MARS-REGIONAL-MAPPING-Im-Fl"
INSTRUMENT_HOST_ID = MEX
INSTRUMENT_HOST_NAME = "MARS EXPRESS"
INSTRUMENT_ID = HRSC
INSTRUMENT_NAME = "HIGH RESOLUTION STEREO CAMERA"
MISSION_NAME = "MARS EXPRESS"
MISSION_PHASE_NAME = ME_Phase_7
PROCESSING_LEVEL_ID = 4
PRODUCT_CREATION_TIME = 2023-02-10T03:49:22.000Z
PRODUCT_ID = "H4264_0000_IR4.TIF"
RELEASE_ID = 0006
REVISION_ID = 0000
/* QUALITY DATA ELEMENTS */
DATA_QUALITY_ID = 1
DATA_QUALITY_DESC = "Data calculated based on original SPICE kernels"
/* TIME DATA ELEMENTS */
SPACECRAFT_CLOCK_START_COUNT = "1/0126113942.09064"
SPACECRAFT_CLOCK_STOP_COUNT = "1/0126114182.07668"
START_TIME = 2007-05-01T15:40:29.275Z
STOP_TIME = 2007-05-01T15:42:59.007Z
/* ORBITAL DATA ELEMENTS */
ASCENDING_NODE_LONGITUDE = 138.99
MAXIMUM_RESOLUTION = 0.1173
FOOTPRINT_POINT_LATITUDE = (-59.2148,-59.1815,-59.1589,-59.1353, -59.111,-59.0859,-59.0601,-59.0584, -59.1175,-58.905,-58.6959,-58.4862, -58.2774,-58.0697,-57.7584,-57.5542, -57.2478,-57.043,-56.8388,-56.6393, -56.4394,-56.2395,-56.0397,-55.8394, -55.4463,-55.1523,-54.8581,-54.6621, -54.3733,-54.1777,-53.9775,-53.6821, -53.3897,-53.192,-52.9958,-52.7996, -52.6034,-52.3088,-52.1123,-51.8176, -51.6205,-51.4239,-51.129,-50.8335, -50.5378,-50.2473,-49.9162,-49.6678, -49.3372,-49.2543,-49.2491,-49.2738, -49.3006,-49.3328,-49.3526,-49.3808, -49.382,-49.3846,-49.6338,-50.0488, -50.2978,-50.6721,-50.9691,-51.1665, -51.3642,-51.5617,-51.759,-51.9564, -52.2524,-52.4493,-52.6466,-52.8438, -53.041,-53.2377,-53.4338,-53.8258, -54.0225,-54.3162,-54.7076,-54.9041, -55.2955,-55.4915,-55.7848,-55.983, -56.1837,-56.4845,-56.7866,-56.9864, -57.1905,-57.3969,-57.6024,-57.809, -58.0134,-58.2202,-58.4316,-58.6418, -58.8528,-59.1673,-59.2743,-59.2148)
FOOTPRINT_POINT_LONGITUDE = (170.211,169.467,169.004,168.55,168.105 ,167.67,167.242,167.216,167.261,167.287 ,167.311,167.335,167.359,167.384, 167.416,167.438,167.47,167.491,167.512, 167.531,167.551,167.57,167.588,167.606, 167.641,167.665,167.689,167.704,167.732 ,167.748,167.758,167.779,167.802, 167.815,167.828,167.842,167.856,167.875 ,167.888,167.907,167.919,167.931, 167.949,167.966,167.983,167.999,168.016 ,168.028,168.045,168.049,168.049, 168.406,168.778,169.275,169.59,170.058, 170.079,170.093,170.1,170.111,170.118, 170.129,170.137,170.142,170.147,170.153 ,170.157,170.163,170.171,170.175, 170.181,170.187,170.193,170.198,170.201 ,170.209,170.215,170.221,170.229, 170.236,170.246,170.252,170.259,170.264 ,170.27,170.278,170.291,170.295,170.3, 170.309,170.315,170.325,170.33,170.335, 170.345,170.352,170.362,170.37,170.373, 170.211)
ORBIT_NUMBER = 4264
ORBITAL_ECCENTRICITY = 0.571
ORBITAL_INCLINATION = 86.69
ORBITAL_SEMIMAJOR_AXIS = 8594.01
PERIAPSIS_ALTITUDE = 295.82
PERIAPSIS_ARGUMENT_ANGLE = 327.0
PERIAPSIS_TIME = 2007-05-01T15:46:42.000Z
SPACECRAFT_ORIENTATION = (0.0,1.0,0.0)
^MEX_ORIENTATION_DESC = "MEX_ORIENTATION_DESC.TXT"
SPACECRAFT_POINTING_MODE = ACROSSTRACK
^MEX_POINTING_DESC = "MEX_POINTING_DESC.TXT"
RIGHT_ASCENSION = -1e+32
DECLINATION = -1e+32
OFFSET_ANGLE = -1.78
SPACECRAFT_SOLAR_DISTANCE = 2.07891e+08
TARGET_NAME = MARS
/* CAMERA DATA ELEMENTS */
DETECTOR_TEMPERATURE = 17.5549
FOCAL_PLANE_TEMPERATURE = 8.5833
INST_CMPRS_NAME = "DISCRETE COSINE TRANSFORMATION (DCT)"
INST_CMPRS_RATIO = 31.8129
INST_CMPRS_QUALITY = 0
INST_CMPRS_QUANTZ_TBL_ID = 0
INSTRUMENT_TEMPERATURE = 11.234
LENS_TEMPERATURE = 9.195
MACROPIXEL_SIZE = 8
MISSING_FRAMES = 0
PIXEL_SUBSAMPLING_FLAG = N
SIGNAL_CHAIN_ID = 2
/* RADIOMETRIC DATA ELEMENTS */
BANDWIDTH = 81.0
CENTER_FILTER_WAVELENGTH = 955.5
RADIANCE_OFFSET = 1.42925
RADIANCE_SCALING_FACTOR = 0.00330689
REFLECTANCE_SCALING_FACTOR = 0.000308332
MEX:REFLECTANCE_OFFSET = 0.133262
/* IMAGE OBJECT DEFINITIONS */
OBJECT = IMAGE
  INTERCHANGE_FORMAT = BINARY
  LINES = 5868
  LINE_SAMPLES = 999
  SAMPLE_TYPE = UNSIGNED_INTEGER
  SAMPLE_BITS = 8
  BANDS = 1
  BAND_STORAGE_TYPE = BAND_SEQUENTIAL
  MAXIMUM = 255
  MEAN = 110.412
  MINIMUM = 1
  STANDARD_DEVIATION = 26.212
END_OBJECT = IMAGE
/* MAP OBJECT DEFINITIONS */
OBJECT = IMAGE_MAP_PROJECTION
  ^DATA_SET_MAP_PROJECTION_CATALOG= "DSMAP.CAT"
  A_AXIS_RADIUS = 3396.0
  B_AXIS_RADIUS = 3396.0
  C_AXIS_RADIUS = 3396.0
  CENTER_LATITUDE = 0.0
  CENTER_LONGITUDE = 169.0
  COORDINATE_SYSTEM_NAME = PLANETOGRAPHIC
  COORDINATE_SYSTEM_TYPE = "BODY-FIXED ROTATING"
  EASTERNMOST_LONGITUDE = 170.373
  FIRST_STANDARD_PARALLEL = "N/A"
  LINE_FIRST_PIXEL = 1
  LINE_LAST_PIXEL = 5868
  LINE_PROJECTION_OFFSET = -29241.3125
  MAP_PROJECTION_ROTATION = 0.0
  MAP_PROJECTION_TYPE = SINUSOIDAL
  MAP_RESOLUTION = 592.713803866667
  MAP_SCALE = 0.1
  MAXIMUM_LATITUDE = -49.2491
  MINIMUM_LATITUDE = -59.2743
  POSITIVE_LONGITUDE_DIRECTION = EAST
  REFERENCE_LATITUDE = "N/A"
  REFERENCE_LONGITUDE = "N/A"
  SAMPLE_FIRST_PIXEL = 1
  SAMPLE_LAST_PIXEL = 999
  SAMPLE_PROJECTION_OFFSET = 568.3125
  SECOND_STANDARD_PARALLEL = "N/A"
  WESTERNMOST_LONGITUDE = 167.216
END_OBJECT = IMAGE_MAP_PROJECTION
END
