PDS_VERSION_ID = PDS3
/* FILE DATA ELEMENTS */
RECORD_TYPE = UNDEFINED
/* POINTERS TO DATA OBJECTS */
^IMAGE = ("H4264_0000_ND4.TIF")
/* IDENTIFICATION DATA ELEMENTS */
DATA_SET_ID = "MEX-M-HRSC-4-REFDR-MAPPROJECT-EXT1-V4.0"
DATA_SET_NAME = "MARS EXPRESS HRSC MAP PROJECTED REFDR EXTENSION1 V4.0"
DETECTOR_ID = MEX_HRSC_NADIR
EVENT_TYPE = "MARS-REGIONAL-MAPPING-Im-Fl"
INSTRUMENT_HOST_ID = MEX
INSTRUMENT_HOST_NAME = "MARS EXPRESS"
INSTRUMENT_ID = HRSC
INSTRUMENT_NAME = "HIGH RESOLUTION STEREO CAMERA"
MISSION_NAME = "MARS EXPRESS"
MISSION_PHASE_NAME = ME_Phase_7
PROCESSING_LEVEL_ID = 4
PRODUCT_CREATION_TIME = 2023-02-10T03:49:22.000Z
PRODUCT_ID = "H4264_0000_ND4.TIF"
RELEASE_ID = 0006
REVISION_ID = 0000
/* QUALITY DATA ELEMENTS */
DATA_QUALITY_ID = 1
DATA_QUALITY_DESC = "Data calculated based on original SPICE kernels"
/* TIME DATA ELEMENTS */
SPACECRAFT_CLOCK_START_COUNT = "1/0126113942.09064"
SPACECRAFT_CLOCK_STOP_COUNT = "1/0126114182.07668"
START_TIME = 2007-05-01T15:39:54.527Z
STOP_TIME = 2007-05-01T15:42:31.530Z
/* ORBITAL DATA ELEMENTS */
ASCENDING_NODE_LONGITUDE = 138.99
MAXIMUM_RESOLUTION = 0.0145
FOOTPRINT_POINT_LATITUDE = (-59.2349,-59.2331,-59.2293,-59.2237, -59.2162,-59.2071,-59.1963,-59.1956, -59.1951,-58.9818,-58.6633,-58.4543, -58.2449,-58.0354,-57.8261,-57.621, -57.4157,-57.2058,-56.8974,-56.6962, -56.4948,-56.2932,-56.0913,-55.8907, -55.6935,-55.4961,-55.2984,-55.1005, -54.9025,-54.7092,-54.4191,-54.2254, -54.0316,-53.7423,-53.3637,-52.9844, -52.6045,-52.2239,-51.8426,-51.4607, -51.0782,-50.695,-50.5032,-50.3113, -50.1191,-49.9269,-49.7345,-49.4456, -49.3492,-49.3335,-49.338,-49.3414, -49.3438,-49.3452,-49.3444,-49.3443, -49.3445,-49.5375,-49.7304,-49.9232, -50.1158,-50.3083,-50.5007,-50.6929, -50.8849,-51.0768,-51.4602,-51.8429, -52.2251,-52.6066,-52.9874,-53.3676, -53.7472,-53.9397,-54.1342,-54.3285, -54.5226,-54.7165,-54.9103,-55.1085, -55.307,-55.5053,-55.7033,-55.9012, -56.102,-56.3045,-56.5069,-56.7089, -56.9108,-57.2199,-57.4305,-57.6366, -57.8425,-58.1573,-58.3676,-58.5776, -58.8947,-59.1091,-59.2161,-59.2349)
FOOTPRINT_POINT_LONGITUDE = (170.252,169.592,169.076,168.571, 168.076,167.589,167.112,167.082,167.126 ,167.154,167.194,167.22,167.246,167.273 ,167.296,167.319,167.343,167.367,167.4, 167.422,167.443,167.464,167.484,167.504 ,167.523,167.542,167.561,167.578, 167.595,167.611,167.641,167.658,167.673 ,167.691,167.723,167.751,167.779, 167.807,167.833,167.859,167.884,167.907 ,167.919,167.931,167.942,167.953, 167.963,167.979,167.984,167.985,168.337 ,168.699,169.071,169.536,170.063, 170.086,170.096,170.103,170.108,170.114 ,170.119,170.125,170.131,170.137, 170.143,170.148,170.159,170.17,170.181, 170.191,170.204,170.214,170.222,170.228 ,170.233,170.238,170.243,170.247, 170.254,170.26,170.265,170.272,170.278, 170.284,170.29,170.297,170.302,170.313, 170.319,170.327,170.337,170.347,170.355 ,170.365,170.372,170.381,170.396, 170.402,170.406,170.252)
ORBIT_NUMBER = 4264
ORBITAL_ECCENTRICITY = 0.571
ORBITAL_INCLINATION = 86.69
ORBITAL_SEMIMAJOR_AXIS = 8594.01
PERIAPSIS_ALTITUDE = 295.82
PERIAPSIS_ARGUMENT_ANGLE = 327.0
PERIAPSIS_TIME = 2007-05-01T15:46:42.000Z
SPACECRAFT_ORIENTATION = (0.0,1.0,0.0)
^MEX_ORIENTATION_DESC = "MEX_ORIENTATION_DESC.TXT"
SPACECRAFT_POINTING_MODE = ACROSSTRACK
^MEX_POINTING_DESC = "MEX_POINTING_DESC.TXT"
RIGHT_ASCENSION = -1e+32
DECLINATION = -1e+32
OFFSET_ANGLE = -1.78
SPACECRAFT_SOLAR_DISTANCE = 2.07891e+08
TARGET_NAME = MARS
/* CAMERA DATA ELEMENTS */
DETECTOR_TEMPERATURE = 18.1666
FOCAL_PLANE_TEMPERATURE = 8.5833
INST_CMPRS_NAME = "DISCRETE COSINE TRANSFORMATION (DCT)"
INST_CMPRS_RATIO = 7.5246
INST_CMPRS_QUALITY = 0
INST_CMPRS_QUANTZ_TBL_ID = 0
INSTRUMENT_TEMPERATURE = 11.234
LENS_TEMPERATURE = 9.195
MACROPIXEL_SIZE = 1
PIXEL_SUBSAMPLING_FLAG = N
SIGNAL_CHAIN_ID = 0
/* RADIOMETRIC DATA ELEMENTS */
BANDWIDTH = 177.0
CENTER_FILTER_WAVELENGTH = 677.5
RADIANCE_OFFSET = 5.73289
RADIANCE_SCALING_FACTOR = 0.0111318
REFLECTANCE_SCALING_FACTOR = 0.000255576
MEX:REFLECTANCE_OFFSET = 0.131622
/* IMAGE OBJECT DEFINITIONS */
OBJECT = IMAGE
  INTERCHANGE_FORMAT = BINARY
  LINES = 46943
  LINE_SAMPLES = 7989
  SAMPLE_TYPE = UNSIGNED_INTEGER
  SAMPLE_BITS = 8
  BANDS = 1
  BAND_STORAGE_TYPE = BAND_SEQUENTIAL
  MAXIMUM = 255
  MEAN = 106.173
  MINIMUM = 1
  STANDARD_DEVIATION = 24.0084
END_OBJECT = IMAGE
/* MAP OBJECT DEFINITIONS */
OBJECT = IMAGE_MAP_PROJECTION
  ^DATA_SET_MAP_PROJECTION_CATALOG= "DSMAP.CAT"
  A_AXIS_RADIUS = 3396.0
  B_AXIS_RADIUS = 3396.0
  C_AXIS_RADIUS = 3396.0
  CENTER_LATITUDE = 0.0
  CENTER_LONGITUDE = 169.0
  COORDINATE_SYSTEM_NAME = PLANETOGRAPHIC
  COORDINATE_SYSTEM_TYPE = "BODY-FIXED ROTATING"
  EASTERNMOST_LONGITUDE = 170.406
  FIRST_STANDARD_PARALLEL = "N/A"
  LINE_FIRST_PIXEL = 1
  LINE_LAST_PIXEL = 46943
  LINE_PROJECTION_OFFSET = -233927.0
  MAP_PROJECTION_ROTATION = 0.0
  MAP_PROJECTION_TYPE = SINUSOIDAL
  MAP_RESOLUTION = 4741.71043093333
  MAP_SCALE = 0.0125
  MAXIMUM_LATITUDE = -49.3335
  MINIMUM_LATITUDE = -59.2349
  POSITIVE_LONGITUDE_DIRECTION = EAST
  REFERENCE_LATITUDE = "N/A"
  REFERENCE_LONGITUDE = "N/A"
  SAMPLE_FIRST_PIXEL = 1
  SAMPLE_LAST_PIXEL = 7989
  SAMPLE_PROJECTION_OFFSET = 4550.0
  SECOND_STANDARD_PARALLEL = "N/A"
  WESTERNMOST_LONGITUDE = 167.082
END_OBJECT = IMAGE_MAP_PROJECTION
END
