PDS_VERSION_ID = PDS3
/* FILE DATA ELEMENTS */
RECORD_TYPE = UNDEFINED
/* POINTERS TO DATA OBJECTS */
^IMAGE = ("H4264_0001_P24.TIF")
/* IDENTIFICATION DATA ELEMENTS */
DATA_SET_ID = "MEX-M-HRSC-4-REFDR-MAPPROJECT-EXT1-V4.0"
DATA_SET_NAME = "MARS EXPRESS HRSC MAP PROJECTED REFDR EXTENSION1 V4.0"
DETECTOR_ID = MEX_HRSC_P2
EVENT_TYPE = "MARS-REGIONAL-MAPPING-Im-Fl-La"
INSTRUMENT_HOST_ID = MEX
INSTRUMENT_HOST_NAME = "MARS EXPRESS"
INSTRUMENT_ID = HRSC
INSTRUMENT_NAME = "HIGH RESOLUTION STEREO CAMERA"
MISSION_NAME = "MARS EXPRESS"
MISSION_PHASE_NAME = ME_Phase_7
PROCESSING_LEVEL_ID = 4
PRODUCT_CREATION_TIME = 2023-02-10T03:49:22.000Z
PRODUCT_ID = "H4264_0001_P24.TIF"
RELEASE_ID = 0006
REVISION_ID = 0000
/* QUALITY DATA ELEMENTS */
DATA_QUALITY_ID = 1
DATA_QUALITY_DESC = "Data calculated based on original SPICE kernels"
/* TIME DATA ELEMENTS */
SPACECRAFT_CLOCK_START_COUNT = "1/0126114558.09090"
SPACECRAFT_CLOCK_STOP_COUNT = "1/0126114830.63591"
START_TIME = 2007-05-01T15:49:32.301Z
STOP_TIME = 2007-05-01T15:52:43.162Z
/* ORBITAL DATA ELEMENTS */
ASCENDING_NODE_LONGITUDE = 138.99
MAXIMUM_RESOLUTION = 0.0269
FOOTPRINT_POINT_LATITUDE = (-20.2961,-20.3416,-20.3759,-20.4071, -20.4081,-20.3986,-20.0595,-19.8286, -19.5964,-19.2473,-19.0144,-18.7814, -18.551,-18.3164,-18.0813,-17.738, -17.5063,-17.2757,-17.0436,-16.8123, -16.5807,-16.3496,-16.0027,-15.7685, -15.538,-15.1974,-14.8513,-14.5062, -14.2764,-14.0015,-13.5895,-13.1779, -12.9029,-12.6289,-12.2181,-11.9428, -11.6689,-11.3959,-10.9862,-10.5774, -10.1695,-9.89754,-9.49042,-9.2185, -8.80783,-8.52974,-8.25155,-7.97412, -7.8354,-7.82805,-7.79577,-7.74951, -7.7089,-7.70757,-7.70761,-7.9847, -8.26289,-8.68034,-9.09142,-9.49867, -9.77,-10.0419,-10.3143,-10.588,-10.863 ,-11.2721,-11.544,-11.8181,-12.0924, -12.3653,-12.6393,-12.9139,-13.1848, -13.4607,-13.7373,-14.0106,-14.2629, -14.6085,-14.8404,-15.0705,-15.3043, -15.5397,-15.773,-16.2271,-16.4579, -16.6889,-16.9204,-17.1518,-17.3834, -17.6205,-17.9676,-18.315,-18.5469, -18.8954,-19.1275,-19.3592,-19.5917, -20.164,-20.2767,-20.2961)
FOOTPRINT_POINT_LONGITUDE = (169.628,169.11,168.698,168.306,168.294 ,168.299,168.296,168.293,168.29,168.286 ,168.283,168.281,168.276,168.275, 168.274,168.265,168.261,168.256,168.253 ,168.249,168.245,168.241,168.235, 168.234,168.229,168.218,168.212,168.205 ,168.2,168.195,168.187,168.179,168.174, 168.169,168.16,168.156,168.15,168.144, 168.136,168.126,168.117,168.11,168.1, 168.094,168.084,168.077,168.071,168.064 ,168.06,168.06,168.495,169.1,169.607, 169.623,169.629,169.629,169.628,169.627 ,169.626,169.626,169.626,169.626, 169.626,169.624,169.621,169.621,169.623 ,169.622,169.622,169.623,169.624, 169.623,169.629,169.628,169.625,169.628 ,169.63,169.632,169.63,169.632,169.628, 169.621,169.618,169.634,169.636,169.638 ,169.639,169.641,169.642,169.634, 169.637,169.64,169.641,169.643,169.645, 169.647,169.648,169.652,169.653, 169.628)
ORBIT_NUMBER = 4264
ORBITAL_ECCENTRICITY = 0.571
ORBITAL_INCLINATION = 86.69
ORBITAL_SEMIMAJOR_AXIS = 8594.01
PERIAPSIS_ALTITUDE = 295.82
PERIAPSIS_ARGUMENT_ANGLE = 327.0
PERIAPSIS_TIME = 2007-05-01T15:46:42.000Z
SPACECRAFT_ORIENTATION = (0.0,1.0,0.0)
^MEX_ORIENTATION_DESC = "MEX_ORIENTATION_DESC.TXT"
SPACECRAFT_POINTING_MODE = ACROSSTRACK
^MEX_POINTING_DESC = "MEX_POINTING_DESC.TXT"
RIGHT_ASCENSION = -1e+32
DECLINATION = -1e+32
OFFSET_ANGLE = -1.78
SPACECRAFT_SOLAR_DISTANCE = 2.07891e+08
TARGET_NAME = MARS
/* CAMERA DATA ELEMENTS */
DETECTOR_TEMPERATURE = 20.4095
FOCAL_PLANE_TEMPERATURE = 9.195
INST_CMPRS_NAME = "DISCRETE COSINE TRANSFORMATION (DCT)"
INST_CMPRS_RATIO = 7.03337
INST_CMPRS_QUALITY = 0
INST_CMPRS_QUANTZ_TBL_ID = 0
INSTRUMENT_TEMPERATURE = 13.273
LENS_TEMPERATURE = 9.6028
MACROPIXEL_SIZE = 2
MISSING_FRAMES = 0
PIXEL_SUBSAMPLING_FLAG = N
SIGNAL_CHAIN_ID = 3
/* RADIOMETRIC DATA ELEMENTS */
BANDWIDTH = 177.0
CENTER_FILTER_WAVELENGTH = 676.5
RADIANCE_OFFSET = 7.83712
RADIANCE_SCALING_FACTOR = 0.0138079
REFLECTANCE_SCALING_FACTOR = 0.000316414
MEX:REFLECTANCE_OFFSET = 0.17959
/* IMAGE OBJECT DEFINITIONS */
OBJECT = IMAGE
  INTERCHANGE_FORMAT = BINARY
  LINES = 29822
  LINE_SAMPLES = 3798
  SAMPLE_TYPE = UNSIGNED_INTEGER
  SAMPLE_BITS = 8
  BANDS = 1
  BAND_STORAGE_TYPE = BAND_SEQUENTIAL
  MAXIMUM = 255
  MEAN = 164.679
  MINIMUM = 1
  STANDARD_DEVIATION = 32.0985
END_OBJECT = IMAGE
/* MAP OBJECT DEFINITIONS */
OBJECT = IMAGE_MAP_PROJECTION
  ^DATA_SET_MAP_PROJECTION_CATALOG= "DSMAP.CAT"
  A_AXIS_RADIUS = 3396.0
  B_AXIS_RADIUS = 3396.0
  C_AXIS_RADIUS = 3396.0
  CENTER_LATITUDE = 0.0
  CENTER_LONGITUDE = 169.0
  COORDINATE_SYSTEM_NAME = PLANETOGRAPHIC
  COORDINATE_SYSTEM_TYPE = "BODY-FIXED ROTATING"
  EASTERNMOST_LONGITUDE = 169.653
  FIRST_STANDARD_PARALLEL = "N/A"
  LINE_FIRST_PIXEL = 1
  LINE_LAST_PIXEL = 29822
  LINE_PROJECTION_OFFSET = -18437.75
  MAP_PROJECTION_ROTATION = 0.0
  MAP_PROJECTION_TYPE = SINUSOIDAL
  MAP_RESOLUTION = 2370.85521546667
  MAP_SCALE = 0.025
  MAXIMUM_LATITUDE = -7.70757
  MINIMUM_LATITUDE = -20.4081
  POSITIVE_LONGITUDE_DIRECTION = EAST
  REFERENCE_LATITUDE = "N/A"
  REFERENCE_LONGITUDE = "N/A"
  SAMPLE_FIRST_PIXEL = 1
  SAMPLE_LAST_PIXEL = 3798
  SAMPLE_PROJECTION_OFFSET = 2278.25
  SECOND_STANDARD_PARALLEL = "N/A"
  WESTERNMOST_LONGITUDE = 168.06
END_OBJECT = IMAGE_MAP_PROJECTION
END
