PDS_VERSION_ID = PDS3
/* FILE DATA ELEMENTS */
RECORD_TYPE = UNDEFINED
/* POINTERS TO DATA OBJECTS */
^IMAGE = ("H4269_0000_IR4.TIF")
/* IDENTIFICATION DATA ELEMENTS */
DATA_SET_ID = "MEX-M-HRSC-4-REFDR-MAPPROJECT-EXT1-V4.0"
DATA_SET_NAME = "MARS EXPRESS HRSC MAP PROJECTED REFDR EXTENSION1 V4.0"
DETECTOR_ID = MEX_HRSC_IR
EVENT_TYPE = "MARS-REGIONAL-MAPPING-Im-Eo"
INSTRUMENT_HOST_ID = MEX
INSTRUMENT_HOST_NAME = "MARS EXPRESS"
INSTRUMENT_ID = HRSC
INSTRUMENT_NAME = "HIGH RESOLUTION STEREO CAMERA"
MISSION_NAME = "MARS EXPRESS"
MISSION_PHASE_NAME = ME_Phase_7
PROCESSING_LEVEL_ID = 4
PRODUCT_CREATION_TIME = 2023-02-10T03:49:22.000Z
PRODUCT_ID = "H4269_0000_IR4.TIF"
RELEASE_ID = 0006
REVISION_ID = 0000
/* QUALITY DATA ELEMENTS */
DATA_QUALITY_ID = 1
DATA_QUALITY_DESC = "Data calculated based on original SPICE kernels"
/* TIME DATA ELEMENTS */
SPACECRAFT_CLOCK_START_COUNT = "1/0126235126.09084"
SPACECRAFT_CLOCK_STOP_COUNT = "1/0126235399.58919"
START_TIME = 2007-05-03T01:19:45.096Z
STOP_TIME = 2007-05-03T01:23:17.508Z
/* ORBITAL DATA ELEMENTS */
ASCENDING_NODE_LONGITUDE = 138.89
MAXIMUM_RESOLUTION = 0.098
FOOTPRINT_POINT_LATITUDE = (-45.9722,-45.9577,-45.9315,-45.9311, -45.9731,-45.6721,-45.2206,-44.9196, -44.4751,-44.0468,-43.7558,-43.4686, -43.1753,-42.8782,-42.5864,-42.2968, -42.0059,-41.7174,-41.4379,-41.1643, -40.8845,-40.6046,-40.322,-40.0378, -39.7588,-39.3395,-39.0598,-38.7799, -38.5006,-38.2209,-37.94,-37.6601, -37.2415,-36.9619,-36.6844,-36.4059, -36.1277,-35.857,-35.5891,-35.3209, -35.0523,-34.7844,-34.2521,-33.9786, -33.7102,-33.3112,-32.9091,-32.6357, -32.3613,-32.0857,-31.9476,-31.8356, -31.8442,-31.8525,-31.8527,-31.8542, -32.1308,-32.4069,-32.6854,-32.9639, -33.4931,-34.0287,-34.2971,-34.8319, -35.1001,-35.368,-35.7714,-36.0402, -36.3177,-36.5976,-36.8754,-37.1531, -37.4332,-37.8536,-38.1342,-38.4143, -38.8344,-39.1145,-39.5347,-39.9549, -40.2352,-40.5155,-40.7954,-41.0767, -41.4978,-41.779,-42.0681,-42.3589, -42.6497,-42.9404,-43.2293,-43.527, -43.82,-44.2523,-44.5422,-44.9899, -45.2923,-45.7452,-45.8961,-45.9722)
FOOTPRINT_POINT_LONGITUDE = (35.8446,35.2303,34.3093,34.2947, 34.2612,34.2862,34.3227,34.3463,34.3809 ,34.4086,34.4296,34.448,34.4693,34.4923 ,34.5119,34.5299,34.5482,34.5661, 34.5824,34.5951,34.6109,34.6264,34.6429 ,34.6601,34.6741,34.6949,34.7086,34.722 ,34.7349,34.7477,34.7608,34.7731, 34.7905,34.8021,34.8124,34.823,34.8332, 34.8429,34.8523,34.8617,34.8711,34.8799 ,34.8954,34.9064,34.9148,34.9254, 34.9372,34.9438,34.9498,34.9561,34.9594 ,34.9619,35.4683,36.1471,36.1584, 36.1659,36.1619,36.1576,36.1541,36.152, 36.1416,36.1335,36.1295,36.1203,36.1158 ,36.1112,36.1046,36.1,36.095,36.0903, 36.0845,36.0786,36.0736,36.066,36.0609, 36.0554,36.047,36.0413,36.0324,36.0233, 36.0171,36.0108,36.0042,35.9981,35.9883 ,35.9818,35.9747,35.9673,35.9599, 35.9522,35.9435,35.9388,35.9319,35.9177 ,35.9089,35.8974,35.889,35.8756,35.8711 ,35.8446)
ORBIT_NUMBER = 4269
ORBITAL_ECCENTRICITY = 0.571
ORBITAL_INCLINATION = 86.68
ORBITAL_SEMIMAJOR_AXIS = 8597.79
PERIAPSIS_ALTITUDE = 295.29
PERIAPSIS_ARGUMENT_ANGLE = 326.11
PERIAPSIS_TIME = 2007-05-03T01:22:27.000Z
SPACECRAFT_ORIENTATION = (0.0,1.0,0.0)
^MEX_ORIENTATION_DESC = "MEX_ORIENTATION_DESC.TXT"
SPACECRAFT_POINTING_MODE = NADIR
^MEX_POINTING_DESC = "MEX_POINTING_DESC.TXT"
RIGHT_ASCENSION = -1e+32
DECLINATION = -1e+32
OFFSET_ANGLE = -1e+32
SPACECRAFT_SOLAR_DISTANCE = 2.07793e+08
TARGET_NAME = MARS
/* CAMERA DATA ELEMENTS */
DETECTOR_TEMPERATURE = 17.7588
FOCAL_PLANE_TEMPERATURE = 9.195
INST_CMPRS_NAME = "DISCRETE COSINE TRANSFORMATION (DCT)"
INST_CMPRS_RATIO = 31.7084
INST_CMPRS_QUALITY = 0
INST_CMPRS_QUANTZ_TBL_ID = 0
INSTRUMENT_TEMPERATURE = 11.6418
LENS_TEMPERATURE = 9.6028
MACROPIXEL_SIZE = 8
MISSING_FRAMES = 0
PIXEL_SUBSAMPLING_FLAG = N
SIGNAL_CHAIN_ID = 2
/* RADIOMETRIC DATA ELEMENTS */
BANDWIDTH = 81.0
CENTER_FILTER_WAVELENGTH = 955.5
RADIANCE_OFFSET = 1.23009
RADIANCE_SCALING_FACTOR = 0.00444703
REFLECTANCE_SCALING_FACTOR = 0.000414247
MEX:REFLECTANCE_OFFSET = 0.114585
/* IMAGE OBJECT DEFINITIONS */
OBJECT = IMAGE
  INTERCHANGE_FORMAT = BINARY
  LINES = 8418
  LINE_SAMPLES = 904
  SAMPLE_TYPE = UNSIGNED_INTEGER
  SAMPLE_BITS = 8
  BANDS = 1
  BAND_STORAGE_TYPE = BAND_SEQUENTIAL
  MAXIMUM = 255
  MEAN = 113.314
  MINIMUM = 1
  STANDARD_DEVIATION = 36.6544
END_OBJECT = IMAGE
/* MAP OBJECT DEFINITIONS */
OBJECT = IMAGE_MAP_PROJECTION
  ^DATA_SET_MAP_PROJECTION_CATALOG= "DSMAP.CAT"
  A_AXIS_RADIUS = 3396.0
  B_AXIS_RADIUS = 3396.0
  C_AXIS_RADIUS = 3396.0
  CENTER_LATITUDE = 0.0
  CENTER_LONGITUDE = 35.0
  COORDINATE_SYSTEM_NAME = PLANETOGRAPHIC
  COORDINATE_SYSTEM_TYPE = "BODY-FIXED ROTATING"
  EASTERNMOST_LONGITUDE = 36.1659
  FIRST_STANDARD_PARALLEL = "N/A"
  LINE_FIRST_PIXEL = 1
  LINE_LAST_PIXEL = 8418
  LINE_PROJECTION_OFFSET = -18869.1875
  MAP_PROJECTION_ROTATION = 0.0
  MAP_PROJECTION_TYPE = SINUSOIDAL
  MAP_RESOLUTION = 592.713803866667
  MAP_SCALE = 0.1
  MAXIMUM_LATITUDE = -31.8356
  MINIMUM_LATITUDE = -45.9731
  POSITIVE_LONGITUDE_DIRECTION = EAST
  REFERENCE_LATITUDE = "N/A"
  REFERENCE_LONGITUDE = "N/A"
  SAMPLE_FIRST_PIXEL = 1
  SAMPLE_LAST_PIXEL = 904
  SAMPLE_PROJECTION_OFFSET = 318.9375
  SECOND_STANDARD_PARALLEL = "N/A"
  WESTERNMOST_LONGITUDE = 34.2612
END_OBJECT = IMAGE_MAP_PROJECTION
END
