PDS_VERSION_ID = PDS3
/* FILE DATA ELEMENTS */
RECORD_TYPE = UNDEFINED
/* POINTERS TO DATA OBJECTS */
^IMAGE = ("H4279_0000_IR4.TIF")
/* IDENTIFICATION DATA ELEMENTS */
DATA_SET_ID = "MEX-M-HRSC-4-REFDR-MAPPROJECT-EXT1-V4.0"
DATA_SET_NAME = "MARS EXPRESS HRSC MAP PROJECTED REFDR EXTENSION1 V4.0"
DETECTOR_ID = MEX_HRSC_IR
EVENT_TYPE = "MARS-REGIONAL-MAPPING-Im-Fl"
INSTRUMENT_HOST_ID = MEX
INSTRUMENT_HOST_NAME = "MARS EXPRESS"
INSTRUMENT_ID = HRSC
INSTRUMENT_NAME = "HIGH RESOLUTION STEREO CAMERA"
MISSION_NAME = "MARS EXPRESS"
MISSION_PHASE_NAME = ME_Phase_7
PROCESSING_LEVEL_ID = 4
PRODUCT_CREATION_TIME = 2023-02-10T03:49:22.000Z
PRODUCT_ID = "H4279_0000_IR4.TIF"
RELEASE_ID = 0006
REVISION_ID = 0000
/* QUALITY DATA ELEMENTS */
DATA_QUALITY_ID = 1
DATA_QUALITY_DESC = "Data calculated based on original SPICE kernels"
/* TIME DATA ELEMENTS */
SPACECRAFT_CLOCK_START_COUNT = "1/0126477282.09071"
SPACECRAFT_CLOCK_STOP_COUNT = "1/0126477532.07515"
START_TIME = 2007-05-05T20:35:35.368Z
STOP_TIME = 2007-05-05T20:38:48.418Z
/* ORBITAL DATA ELEMENTS */
ASCENDING_NODE_LONGITUDE = 138.68
MAXIMUM_RESOLUTION = 0.1003
FOOTPRINT_POINT_LATITUDE = (-31.254,-31.2277,-31.207,-31.1864, -31.1857,-31.2042,-30.7259,-30.4893, -30.2534,-30.0152,-29.7779,-29.4231, -29.1871,-28.9505,-28.7139,-28.478, -28.1268,-27.8916,-27.6563,-27.3037, -26.9379,-26.6942,-26.4538,-26.2116, -25.9711,-25.735,-25.3714,-25.1288, -24.8931,-24.525,-24.2772,-23.9017, -23.6523,-23.4062,-23.1602,-22.7872, -22.5337,-22.1539,-21.7737,-21.3957, -21.1449,-20.892,-20.641,-20.3942, -20.1406,-19.8893,-19.6409,-19.392, -19.019,-18.8949,-18.8916,-18.918, -18.9291,-18.9523,-18.9529,-18.9549, -19.2029,-19.4483,-19.6985,-20.0735, -20.3248,-20.5753,-20.8239,-21.0757, -21.3284,-21.7068,-22.0847,-22.3369, -22.718,-22.9717,-23.2216,-23.4679, -23.7147,-23.9606,-24.2078,-24.4552, -24.7029,-25.0722,-25.313,-25.674, -25.9141,-26.276,-26.5176,-26.7599, -27.0025,-27.245,-27.4876,-27.9566, -28.5444,-28.8973,-29.1382,-29.6079, -29.8455,-30.0824,-30.3201,-30.6766, -30.9143,-31.1503,-31.2652,-31.254)
FOOTPRINT_POINT_LONGITUDE = (134.655,134.158,133.783,133.418, 133.407,133.409,133.408,133.41,133.411, 133.412,133.413,133.414,133.414,133.415 ,133.415,133.415,133.416,133.416, 133.416,133.416,133.415,133.414,133.413 ,133.413,133.412,133.413,133.41,133.409 ,133.409,133.408,133.406,133.402,133.4, 133.398,133.396,133.393,133.391,133.387 ,133.383,133.379,133.376,133.373,133.37 ,133.367,133.363,133.359,133.356, 133.353,133.347,133.345,133.345,133.93, 134.198,134.685,134.698,134.707,134.705 ,134.701,134.7,134.699,134.699,134.698, 134.695,134.694,134.694,134.693,134.691 ,134.689,134.688,134.687,134.69,134.689 ,134.688,134.686,134.685,134.684, 134.683,134.683,134.682,134.681,134.679 ,134.678,134.677,134.677,134.677, 134.676,134.677,134.675,134.674,134.672 ,134.677,134.673,134.673,134.673, 134.673,134.673,134.673,134.673,134.673 ,134.655)
ORBIT_NUMBER = 4279
ORBITAL_ECCENTRICITY = 0.571
ORBITAL_INCLINATION = 86.68
ORBITAL_SEMIMAJOR_AXIS = 8594.65
PERIAPSIS_ALTITUDE = 295.01
PERIAPSIS_ARGUMENT_ANGLE = 324.35
PERIAPSIS_TIME = 2007-05-05T20:34:08.000Z
SPACECRAFT_ORIENTATION = (0.0,1.0,0.0)
^MEX_ORIENTATION_DESC = "MEX_ORIENTATION_DESC.TXT"
SPACECRAFT_POINTING_MODE = ACROSSTRACK
^MEX_POINTING_DESC = "MEX_POINTING_DESC.TXT"
RIGHT_ASCENSION = -1e+32
DECLINATION = -1e+32
OFFSET_ANGLE = -1.0
SPACECRAFT_SOLAR_DISTANCE = 2.07609e+08
TARGET_NAME = MARS
/* CAMERA DATA ELEMENTS */
DETECTOR_TEMPERATURE = 17.9627
FOCAL_PLANE_TEMPERATURE = 9.3989
INST_CMPRS_NAME = "DISCRETE COSINE TRANSFORMATION (DCT)"
INST_CMPRS_RATIO = 12.1263
INST_CMPRS_QUALITY = 0
INST_CMPRS_QUANTZ_TBL_ID = 0
INSTRUMENT_TEMPERATURE = 11.6418
LENS_TEMPERATURE = 9.8067
MACROPIXEL_SIZE = 8
MISSING_FRAMES = 0
PIXEL_SUBSAMPLING_FLAG = N
SIGNAL_CHAIN_ID = 2
/* RADIOMETRIC DATA ELEMENTS */
BANDWIDTH = 81.0
CENTER_FILTER_WAVELENGTH = 955.5
RADIANCE_OFFSET = 1.12366
RADIANCE_SCALING_FACTOR = 0.00475309
REFLECTANCE_SCALING_FACTOR = 0.000441973
MEX:REFLECTANCE_OFFSET = 0.104485
/* IMAGE OBJECT DEFINITIONS */
OBJECT = IMAGE
  INTERCHANGE_FORMAT = BINARY
  LINES = 7306
  LINE_SAMPLES = 743
  SAMPLE_TYPE = UNSIGNED_INTEGER
  SAMPLE_BITS = 8
  BANDS = 1
  BAND_STORAGE_TYPE = BAND_SEQUENTIAL
  MAXIMUM = 255
  MEAN = 92.2015
  MINIMUM = 1
  STANDARD_DEVIATION = 37.19
END_OBJECT = IMAGE
/* MAP OBJECT DEFINITIONS */
OBJECT = IMAGE_MAP_PROJECTION
  ^DATA_SET_MAP_PROJECTION_CATALOG= "DSMAP.CAT"
  A_AXIS_RADIUS = 3396.0
  B_AXIS_RADIUS = 3396.0
  C_AXIS_RADIUS = 3396.0
  CENTER_LATITUDE = 0.0
  CENTER_LONGITUDE = 134.0
  COORDINATE_SYSTEM_NAME = PLANETOGRAPHIC
  COORDINATE_SYSTEM_TYPE = "BODY-FIXED ROTATING"
  EASTERNMOST_LONGITUDE = 134.707
  FIRST_STANDARD_PARALLEL = "N/A"
  LINE_FIRST_PIXEL = 1
  LINE_LAST_PIXEL = 7306
  LINE_PROJECTION_OFFSET = -11218.6875
  MAP_PROJECTION_ROTATION = 0.0
  MAP_PROJECTION_TYPE = SINUSOIDAL
  MAP_RESOLUTION = 592.713803866667
  MAP_SCALE = 0.1
  MAXIMUM_LATITUDE = -18.8916
  MINIMUM_LATITUDE = -31.2652
  POSITIVE_LONGITUDE_DIRECTION = EAST
  REFERENCE_LATITUDE = "N/A"
  REFERENCE_LONGITUDE = "N/A"
  SAMPLE_FIRST_PIXEL = 1
  SAMPLE_LAST_PIXEL = 743
  SAMPLE_PROJECTION_OFFSET = 363.6875
  SECOND_STANDARD_PARALLEL = "N/A"
  WESTERNMOST_LONGITUDE = 133.345
END_OBJECT = IMAGE_MAP_PROJECTION
END
