PDS_VERSION_ID = PDS3
/* FILE DATA ELEMENTS */
RECORD_TYPE = UNDEFINED
/* POINTERS TO DATA OBJECTS */
^IMAGE = ("H4287_0000_ND4.TIF")
/* IDENTIFICATION DATA ELEMENTS */
DATA_SET_ID = "MEX-M-HRSC-4-REFDR-MAPPROJECT-EXT1-V4.0"
DATA_SET_NAME = "MARS EXPRESS HRSC MAP PROJECTED REFDR EXTENSION1 V4.0"
DETECTOR_ID = MEX_HRSC_NADIR
EVENT_TYPE = "MARS-REGIONAL-MAPPING-Im-Gl-Pf"
INSTRUMENT_HOST_ID = MEX
INSTRUMENT_HOST_NAME = "MARS EXPRESS"
INSTRUMENT_ID = HRSC
INSTRUMENT_NAME = "HIGH RESOLUTION STEREO CAMERA"
MISSION_NAME = "MARS EXPRESS"
MISSION_PHASE_NAME = ME_Phase_7
PROCESSING_LEVEL_ID = 4
PRODUCT_CREATION_TIME = 2023-02-10T03:49:22.000Z
PRODUCT_ID = "H4287_0000_ND4.TIF"
RELEASE_ID = 0006
REVISION_ID = 0000
/* QUALITY DATA ELEMENTS */
DATA_QUALITY_ID = 1
DATA_QUALITY_DESC = "Data calculated based on original SPICE kernels"
/* TIME DATA ELEMENTS */
SPACECRAFT_CLOCK_START_COUNT = "1/0126669870.09058"
SPACECRAFT_CLOCK_STOP_COUNT = "1/0126670283.16470"
START_TIME = 2007-05-08T02:06:27.538Z
STOP_TIME = 2007-05-08T02:10:34.520Z
/* ORBITAL DATA ELEMENTS */
ASCENDING_NODE_LONGITUDE = 138.52
MAXIMUM_RESOLUTION = 0.022
FOOTPRINT_POINT_LATITUDE = (-84.4884,-84.3295,-84.1864,-83.9602, -83.7346,-83.4398,-83.1538,-83.1364, -83.1083,-82.905,-82.6965,-82.4829, -82.2643,-82.0418,-81.8154,-81.585, -81.3505,-81.1127,-80.8718,-80.628, -80.3813,-80.1325,-79.8804,-79.6259, -79.369,-79.1098,-78.8487,-78.5852, -78.3199,-78.0555,-77.7911,-77.5284, -77.1352,-76.7437,-76.4835,-76.2255, -75.8399,-75.583,-75.3291,-75.0743, -74.8223,-74.3201,-73.8225,-73.3293, -72.719,-72.236,-71.8762,-71.4011, -70.932,-70.8144,-70.8073,-70.8792, -70.9632,-71.0001,-71.051,-71.0807, -71.0825,-71.0838,-71.4456,-71.9309, -72.5457,-73.0441,-73.6754,-74.1866, -74.704,-74.9645,-75.2279,-75.4914, -75.7581,-76.0247,-76.2945,-76.7011, -76.9739,-77.2495,-77.666,-78.0857, -78.3675,-78.6517,-79.0809,-79.3681, -79.6544,-79.9397,-80.2241,-80.5075, -80.7898,-81.0712,-81.3516,-81.6308, -81.9089,-82.1859,-82.4618,-82.7366, -83.0101,-83.2824,-83.5534,-83.823, -84.0909,-84.3573,-84.4899,-84.4884)
FOOTPRINT_POINT_LONGITUDE = (54.156,49.6879,46.4591,42.2642,38.8136 ,35.0417,31.9488,31.775,31.5242,33.0193 ,34.433,35.7696,37.0308,38.2287,39.3644 ,40.439,41.4529,42.4157,43.3296,44.1992 ,45.026,45.8182,46.5653,47.2776,47.956, 48.6035,49.2233,49.8117,50.376,50.9086, 51.4156,51.897,52.574,53.2025,53.5993, 53.9762,54.5116,54.8468,55.1701,55.4798 ,55.7751,56.33,56.842,57.3134,57.8576, 58.258,58.5414,58.8967,59.2285,59.3083, 59.3131,60.504,62.107,62.9159,64.1951, 65.0745,65.1333,65.162,65.083,64.9684, 64.818,64.6849,64.5075,64.351,64.1866, 64.0974,64.0057,63.9087,63.7994,63.6939 ,63.5819,63.4039,63.2756,63.1428, 62.9481,62.7182,62.5539,62.3795,62.0997 ,61.8985,61.6875,61.4629,61.2267, 60.9765,60.7094,60.4273,60.1263,59.8043 ,59.4591,59.0904,58.6964,58.2746, 57.8211,57.3317,56.8046,56.2299,55.5968 ,54.9078,54.5405,54.156)
ORBIT_NUMBER = 4287
ORBITAL_ECCENTRICITY = 0.571
ORBITAL_INCLINATION = 86.7
ORBITAL_SEMIMAJOR_AXIS = 8592.29
PERIAPSIS_ALTITUDE = 293.91
PERIAPSIS_ARGUMENT_ANGLE = 322.94
PERIAPSIS_TIME = 2007-05-08T02:19:32.000Z
SPACECRAFT_ORIENTATION = (0.0,1.0,0.0)
^MEX_ORIENTATION_DESC = "MEX_ORIENTATION_DESC.TXT"
SPACECRAFT_POINTING_MODE = ACROSSTRACK
^MEX_POINTING_DESC = "MEX_POINTING_DESC.TXT"
RIGHT_ASCENSION = -1e+32
DECLINATION = -1e+32
OFFSET_ANGLE = -0.2
SPACECRAFT_SOLAR_DISTANCE = 2.07473e+08
TARGET_NAME = MARS
/* CAMERA DATA ELEMENTS */
DETECTOR_TEMPERATURE = 18.5744
FOCAL_PLANE_TEMPERATURE = 9.6028
INST_CMPRS_NAME = "DISCRETE COSINE TRANSFORMATION (DCT)"
INST_CMPRS_RATIO = 5.70961
INST_CMPRS_QUALITY = 0
INST_CMPRS_QUANTZ_TBL_ID = 0
INSTRUMENT_TEMPERATURE = 11.6418
LENS_TEMPERATURE = 9.6028
MACROPIXEL_SIZE = 1
MISSING_FRAMES = 0
PIXEL_SUBSAMPLING_FLAG = N
SIGNAL_CHAIN_ID = 0
/* RADIOMETRIC DATA ELEMENTS */
BANDWIDTH = 177.0
CENTER_FILTER_WAVELENGTH = 677.5
RADIANCE_OFFSET = 4.78547
RADIANCE_SCALING_FACTOR = 0.0580253
REFLECTANCE_SCALING_FACTOR = 0.00132687
MEX:REFLECTANCE_OFFSET = 0.109429
/* IMAGE OBJECT DEFINITIONS */
OBJECT = IMAGE
  INTERCHANGE_FORMAT = BINARY
  LINES = 32459
  LINE_SAMPLES = 13037
  SAMPLE_TYPE = UNSIGNED_INTEGER
  SAMPLE_BITS = 8
  BANDS = 1
  BAND_STORAGE_TYPE = BAND_SEQUENTIAL
  MAXIMUM = 255
  MEAN = 112.711
  MINIMUM = 1
  STANDARD_DEVIATION = 61.0661
END_OBJECT = IMAGE
/* MAP OBJECT DEFINITIONS */
OBJECT = IMAGE_MAP_PROJECTION
  ^DATA_SET_MAP_PROJECTION_CATALOG= "DSMAP.CAT"
  A_AXIS_RADIUS = 3396.0
  B_AXIS_RADIUS = 3396.0
  C_AXIS_RADIUS = 3396.0
  CENTER_LATITUDE = 0.0
  CENTER_LONGITUDE = 58.0
  COORDINATE_SYSTEM_NAME = PLANETOGRAPHIC
  COORDINATE_SYSTEM_TYPE = "BODY-FIXED ROTATING"
  EASTERNMOST_LONGITUDE = 65.16200000000001
  FIRST_STANDARD_PARALLEL = "N/A"
  LINE_FIRST_PIXEL = 1
  LINE_LAST_PIXEL = 32459
  LINE_PROJECTION_OFFSET = -167875.0
  MAP_PROJECTION_ROTATION = 0.0
  MAP_PROJECTION_TYPE = SINUSOIDAL
  MAP_RESOLUTION = 2370.85521546667
  MAP_SCALE = 0.025
  MAXIMUM_LATITUDE = -70.8073
  MINIMUM_LATITUDE = -84.48990000000001
  POSITIVE_LONGITUDE_DIRECTION = EAST
  REFERENCE_LATITUDE = "N/A"
  REFERENCE_LONGITUDE = "N/A"
  SAMPLE_FIRST_PIXEL = 1
  SAMPLE_LAST_PIXEL = 13037
  SAMPLE_PROJECTION_OFFSET = 7531.0
  SECOND_STANDARD_PARALLEL = "N/A"
  WESTERNMOST_LONGITUDE = 31.5242
END_OBJECT = IMAGE_MAP_PROJECTION
END
