PDS_VERSION_ID = PDS3
/* FILE DATA ELEMENTS */
RECORD_TYPE = UNDEFINED
/* POINTERS TO DATA OBJECTS */
^IMAGE = ("H4287_0000_S14.TIF")
/* IDENTIFICATION DATA ELEMENTS */
DATA_SET_ID = "MEX-M-HRSC-4-REFDR-MAPPROJECT-EXT1-V4.0"
DATA_SET_NAME = "MARS EXPRESS HRSC MAP PROJECTED REFDR EXTENSION1 V4.0"
DETECTOR_ID = MEX_HRSC_S1
EVENT_TYPE = "MARS-REGIONAL-MAPPING-Im-Gl-Pf"
INSTRUMENT_HOST_ID = MEX
INSTRUMENT_HOST_NAME = "MARS EXPRESS"
INSTRUMENT_ID = HRSC
INSTRUMENT_NAME = "HIGH RESOLUTION STEREO CAMERA"
MISSION_NAME = "MARS EXPRESS"
MISSION_PHASE_NAME = ME_Phase_7
PROCESSING_LEVEL_ID = 4
PRODUCT_CREATION_TIME = 2023-02-10T03:49:22.000Z
PRODUCT_ID = "H4287_0000_S14.TIF"
RELEASE_ID = 0006
REVISION_ID = 0000
/* QUALITY DATA ELEMENTS */
DATA_QUALITY_ID = 1
DATA_QUALITY_DESC = "Data calculated based on original SPICE kernels"
/* TIME DATA ELEMENTS */
SPACECRAFT_CLOCK_START_COUNT = "1/0126669870.09058"
SPACECRAFT_CLOCK_STOP_COUNT = "1/0126670283.16470"
START_TIME = 2007-05-08T02:07:48.191Z
STOP_TIME = 2007-05-08T02:11:25.344Z
/* ORBITAL DATA ELEMENTS */
ASCENDING_NODE_LONGITUDE = 138.52
MAXIMUM_RESOLUTION = 0.0432
FOOTPRINT_POINT_LATITUDE = (-84.3188,-84.1472,-83.9875,-83.8095, -83.6151,-83.4726,-83.153,-83.1385, -83.2013,-82.8481,-82.6049,-82.3594, -82.1066,-81.7199,-81.461,-81.2045, -80.9441,-80.6835,-80.2869,-79.8976, -79.6332,-79.373,-78.9809,-78.7219, -78.3334,-78.0749,-77.8188,-77.5607, -77.3062,-76.9235,-76.6707,-76.4167, -76.1652,-75.9123,-75.6626,-75.415, -75.0437,-74.7979,-74.5522,-74.3131, -74.0715,-73.8298,-73.5926,-73.3534, -72.9967,-72.4132,-71.9473,-71.4891, -70.92,-70.8075,-70.8036,-70.8798, -70.9607,-71.0032,-71.0645,-71.0663, -71.0677,-71.7643,-72.471,-72.946, -73.19,-73.4338,-73.6765,-73.9226, -74.1675,-74.4218,-74.7972,-75.0508, -75.306,-75.6864,-75.9442,-76.2031, -76.4661,-76.7279,-76.992,-77.2586, -77.5332,-77.9411,-78.2135,-78.4852, -78.763,-79.1775,-79.4583,-79.8804, -80.1639,-80.4493,-80.7356,-81.0248, -81.3144,-81.6074,-82.0461,-82.3405, -82.6385,-82.9375,-83.2382,-83.5373, -83.9849,-84.2766,-84.423,-84.3188)
FOOTPRINT_POINT_LONGITUDE = (53.4249,48.9754,45.6184,42.4445, 39.4592,37.5104,33.6997,33.5419,32.7527 ,35.1618,36.6438,38.0071,39.3058, 41.1064,42.197,43.1971,44.1467,45.035, 46.288,47.3953,48.0998,48.7503,49.6667, 50.23,51.0239,51.5194,51.987,52.4383, 52.8617,53.4648,53.8425,54.2065,54.5522 ,54.8876,55.2039,55.5053,55.9376, 56.2111,56.4745,56.7195,56.9603,57.1946 ,57.415,57.6311,57.9431,58.4182,58.7748 ,59.1058,59.4927,59.5658,59.5683, 60.8598,62.4266,63.3758,64.9179,64.9713 ,64.9904,64.8212,64.6326,64.4947, 64.4234,64.3498,64.2717,64.1901,64.1051 ,64.0231,63.8853,63.7906,63.6903, 63.5288,63.4159,63.2997,63.1769,63.0484 ,62.9124,62.7715,62.6302,62.3954, 62.2258,62.0453,61.8581,61.5521,61.3319 ,60.9765,60.7195,60.4445,60.1502, 59.8334,59.494,59.1255,58.5152,58.0667, 57.5752,57.04,56.4519,55.8094,54.7278, 53.9119,53.4726,53.4249)
ORBIT_NUMBER = 4287
ORBITAL_ECCENTRICITY = 0.571
ORBITAL_INCLINATION = 86.7
ORBITAL_SEMIMAJOR_AXIS = 8592.29
PERIAPSIS_ALTITUDE = 293.91
PERIAPSIS_ARGUMENT_ANGLE = 322.94
PERIAPSIS_TIME = 2007-05-08T02:19:32.000Z
SPACECRAFT_ORIENTATION = (0.0,1.0,0.0)
^MEX_ORIENTATION_DESC = "MEX_ORIENTATION_DESC.TXT"
SPACECRAFT_POINTING_MODE = ACROSSTRACK
^MEX_POINTING_DESC = "MEX_POINTING_DESC.TXT"
RIGHT_ASCENSION = -1e+32
DECLINATION = -1e+32
OFFSET_ANGLE = -0.2
SPACECRAFT_SOLAR_DISTANCE = 2.07473e+08
TARGET_NAME = MARS
/* CAMERA DATA ELEMENTS */
DETECTOR_TEMPERATURE = 18.1666
FOCAL_PLANE_TEMPERATURE = 9.6028
INST_CMPRS_NAME = "DISCRETE COSINE TRANSFORMATION (DCT)"
INST_CMPRS_RATIO = 9.97786
INST_CMPRS_QUALITY = 0
INST_CMPRS_QUANTZ_TBL_ID = 0
INSTRUMENT_TEMPERATURE = 11.6418
LENS_TEMPERATURE = 9.6028
MACROPIXEL_SIZE = 2
MISSING_FRAMES = 0
PIXEL_SUBSAMPLING_FLAG = N
SIGNAL_CHAIN_ID = 1
/* RADIOMETRIC DATA ELEMENTS */
BANDWIDTH = 180.0
CENTER_FILTER_WAVELENGTH = 677.0
RADIANCE_OFFSET = 5.70739
RADIANCE_SCALING_FACTOR = 0.0475868
REFLECTANCE_SCALING_FACTOR = 0.00106869
MEX:REFLECTANCE_OFFSET = 0.128175
/* IMAGE OBJECT DEFINITIONS */
OBJECT = IMAGE
  INTERCHANGE_FORMAT = BINARY
  LINES = 16230
  LINE_SAMPLES = 6519
  SAMPLE_TYPE = UNSIGNED_INTEGER
  SAMPLE_BITS = 8
  BANDS = 1
  BAND_STORAGE_TYPE = BAND_SEQUENTIAL
  MAXIMUM = 255
  MEAN = 135.36
  MINIMUM = 1
  STANDARD_DEVIATION = 65.7619
END_OBJECT = IMAGE
/* MAP OBJECT DEFINITIONS */
OBJECT = IMAGE_MAP_PROJECTION
  ^DATA_SET_MAP_PROJECTION_CATALOG= "DSMAP.CAT"
  A_AXIS_RADIUS = 3396.0
  B_AXIS_RADIUS = 3396.0
  C_AXIS_RADIUS = 3396.0
  CENTER_LATITUDE = 0.0
  CENTER_LONGITUDE = 58.0
  COORDINATE_SYSTEM_NAME = PLANETOGRAPHIC
  COORDINATE_SYSTEM_TYPE = "BODY-FIXED ROTATING"
  EASTERNMOST_LONGITUDE = 64.99039999999999
  FIRST_STANDARD_PARALLEL = "N/A"
  LINE_FIRST_PIXEL = 1
  LINE_LAST_PIXEL = 16230
  LINE_PROJECTION_OFFSET = -83937.75
  MAP_PROJECTION_ROTATION = 0.0
  MAP_PROJECTION_TYPE = SINUSOIDAL
  MAP_RESOLUTION = 1185.42760773333
  MAP_SCALE = 0.05
  MAXIMUM_LATITUDE = -70.8036
  MINIMUM_LATITUDE = -84.423
  POSITIVE_LONGITUDE_DIRECTION = EAST
  REFERENCE_LATITUDE = "N/A"
  REFERENCE_LONGITUDE = "N/A"
  SAMPLE_FIRST_PIXEL = 1
  SAMPLE_LAST_PIXEL = 6519
  SAMPLE_PROJECTION_OFFSET = 3765.25
  SECOND_STANDARD_PARALLEL = "N/A"
  WESTERNMOST_LONGITUDE = 32.7527
END_OBJECT = IMAGE_MAP_PROJECTION
END
