PDS_VERSION_ID = PDS3
/* FILE DATA ELEMENTS */
RECORD_TYPE = UNDEFINED
/* POINTERS TO DATA OBJECTS */
^IMAGE = ("H4287_0001_P14.TIF")
/* IDENTIFICATION DATA ELEMENTS */
DATA_SET_ID = "MEX-M-HRSC-4-REFDR-MAPPROJECT-EXT1-V4.0"
DATA_SET_NAME = "MARS EXPRESS HRSC MAP PROJECTED REFDR EXTENSION1 V4.0"
DETECTOR_ID = MEX_HRSC_P1
EVENT_TYPE = "MARS-REGIONAL-MAPPING-Fl-Pf-Mw"
INSTRUMENT_HOST_ID = MEX
INSTRUMENT_HOST_NAME = "MARS EXPRESS"
INSTRUMENT_ID = HRSC
INSTRUMENT_NAME = "HIGH RESOLUTION STEREO CAMERA"
MISSION_NAME = "MARS EXPRESS"
MISSION_PHASE_NAME = ME_Phase_7
PROCESSING_LEVEL_ID = 4
PRODUCT_CREATION_TIME = 2023-02-10T03:49:22.000Z
PRODUCT_ID = "H4287_0001_P14.TIF"
RELEASE_ID = 0006
REVISION_ID = 0000
/* QUALITY DATA ELEMENTS */
DATA_QUALITY_ID = 1
DATA_QUALITY_DESC = "Data calculated based on original SPICE kernels"
/* TIME DATA ELEMENTS */
SPACECRAFT_CLOCK_START_COUNT = "1/0126670766.09071"
SPACECRAFT_CLOCK_STOP_COUNT = "1/0126670931.48923"
START_TIME = 2007-05-08T02:20:13.034Z
STOP_TIME = 2007-05-08T02:22:04.278Z
/* ORBITAL DATA ELEMENTS */
ASCENDING_NODE_LONGITUDE = 138.52
MAXIMUM_RESOLUTION = 0.0495
FOOTPRINT_POINT_LATITUDE = (-35.3759,-35.3713,-35.3675,-35.3597, -35.3554,-35.3492,-35.3489,-35.398, -35.1173,-34.84,-34.557,-34.342, -34.1232,-33.9045,-33.758,-33.6125, -33.4667,-33.3213,-33.1032,-32.9572, -32.7391,-32.5216,-32.3766,-32.2328, -32.0876,-31.8699,-31.6521,-31.4354, -31.2908,-31.1461,-31.0013,-30.857, -30.6405,-30.4963,-30.3522,-30.1357, -29.9914,-29.8475,-29.7042,-29.4816, -29.3324,-29.105,-28.9536,-28.8024, -28.5764,-28.3519,-28.2013,-28.1262, -28.103,-28.1075,-28.1126,-28.1149, -28.1175,-28.1215,-28.1217,-28.1225, -28.2714,-28.4218,-28.5711,-28.7232, -28.9509,-29.1784,-29.3283,-29.4783, -29.7029,-29.9192,-30.0636,-30.2077, -30.352,-30.4965,-30.6409,-30.8575, -31.0742,-31.2191,-31.3641,-31.5087, -31.7262,-31.8715,-32.0165,-32.161, -32.3063,-32.452,-32.5975,-32.7429, -32.8884,-33.034,-33.1793,-33.3255, -33.4719,-33.617,-33.7627,-33.9815, -34.1273,-34.3459,-34.4905,-34.7726, -34.9848,-35.3378,-35.408,-35.3759)
FOOTPRINT_POINT_LONGITUDE = (67.421,67.1774,66.9925,66.6359,66.4527 ,66.2013,66.1899,66.1686,66.1762, 66.1823,66.1903,66.1961,66.2015,66.2067 ,66.2104,66.2137,66.2171,66.2202, 66.2249,66.2281,66.2327,66.2369,66.2396 ,66.2419,66.2446,66.2486,66.2525,66.256 ,66.2583,66.2607,66.263,66.2651,66.2682 ,66.2702,66.2721,66.2751,66.277,66.2787 ,66.2802,66.2828,66.2845,66.2883, 66.2907,66.2929,66.296,66.2985,66.3005, 66.3014,66.3016,66.6004,66.9009,67.0981 ,67.2611,67.5301,67.5418,67.5457, 67.5442,67.5437,67.5424,67.543,67.5435, 67.5437,67.5424,67.5413,67.5394,67.5369 ,67.5352,67.5334,67.5315,67.5298,67.528 ,67.5251,67.5221,67.5204,67.5187, 67.5166,67.5138,67.5122,67.5102,67.5077 ,67.5059,67.5043,67.5025,67.5005, 67.4985,67.4966,67.4944,67.4928,67.4913 ,67.4888,67.4866,67.4835,67.4814, 67.4779,67.4758,67.4722,67.4698,67.4651 ,67.4638,67.421)
ORBIT_NUMBER = 4287
ORBITAL_ECCENTRICITY = 0.571
ORBITAL_INCLINATION = 86.7
ORBITAL_SEMIMAJOR_AXIS = 8592.29
PERIAPSIS_ALTITUDE = 293.91
PERIAPSIS_ARGUMENT_ANGLE = 322.94
PERIAPSIS_TIME = 2007-05-08T02:19:32.000Z
SPACECRAFT_ORIENTATION = (0.0,1.0,0.0)
^MEX_ORIENTATION_DESC = "MEX_ORIENTATION_DESC.TXT"
SPACECRAFT_POINTING_MODE = ACROSSTRACK
^MEX_POINTING_DESC = "MEX_POINTING_DESC.TXT"
RIGHT_ASCENSION = -1e+32
DECLINATION = -1e+32
OFFSET_ANGLE = -0.2
SPACECRAFT_SOLAR_DISTANCE = 2.07473e+08
TARGET_NAME = MARS
/* CAMERA DATA ELEMENTS */
DETECTOR_TEMPERATURE = 20.0017
FOCAL_PLANE_TEMPERATURE = 10.0106
INST_CMPRS_NAME = "DISCRETE COSINE TRANSFORMATION (DCT)"
INST_CMPRS_RATIO = 13.1733
INST_CMPRS_QUALITY = 0
INST_CMPRS_QUANTZ_TBL_ID = 0
INSTRUMENT_TEMPERATURE = 14.2925
LENS_TEMPERATURE = 10.4184
MACROPIXEL_SIZE = 4
MISSING_FRAMES = 0
PIXEL_SUBSAMPLING_FLAG = N
SIGNAL_CHAIN_ID = 3
/* RADIOMETRIC DATA ELEMENTS */
BANDWIDTH = 174.0
CENTER_FILTER_WAVELENGTH = 675.0
RADIANCE_OFFSET = 7.79541
RADIANCE_SCALING_FACTOR = 0.0135868
REFLECTANCE_SCALING_FACTOR = 0.000314574
MEX:REFLECTANCE_OFFSET = 0.180487
/* IMAGE OBJECT DEFINITIONS */
OBJECT = IMAGE
  INTERCHANGE_FORMAT = BINARY
  LINES = 8644
  LINE_SAMPLES = 1366
  SAMPLE_TYPE = UNSIGNED_INTEGER
  SAMPLE_BITS = 8
  BANDS = 1
  BAND_STORAGE_TYPE = BAND_SEQUENTIAL
  MAXIMUM = 255
  MEAN = 161.722
  MINIMUM = 1
  STANDARD_DEVIATION = 53.7885
END_OBJECT = IMAGE
/* MAP OBJECT DEFINITIONS */
OBJECT = IMAGE_MAP_PROJECTION
  ^DATA_SET_MAP_PROJECTION_CATALOG= "DSMAP.CAT"
  A_AXIS_RADIUS = 3396.0
  B_AXIS_RADIUS = 3396.0
  C_AXIS_RADIUS = 3396.0
  CENTER_LATITUDE = 0.0
  CENTER_LONGITUDE = 67.0
  COORDINATE_SYSTEM_NAME = PLANETOGRAPHIC
  COORDINATE_SYSTEM_TYPE = "BODY-FIXED ROTATING"
  EASTERNMOST_LONGITUDE = 67.5457
  FIRST_STANDARD_PARALLEL = "N/A"
  LINE_FIRST_PIXEL = 1
  LINE_LAST_PIXEL = 8644
  LINE_PROJECTION_OFFSET = -33315.625
  MAP_PROJECTION_ROTATION = 0.0
  MAP_PROJECTION_TYPE = SINUSOIDAL
  MAP_RESOLUTION = 1185.42760773333
  MAP_SCALE = 0.05
  MAXIMUM_LATITUDE = -28.103
  MINIMUM_LATITUDE = -35.408
  POSITIVE_LONGITUDE_DIRECTION = EAST
  REFERENCE_LATITUDE = "N/A"
  REFERENCE_LONGITUDE = "N/A"
  SAMPLE_FIRST_PIXEL = 1
  SAMPLE_LAST_PIXEL = 1366
  SAMPLE_PROJECTION_OFFSET = 806.875
  SECOND_STANDARD_PARALLEL = "N/A"
  WESTERNMOST_LONGITUDE = 66.1686
END_OBJECT = IMAGE_MAP_PROJECTION
END
