PDS_VERSION_ID = PDS3
/* FILE DATA ELEMENTS */
RECORD_TYPE = UNDEFINED
/* POINTERS TO DATA OBJECTS */
^IMAGE = ("H4289_0000_P24.TIF")
/* IDENTIFICATION DATA ELEMENTS */
DATA_SET_ID = "MEX-M-HRSC-4-REFDR-MAPPROJECT-EXT1-V4.0"
DATA_SET_NAME = "MARS EXPRESS HRSC MAP PROJECTED REFDR EXTENSION1 V4.0"
DETECTOR_ID = MEX_HRSC_P2
EVENT_TYPE = "MARS-REGIONAL-MAPPING-Vo-Im"
INSTRUMENT_HOST_ID = MEX
INSTRUMENT_HOST_NAME = "MARS EXPRESS"
INSTRUMENT_ID = HRSC
INSTRUMENT_NAME = "HIGH RESOLUTION STEREO CAMERA"
MISSION_NAME = "MARS EXPRESS"
MISSION_PHASE_NAME = ME_Phase_7
PROCESSING_LEVEL_ID = 4
PRODUCT_CREATION_TIME = 2023-02-10T03:49:22.000Z
PRODUCT_ID = "H4289_0000_P24.TIF"
RELEASE_ID = 0006
REVISION_ID = 0000
/* QUALITY DATA ELEMENTS */
DATA_QUALITY_ID = 1
DATA_QUALITY_DESC = "Data calculated based on original SPICE kernels"
/* TIME DATA ELEMENTS */
SPACECRAFT_CLOCK_START_COUNT = "1/0126719094.09055"
SPACECRAFT_CLOCK_STOP_COUNT = "1/0126719292.42808"
START_TIME = 2007-05-08T15:45:07.375Z
STOP_TIME = 2007-05-08T15:47:29.885Z
/* ORBITAL DATA ELEMENTS */
ASCENDING_NODE_LONGITUDE = 138.48
MAXIMUM_RESOLUTION = 0.0478
FOOTPRINT_POINT_LATITUDE = (-38.9144,-38.9095,-38.9046,-38.8938, -38.8935,-38.872,-38.6827,-38.4928, -38.1238,-37.7546,-37.4768,-37.2916, -36.9222,-36.5533,-36.1852,-35.9071, -35.7206,-35.5348,-35.2561,-34.9777, -34.7923,-34.6067,-34.4212,-34.2356, -33.957,-33.7712,-33.5854,-33.3996, -33.1209,-32.9349,-32.7491,-32.563, -32.3768,-32.1836,-31.9903,-31.7969, -31.6038,-31.4105,-31.2172,-31.0239, -30.8305,-30.6371,-30.4436,-30.2503, -30.0568,-29.7665,-29.573,-29.4763, -29.4164,-29.42,-29.4229,-29.4243, -29.4248,-29.4248,-29.4256,-29.716, -29.9096,-30.1032,-30.3937,-30.5874, -30.781,-30.9747,-31.265,-31.4587, -31.6523,-31.8459,-32.0393,-32.2329, -32.4252,-32.6115,-32.7976,-32.9837, -33.1701,-33.3564,-33.542,-33.728, -33.914,-34.193,-34.3789,-34.5647, -34.7505,-34.9361,-35.2148,-35.4932, -35.6788,-35.8641,-36.0496,-36.2348, -36.4203,-36.6063,-36.7921,-36.978, -37.3442,-37.7145,-37.9012,-38.0874, -38.453,-38.737,-38.8328,-38.9144)
FOOTPRINT_POINT_LONGITUDE = (230.699,230.263,229.949,229.42,229.408 ,229.397,229.406,229.414,229.43,229.445 ,229.455,229.462,229.476,229.49,229.503 ,229.513,229.518,229.524,229.532, 229.541,229.546,229.552,229.557,229.562 ,229.57,229.575,229.579,229.584,229.591 ,229.596,229.6,229.604,229.608,229.612, 229.617,229.62,229.624,229.628,229.632, 229.636,229.639,229.642,229.646,229.649 ,229.652,229.656,229.659,229.66,229.661 ,229.95,230.272,230.54,230.842,230.853, 230.857,230.854,230.851,230.849,230.845 ,230.843,230.84,230.838,230.834,230.831 ,230.829,230.826,230.824,230.821, 230.818,230.816,230.813,230.811,230.808 ,230.805,230.803,230.8,230.797,230.793, 230.79,230.787,230.785,230.782,230.777, 230.773,230.77,230.767,230.764,230.761, 230.758,230.754,230.751,230.747,230.743 ,230.736,230.732,230.727,230.723, 230.718,230.716,230.699)
ORBIT_NUMBER = 4289
ORBITAL_ECCENTRICITY = 0.571
ORBITAL_INCLINATION = 86.7
ORBITAL_SEMIMAJOR_AXIS = 8590.72
PERIAPSIS_ALTITUDE = 293.84
PERIAPSIS_ARGUMENT_ANGLE = 322.57
PERIAPSIS_TIME = 2007-05-08T15:45:48.000Z
SPACECRAFT_ORIENTATION = (0.0,1.0,0.0)
^MEX_ORIENTATION_DESC = "MEX_ORIENTATION_DESC.TXT"
SPACECRAFT_POINTING_MODE = ACROSSTRACK
^MEX_POINTING_DESC = "MEX_POINTING_DESC.TXT"
RIGHT_ASCENSION = -1e+32
DECLINATION = -1e+32
OFFSET_ANGLE = -0.1
SPACECRAFT_SOLAR_DISTANCE = 2.07441e+08
TARGET_NAME = MARS
/* CAMERA DATA ELEMENTS */
DETECTOR_TEMPERATURE = 19.1861
FOCAL_PLANE_TEMPERATURE = 9.6028
INST_CMPRS_NAME = "DISCRETE COSINE TRANSFORMATION (DCT)"
INST_CMPRS_RATIO = 12.4914
INST_CMPRS_QUALITY = 0
INST_CMPRS_QUANTZ_TBL_ID = 0
INSTRUMENT_TEMPERATURE = 11.6418
LENS_TEMPERATURE = 9.6028
MACROPIXEL_SIZE = 4
MISSING_FRAMES = 0
PIXEL_SUBSAMPLING_FLAG = N
SIGNAL_CHAIN_ID = 3
/* RADIOMETRIC DATA ELEMENTS */
BANDWIDTH = 177.0
CENTER_FILTER_WAVELENGTH = 676.5
RADIANCE_OFFSET = 5.71837
RADIANCE_SCALING_FACTOR = 0.0175276
REFLECTANCE_SCALING_FACTOR = 0.000399915
MEX:REFLECTANCE_OFFSET = 0.130472
/* IMAGE OBJECT DEFINITIONS */
OBJECT = IMAGE
  INTERCHANGE_FORMAT = BINARY
  LINES = 11251
  LINE_SAMPLES = 1448
  SAMPLE_TYPE = UNSIGNED_INTEGER
  SAMPLE_BITS = 8
  BANDS = 1
  BAND_STORAGE_TYPE = BAND_SEQUENTIAL
  MAXIMUM = 255
  MEAN = 108.111
  MINIMUM = 1
  STANDARD_DEVIATION = 36.4855
END_OBJECT = IMAGE
/* MAP OBJECT DEFINITIONS */
OBJECT = IMAGE_MAP_PROJECTION
  ^DATA_SET_MAP_PROJECTION_CATALOG= "DSMAP.CAT"
  A_AXIS_RADIUS = 3396.0
  B_AXIS_RADIUS = 3396.0
  C_AXIS_RADIUS = 3396.0
  CENTER_LATITUDE = 0.0
  CENTER_LONGITUDE = 230.0
  COORDINATE_SYSTEM_NAME = PLANETOGRAPHIC
  COORDINATE_SYSTEM_TYPE = "BODY-FIXED ROTATING"
  EASTERNMOST_LONGITUDE = 230.857
  FIRST_STANDARD_PARALLEL = "N/A"
  LINE_FIRST_PIXEL = 1
  LINE_LAST_PIXEL = 11251
  LINE_PROJECTION_OFFSET = -34853.875
  MAP_PROJECTION_ROTATION = 0.0
  MAP_PROJECTION_TYPE = SINUSOIDAL
  MAP_RESOLUTION = 1185.42760773333
  MAP_SCALE = 0.05
  MAXIMUM_LATITUDE = -29.4164
  MINIMUM_LATITUDE = -38.9144
  POSITIVE_LONGITUDE_DIRECTION = EAST
  REFERENCE_LATITUDE = "N/A"
  REFERENCE_LONGITUDE = "N/A"
  SAMPLE_FIRST_PIXEL = 1
  SAMPLE_LAST_PIXEL = 1448
  SAMPLE_PROJECTION_OFFSET = 556.625
  SECOND_STANDARD_PARALLEL = "N/A"
  WESTERNMOST_LONGITUDE = 229.397
END_OBJECT = IMAGE_MAP_PROJECTION
END
