PDS_VERSION_ID = PDS3
/* FILE DATA ELEMENTS */
RECORD_TYPE = UNDEFINED
/* POINTERS TO DATA OBJECTS */
^IMAGE = ("H4290_0000_P14.TIF")
/* IDENTIFICATION DATA ELEMENTS */
DATA_SET_ID = "MEX-M-HRSC-4-REFDR-MAPPROJECT-EXT1-V4.0"
DATA_SET_NAME = "MARS EXPRESS HRSC MAP PROJECTED REFDR EXTENSION1 V4.0"
DETECTOR_ID = MEX_HRSC_P1
EVENT_TYPE = "MARS-REGIONAL-MAPPING-Vo-Im"
INSTRUMENT_HOST_ID = MEX
INSTRUMENT_HOST_NAME = "MARS EXPRESS"
INSTRUMENT_ID = HRSC
INSTRUMENT_NAME = "HIGH RESOLUTION STEREO CAMERA"
MISSION_NAME = "MARS EXPRESS"
MISSION_PHASE_NAME = ME_Phase_7
PROCESSING_LEVEL_ID = 4
PRODUCT_CREATION_TIME = 2023-02-10T03:49:22.000Z
PRODUCT_ID = "H4290_0000_P14.TIF"
RELEASE_ID = 0006
REVISION_ID = 0000
/* QUALITY DATA ELEMENTS */
DATA_QUALITY_ID = 1
DATA_QUALITY_DESC = "Data calculated based on original SPICE kernels"
/* TIME DATA ELEMENTS */
SPACECRAFT_CLOCK_START_COUNT = "1/0126743092.08245"
SPACECRAFT_CLOCK_STOP_COUNT = "1/0126743455.63739"
START_TIME = 2007-05-08T22:25:48.059Z
STOP_TIME = 2007-05-08T22:30:48.799Z
/* ORBITAL DATA ELEMENTS */
ASCENDING_NODE_LONGITUDE = 138.45
MAXIMUM_RESOLUTION = 0.0482
FOOTPRINT_POINT_LATITUDE = (-51.5505,-51.5271,-51.4926,-51.492, -51.5299,-51.0916,-50.6535,-50.2233, -49.8003,-49.3764,-48.951,-48.5264, -48.1073,-47.6973,-47.0823,-46.4673, -46.056,-45.6446,-45.2407,-44.8444, -44.4486,-44.0518,-43.4598,-43.0645, -42.6679,-42.2714,-41.8808,-41.4813, -41.0858,-40.6903,-40.2969,-39.9161, -39.1586,-38.5896,-38.2098,-37.8306, -37.4513,-36.8829,-36.3156,-35.5598, -35.1763,-34.7831,-34.3911,-33.8031, -33.4123,-33.0209,-32.6341,-32.2431, -31.8531,-31.6587,-31.594,-31.6014, -31.6092,-31.6093,-31.6101,-31.9993, -32.5845,-33.1765,-33.5608,-33.9536, -34.3453,-34.7382,-35.1304,-35.896, -36.4641,-37.0332,-37.4127,-37.9825, -38.3624,-38.7423,-39.1221,-39.6908, -40.0709,-40.462,-40.8514,-41.2482, -41.6443,-42.2386,-42.6348,-43.2287, -43.8271,-44.2243,-44.6209,-45.0152, -45.4127,-46.0326,-46.4453,-47.0598, -47.4712,-47.8835,-48.2952,-48.7208, -49.1466,-49.573,-49.9986,-50.424, -50.8599,-51.2986,-51.5184,-51.5505)
FOOTPRINT_POINT_LONGITUDE = (131.791,130.986,130.015,129.998,129.96 ,130.014,130.066,130.115,130.161, 130.206,130.251,130.294,130.334,130.372 ,130.428,130.48,130.514,130.548,130.579 ,130.609,130.637,130.666,130.705,130.73 ,130.755,130.78,130.8,130.825,130.847, 130.868,130.888,130.908,130.942,130.967 ,130.983,130.999,131.014,131.035, 131.055,131.081,131.093,131.106,131.117 ,131.134,131.145,131.155,131.162, 131.172,131.181,131.185,131.186,131.666 ,132.398,132.41,132.414,132.407,132.397 ,132.39,132.38,132.373,132.366,132.359, 132.351,132.336,132.324,132.312,132.304 ,132.291,132.282,132.273,132.263, 132.247,132.237,132.231,132.217,132.206 ,132.195,132.178,132.166,132.148, 132.131,132.119,132.105,132.09,132.077, 132.058,132.043,132.018,132.002,131.986 ,131.97,131.952,131.934,131.916,131.896 ,131.876,131.856,131.833,131.822, 131.791)
ORBIT_NUMBER = 4290
ORBITAL_ECCENTRICITY = 0.571
ORBITAL_INCLINATION = 86.68
ORBITAL_SEMIMAJOR_AXIS = 8591.76
PERIAPSIS_ALTITUDE = 294.58
PERIAPSIS_ARGUMENT_ANGLE = 322.42
PERIAPSIS_TIME = 2007-05-08T22:29:03.000Z
SPACECRAFT_ORIENTATION = (0.0,1.0,0.0)
^MEX_ORIENTATION_DESC = "MEX_ORIENTATION_DESC.TXT"
SPACECRAFT_POINTING_MODE = NADIR
^MEX_POINTING_DESC = "MEX_POINTING_DESC.TXT"
RIGHT_ASCENSION = -1e+32
DECLINATION = -1e+32
OFFSET_ANGLE = -1e+32
SPACECRAFT_SOLAR_DISTANCE = 2.07425e+08
TARGET_NAME = MARS
/* CAMERA DATA ELEMENTS */
DETECTOR_TEMPERATURE = 17.9627
FOCAL_PLANE_TEMPERATURE = 8.9911
INST_CMPRS_NAME = "DISCRETE COSINE TRANSFORMATION (DCT)"
INST_CMPRS_RATIO = 19.9147
INST_CMPRS_QUALITY = 0
INST_CMPRS_QUANTZ_TBL_ID = 0
INSTRUMENT_TEMPERATURE = 11.4379
LENS_TEMPERATURE = 8.1755
MACROPIXEL_SIZE = 4
MISSING_FRAMES = 0
PIXEL_SUBSAMPLING_FLAG = N
SIGNAL_CHAIN_ID = 3
/* RADIOMETRIC DATA ELEMENTS */
BANDWIDTH = 174.0
CENTER_FILTER_WAVELENGTH = 675.0
RADIANCE_OFFSET = 6.45197
RADIANCE_SCALING_FACTOR = 0.0186808
REFLECTANCE_SCALING_FACTOR = 0.000432319
MEX:REFLECTANCE_OFFSET = 0.149314
/* IMAGE OBJECT DEFINITIONS */
OBJECT = IMAGE
  INTERCHANGE_FORMAT = BINARY
  LINES = 23714
  LINE_SAMPLES = 1936
  SAMPLE_TYPE = UNSIGNED_INTEGER
  SAMPLE_BITS = 8
  BANDS = 1
  BAND_STORAGE_TYPE = BAND_SEQUENTIAL
  MAXIMUM = 255
  MEAN = 127.726
  MINIMUM = 1
  STANDARD_DEVIATION = 42.9919
END_OBJECT = IMAGE
/* MAP OBJECT DEFINITIONS */
OBJECT = IMAGE_MAP_PROJECTION
  ^DATA_SET_MAP_PROJECTION_CATALOG= "DSMAP.CAT"
  A_AXIS_RADIUS = 3396.0
  B_AXIS_RADIUS = 3396.0
  C_AXIS_RADIUS = 3396.0
  CENTER_LATITUDE = 0.0
  CENTER_LONGITUDE = 132.0
  COORDINATE_SYSTEM_NAME = PLANETOGRAPHIC
  COORDINATE_SYSTEM_TYPE = "BODY-FIXED ROTATING"
  EASTERNMOST_LONGITUDE = 132.414
  FIRST_STANDARD_PARALLEL = "N/A"
  LINE_FIRST_PIXEL = 1
  LINE_LAST_PIXEL = 23714
  LINE_PROJECTION_OFFSET = -37464.125
  MAP_PROJECTION_ROTATION = 0.0
  MAP_PROJECTION_TYPE = SINUSOIDAL
  MAP_RESOLUTION = 1185.42760773333
  MAP_SCALE = 0.05
  MAXIMUM_LATITUDE = -31.594
  MINIMUM_LATITUDE = -51.5505
  POSITIVE_LONGITUDE_DIRECTION = EAST
  REFERENCE_LATITUDE = "N/A"
  REFERENCE_LONGITUDE = "N/A"
  SAMPLE_FIRST_PIXEL = 1
  SAMPLE_LAST_PIXEL = 1936
  SAMPLE_PROJECTION_OFFSET = 1526.375
  SECOND_STANDARD_PARALLEL = "N/A"
  WESTERNMOST_LONGITUDE = 129.96
END_OBJECT = IMAGE_MAP_PROJECTION
END
