PDS_VERSION_ID = PDS3
/* FILE DATA ELEMENTS */
RECORD_TYPE = UNDEFINED
/* POINTERS TO DATA OBJECTS */
^IMAGE = ("H4292_0001_P14.TIF")
/* IDENTIFICATION DATA ELEMENTS */
DATA_SET_ID = "MEX-M-HRSC-4-REFDR-MAPPROJECT-EXT1-V4.0"
DATA_SET_NAME = "MARS EXPRESS HRSC MAP PROJECTED REFDR EXTENSION1 V4.0"
DETECTOR_ID = MEX_HRSC_P1
EVENT_TYPE = "MARS-REGIONAL-MAPPING-Vo-Te-Fl"
INSTRUMENT_HOST_ID = MEX
INSTRUMENT_HOST_NAME = "MARS EXPRESS"
INSTRUMENT_ID = HRSC
INSTRUMENT_NAME = "HIGH RESOLUTION STEREO CAMERA"
MISSION_NAME = "MARS EXPRESS"
MISSION_PHASE_NAME = ME_Phase_7
PROCESSING_LEVEL_ID = 4
PRODUCT_CREATION_TIME = 2023-02-10T03:49:22.000Z
PRODUCT_ID = "H4292_0001_P14.TIF"
RELEASE_ID = 0006
REVISION_ID = 0000
/* QUALITY DATA ELEMENTS */
DATA_QUALITY_ID = 1
DATA_QUALITY_DESC = "Data calculated based on original SPICE kernels"
/* TIME DATA ELEMENTS */
SPACECRAFT_CLOCK_START_COUNT = "1/0126791756.08247"
SPACECRAFT_CLOCK_STOP_COUNT = "1/0126791940.50029"
START_TIME = 2007-05-09T11:56:43.399Z
STOP_TIME = 2007-05-09T11:58:47.543Z
/* ORBITAL DATA ELEMENTS */
ASCENDING_NODE_LONGITUDE = 138.41
MAXIMUM_RESOLUTION = 0.0243
FOOTPRINT_POINT_LATITUDE = (-33.9428,-33.9384,-33.9347,-33.9285, -33.9244,-33.9174,-33.9171,-33.9288, -33.773,-33.6173,-33.3837,-33.1503, -32.9167,-32.606,-32.3732,-32.0631, -31.8306,-31.4427,-31.1328,-30.823, -30.5866,-30.4265,-30.266,-30.1056, -29.944,-29.7019,-29.5428,-29.3656, -29.1272,-28.8898,-28.731,-28.5724, -28.3347,-28.1761,-28.0184,-27.7751, -27.6113,-27.3657,-27.1201,-26.9566, -26.7933,-26.6305,-26.4675,-26.3039, -26.141,-25.9782,-25.8968,-25.8786, -25.882,-25.8864,-25.8896,-25.8922, -25.8951,-25.8953,-25.8957,-26.0586, -26.2216,-26.3847,-26.5478,-26.7929, -26.9566,-27.1203,-27.2845,-27.4476, -27.6112,-27.7753,-28.0193,-28.178, -28.416,-28.5748,-28.734,-28.9726, -29.1342,-29.3745,-29.5533,-29.7129, -29.8724,-30.0322,-30.1919,-30.432, -30.5925,-30.7515,-31.0611,-31.449, -31.6816,-31.992,-32.1473,-32.3027, -32.4582,-32.6136,-32.769,-32.9246, -33.0802,-33.2359,-33.3917,-33.5478, -33.7041,-33.8601,-33.9381,-33.9428)
FOOTPRINT_POINT_LONGITUDE = (296.051,295.81,295.618,295.319,295.129 ,294.833,294.821,294.813,294.816,294.82 ,294.825,294.83,294.835,294.841,294.845 ,294.851,294.855,294.861,294.866, 294.871,294.874,294.877,294.879,294.881 ,294.884,294.887,294.889,294.89,294.893 ,294.894,294.896,294.897,294.899,294.9, 294.901,294.903,294.904,294.905,294.906 ,294.907,294.908,294.908,294.909, 294.909,294.91,294.91,294.91,294.911, 295.128,295.431,295.687,295.908,296.153 ,296.166,296.17,296.168,296.166,296.164 ,296.162,296.159,296.157,296.155, 296.153,296.15,296.148,296.146,296.143, 296.141,296.137,296.135,296.133,296.13, 296.129,296.127,296.124,296.122,296.12, 296.118,296.115,296.112,296.11,296.107, 296.103,296.098,296.095,296.09,296.088, 296.086,296.084,296.081,296.079,296.076 ,296.074,296.071,296.069,296.067, 296.064,296.062,296.061,296.051)
ORBIT_NUMBER = 4292
ORBITAL_ECCENTRICITY = 0.571
ORBITAL_INCLINATION = 86.68
ORBITAL_SEMIMAJOR_AXIS = 8589.56
PERIAPSIS_ALTITUDE = 294.36
PERIAPSIS_ARGUMENT_ANGLE = 322.07
PERIAPSIS_TIME = 2007-05-09T11:55:28.000Z
SPACECRAFT_ORIENTATION = (0.0,1.0,0.0)
^MEX_ORIENTATION_DESC = "MEX_ORIENTATION_DESC.TXT"
SPACECRAFT_POINTING_MODE = ACROSSTRACK
^MEX_POINTING_DESC = "MEX_POINTING_DESC.TXT"
RIGHT_ASCENSION = -1e+32
DECLINATION = -1e+32
OFFSET_ANGLE = -0.2
SPACECRAFT_SOLAR_DISTANCE = 2.07393e+08
TARGET_NAME = MARS
/* CAMERA DATA ELEMENTS */
DETECTOR_TEMPERATURE = 19.1861
FOCAL_PLANE_TEMPERATURE = 9.6028
INST_CMPRS_NAME = "DISCRETE COSINE TRANSFORMATION (DCT)"
INST_CMPRS_RATIO = 10.4402
INST_CMPRS_QUALITY = 0
INST_CMPRS_QUANTZ_TBL_ID = 0
INSTRUMENT_TEMPERATURE = 14.9042
LENS_TEMPERATURE = 10.2145
MACROPIXEL_SIZE = 2
PIXEL_SUBSAMPLING_FLAG = N
SIGNAL_CHAIN_ID = 3
/* RADIOMETRIC DATA ELEMENTS */
BANDWIDTH = 174.0
CENTER_FILTER_WAVELENGTH = 675.0
RADIANCE_OFFSET = 4.84215
RADIANCE_SCALING_FACTOR = 0.0124882
REFLECTANCE_SCALING_FACTOR = 0.000288917
MEX:REFLECTANCE_OFFSET = 0.112025
/* IMAGE OBJECT DEFINITIONS */
OBJECT = IMAGE
  INTERCHANGE_FORMAT = BINARY
  LINES = 19849
  LINE_SAMPLES = 2841
  SAMPLE_TYPE = UNSIGNED_INTEGER
  SAMPLE_BITS = 8
  BANDS = 1
  BAND_STORAGE_TYPE = BAND_SEQUENTIAL
  MAXIMUM = 255
  MEAN = 107.808
  MINIMUM = 1
  STANDARD_DEVIATION = 24.3347
END_OBJECT = IMAGE
/* MAP OBJECT DEFINITIONS */
OBJECT = IMAGE_MAP_PROJECTION
  ^DATA_SET_MAP_PROJECTION_CATALOG= "DSMAP.CAT"
  A_AXIS_RADIUS = 3396.0
  B_AXIS_RADIUS = 3396.0
  C_AXIS_RADIUS = 3396.0
  CENTER_LATITUDE = 0.0
  CENTER_LONGITUDE = 295.0
  COORDINATE_SYSTEM_NAME = PLANETOGRAPHIC
  COORDINATE_SYSTEM_TYPE = "BODY-FIXED ROTATING"
  EASTERNMOST_LONGITUDE = 296.17
  FIRST_STANDARD_PARALLEL = "N/A"
  LINE_FIRST_PIXEL = 1
  LINE_LAST_PIXEL = 19849
  LINE_PROJECTION_OFFSET = -60650.25
  MAP_PROJECTION_ROTATION = 0.0
  MAP_PROJECTION_TYPE = SINUSOIDAL
  MAP_RESOLUTION = 2370.85521546667
  MAP_SCALE = 0.025
  MAXIMUM_LATITUDE = -25.8786
  MINIMUM_LATITUDE = -33.9428
  POSITIVE_LONGITUDE_DIRECTION = EAST
  REFERENCE_LATITUDE = "N/A"
  REFERENCE_LONGITUDE = "N/A"
  SAMPLE_FIRST_PIXEL = 1
  SAMPLE_LAST_PIXEL = 2841
  SAMPLE_PROJECTION_OFFSET = 362.75
  SECOND_STANDARD_PARALLEL = "N/A"
  WESTERNMOST_LONGITUDE = 294.813
END_OBJECT = IMAGE_MAP_PROJECTION
END
